BEGIN:VCALENDAR
VERSION:2.0
PRODID:-//Accademia Olistica Albero della Vita - ECPv6.15.19//NONSGML v1.0//EN
CALSCALE:GREGORIAN
METHOD:PUBLISH
X-ORIGINAL-URL:https://accademiaolisticalberodellavita.it
X-WR-CALDESC:Eventi per Accademia Olistica Albero della Vita
REFRESH-INTERVAL;VALUE=DURATION:PT1H
X-Robots-Tag:noindex
X-PUBLISHED-TTL:PT1H
BEGIN:VTIMEZONE
TZID:UTC
BEGIN:STANDARD
TZOFFSETFROM:+0000
TZOFFSETTO:+0000
TZNAME:UTC
DTSTART:20240101T000000
END:STANDARD
END:VTIMEZONE
BEGIN:VEVENT
DTSTART;TZID=UTC:20250215T100000
DTEND;TZID=UTC:20250216T190000
DTSTAMP:20260421T000137
CREATED:20241226T174336Z
LAST-MODIFIED:20241226T174336Z
UID:7517-1739613600-1739732400@accademiaolisticalberodellavita.it
SUMMARY:TECNICA METAMORFICA – CORSO APPROFONDIMENTO
DESCRIPTION:IL CORSO SI SVOLGE IN VIA F. BETTI\, 6 – IDICE – SAN LAZZARO DI SAVENA (BO) \ndocente: Sonja Demuru \nContributo richiesto per il corso in aula € 189 comprensivi di dispensa di studio rilegata\, registrazione \ndell’intero corso e attestato di frequenza cartaceo \nProgramma del corso teorico-pratico \nIn questo modulo occorre avere un diapason a punta arrotondata a 128 HZ \n-Relazione fra squilibri fisici e i piani mentale ed emotivo. \n-Integrazione di Essenze Floreali e Oli Essenziali per riarmonizzare vari disequilibri del piede.-Impacchi con i Fiori di Bach nei punti riflessi della colonna vertebrale. \n-Trattamenti con il Diapason a 128 HZ: \n-Riflesso della Colonna vertebrale nelle mani e nei piedi \n-Protocollo Colonna vertebrale \n-Protocollo articolazioni \n-Massaggio finale con le miscele “Principio del Padre” e “Principio della Madre”.
URL:https://accademiaolisticalberodellavita.it/event/tecnica-metamorfica-corso-approfondimento/
END:VEVENT
END:VCALENDAR