BEGIN:VCALENDAR
VERSION:2.0
PRODID:-//Accademia Olistica Albero della Vita - ECPv6.15.19//NONSGML v1.0//EN
CALSCALE:GREGORIAN
METHOD:PUBLISH
X-ORIGINAL-URL:https://accademiaolisticalberodellavita.it
X-WR-CALDESC:Eventi per Accademia Olistica Albero della Vita
REFRESH-INTERVAL;VALUE=DURATION:PT1H
X-Robots-Tag:noindex
X-PUBLISHED-TTL:PT1H
BEGIN:VTIMEZONE
TZID:UTC
BEGIN:STANDARD
TZOFFSETFROM:+0000
TZOFFSETTO:+0000
TZNAME:UTC
DTSTART:20240101T000000
END:STANDARD
END:VTIMEZONE
BEGIN:VEVENT
DTSTART;TZID=UTC:20250223T100000
DTEND;TZID=UTC:20250223T190000
DTSTAMP:20260421T000138
CREATED:20241226T174459Z
LAST-MODIFIED:20241227T122606Z
UID:7519-1740304800-1740337200@accademiaolisticalberodellavita.it
SUMMARY:VOICE & VIBE AEQUILIBRIUM – 1° livello
DESCRIPTION:IL CORSO SI SVOLGE IN DIRETTA ONLINE SU PIATTAFORMA ZOOM \ndocente: Barbara Magnoni \nContributo richiesto per il corso in diretta online su piattaforma ZOOM € 95\, comprensivi di dispensa di \nstudio\, registrazione dell’intero corso e attestato di frequenza inviati online \nProgramma del corso teorico-esperienziale \n-Tutto è vibrazione: il suono \n-Gli effetti del suono sul corpo umano e sul suo campo energetico \n-Le frequenze cerebrali e gli effetti del suono sul cervello \n-Sperimentiamo le vibrazioni dello strumento ancestrale più antico del mondo: la nostra voce! \n-Meditazione di consapevolezza sul respiro \n-Esercizi di respirazione per un canto fluido e rilassato \n-Humming: cos’è e perché praticarlo \n-Gli effetti della vibrazione nel nostro corpo: esercizi di auto ascolto \n-Esercizi di gruppo per sperimentare l’importanza dell’intento \n-Meditazione: cantare la sacra sillaba Om \n-Il mantra “Om Mani Padme Hum” \n-Sciogliere i blocchi emotivi con la dinamica e il glissato: esercizio \n-Esercizio di Canto Carnatico \n-Breve bagno di suoni \n-Meditazione corporea per sciogliere corpo e pensieri giudicanti a tempo di musica \n-Instaurare un rapporto sano con la propria voce attraverso il vocal toning \n-Utilizzare il vocal toning come strumento di scanning: esercizi \n-Cenni di intuitive singing e lullaby singing: due tecniche semplici per ritrovare benessere
URL:https://accademiaolisticalberodellavita.it/event/voice-vibe-aequilibrium-1-livello/
END:VEVENT
BEGIN:VEVENT
DTSTART;TZID=UTC:20250223T100000
DTEND;TZID=UTC:20250223T190000
DTSTAMP:20260421T000138
CREATED:20241226T180436Z
LAST-MODIFIED:20241226T180436Z
UID:7533-1740304800-1740337200@accademiaolisticalberodellavita.it
SUMMARY:VOICE & VIBE AEQUILIBRIUM – 1° livello
DESCRIPTION:IL CORSO SI SVOLGE IN DIRETTA ONLINE SU PIATTAFORMA ZOOM \ndocente: Barbara Magnoni \nContributo richiesto per il corso in diretta online su piattaforma ZOOM € 95\, comprensivi di dispensa di \nstudio\, registrazione dell’intero corso e attestato di frequenza inviati online \nProgramma del corso teorico-esperienziale \n-Tutto è vibrazione: il suono \n-Gli effetti del suono sul corpo umano e sul suo campo energetico \n-Le frequenze cerebrali e gli effetti del suono sul cervello \n-Sperimentiamo le vibrazioni dello strumento ancestrale più antico del mondo: la nostra voce! \n-Meditazione di consapevolezza sul respiro \n-Esercizi di respirazione per un canto fluido e rilassato \n-Humming: cos’è e perché praticarlo \n-Gli effetti della vibrazione nel nostro corpo: esercizi di auto ascolto \n-Esercizi di gruppo per sperimentare l’importanza dell’intento \n-Meditazione: cantare la sacra sillaba Om \n-Il mantra “Om Mani Padme Hum” \n-Sciogliere i blocchi emotivi con la dinamica e il glissato: esercizio \n-Esercizio di Canto Carnatico \n-Breve bagno di suoni \n-Meditazione corporea per sciogliere corpo e pensieri giudicanti a tempo di musica \n-Instaurare un rapporto sano con la propria voce attraverso il vocal toning \n-Utilizzare il vocal toning come strumento di scanning: esercizi \n-Cenni di intuitive singing e lullaby singing: due tecniche semplici per ritrovare benessere
URL:https://accademiaolisticalberodellavita.it/event/voice-vibe-aequilibrium-1-livello-2/
END:VEVENT
END:VCALENDAR