BEGIN:VCALENDAR
VERSION:2.0
PRODID:-//Accademia Olistica Albero della Vita - ECPv6.15.19//NONSGML v1.0//EN
CALSCALE:GREGORIAN
METHOD:PUBLISH
X-ORIGINAL-URL:https://accademiaolisticalberodellavita.it
X-WR-CALDESC:Eventi per Accademia Olistica Albero della Vita
REFRESH-INTERVAL;VALUE=DURATION:PT1H
X-Robots-Tag:noindex
X-PUBLISHED-TTL:PT1H
BEGIN:VTIMEZONE
TZID:UTC
BEGIN:STANDARD
TZOFFSETFROM:+0000
TZOFFSETTO:+0000
TZNAME:UTC
DTSTART:20240101T000000
END:STANDARD
END:VTIMEZONE
BEGIN:VEVENT
DTSTART;TZID=UTC:20250301T110000
DTEND;TZID=UTC:20250301T190000
DTSTAMP:20260420T223128
CREATED:20250221T203840Z
LAST-MODIFIED:20250221T203840Z
UID:7778-1740826800-1740855600@accademiaolisticalberodellavita.it
SUMMARY:Tirocinio Metodo Light & Solve™
DESCRIPTION:(aperto unicamente a chi ha frequentato il percorso di formazione) \nVIA F. Betti\, 6 loc. Idice – S. Lazzaro di Savena (BO) \nContributo richiesto € 18 (per le spese vive)
URL:https://accademiaolisticalberodellavita.it/event/tirocinio-metodo-light-solve/
ATTACH;FMTTYPE=image/jpeg:https://accademiaolisticalberodellavita.it/wp-content/uploads/2025/02/light-1-e1742628574332.jpeg
END:VEVENT
BEGIN:VEVENT
DTSTART;TZID=UTC:20250301T110000
DTEND;TZID=UTC:20250301T190000
DTSTAMP:20260420T223128
CREATED:20250226T130916Z
LAST-MODIFIED:20250226T130916Z
UID:7795-1740826800-1740855600@accademiaolisticalberodellavita.it
SUMMARY:Tirocinio Metodo Light & Solve™ (aperto solo agli allievi che hanno fatto il  percorso di formazione)
DESCRIPTION:DALLE 11 ALLE 18\,30 (con pausa pranzo) \ndocente: Maria Cristina Sapori \nVIA F. Betti\, 6 loc. Idice – S. Lazzaro di Savena
URL:https://accademiaolisticalberodellavita.it/event/tirocinio-metodo-light-solve-aperto-solo-agli-allievi-che-hanno-fatto-il-percorso-di-formazione/
END:VEVENT
END:VCALENDAR