BEGIN:VCALENDAR
VERSION:2.0
PRODID:-//Accademia Olistica Albero della Vita - ECPv6.15.19//NONSGML v1.0//EN
CALSCALE:GREGORIAN
METHOD:PUBLISH
X-ORIGINAL-URL:https://accademiaolisticalberodellavita.it
X-WR-CALDESC:Eventi per Accademia Olistica Albero della Vita
REFRESH-INTERVAL;VALUE=DURATION:PT1H
X-Robots-Tag:noindex
X-PUBLISHED-TTL:PT1H
BEGIN:VTIMEZONE
TZID:UTC
BEGIN:STANDARD
TZOFFSETFROM:+0000
TZOFFSETTO:+0000
TZNAME:UTC
DTSTART:20240101T000000
END:STANDARD
END:VTIMEZONE
BEGIN:VEVENT
DTSTART;TZID=UTC:20250306T203000
DTEND;TZID=UTC:20250306T220000
DTSTAMP:20260420T223129
CREATED:20250226T131053Z
LAST-MODIFIED:20250226T131053Z
UID:7797-1741293000-1741298400@accademiaolisticalberodellavita.it
SUMMARY:INCONTRO GRATUITO APERTO A TUTTI: RIMEDI E ALIMENTI  PER LA DETOSSINAZIONE DEL NOSTRO CORPO E PREVENIRE LA STANCHEZZA  PRIMAVERILE
DESCRIPTION:docente: Maria Cristina Sapori \ndalle 20\,30 alle 21\,45 su PIATTAFORMA ZOOM \ndocente: Maria Cristina Sapori \ndalle 20\,30 alle 21\,45 su PIATTAFORMA ZOOM
URL:https://accademiaolisticalberodellavita.it/event/incontro-gratuito-aperto-a-tutti-rimedi-e-alimenti-per-la-detossinazione-del-nostro-corpo-e-prevenire-la-stanchezza-primaverile/
END:VEVENT
END:VCALENDAR