BEGIN:VCALENDAR
VERSION:2.0
PRODID:-//Accademia Olistica Albero della Vita - ECPv6.15.19//NONSGML v1.0//EN
CALSCALE:GREGORIAN
METHOD:PUBLISH
X-ORIGINAL-URL:https://accademiaolisticalberodellavita.it
X-WR-CALDESC:Eventi per Accademia Olistica Albero della Vita
REFRESH-INTERVAL;VALUE=DURATION:PT1H
X-Robots-Tag:noindex
X-PUBLISHED-TTL:PT1H
BEGIN:VTIMEZONE
TZID:UTC
BEGIN:STANDARD
TZOFFSETFROM:+0000
TZOFFSETTO:+0000
TZNAME:UTC
DTSTART:20240101T000000
END:STANDARD
END:VTIMEZONE
BEGIN:VEVENT
DTSTART;TZID=UTC:20250308T100000
DTEND;TZID=UTC:20250309T190000
DTSTAMP:20260420T223129
CREATED:20241226T174959Z
LAST-MODIFIED:20250205T221827Z
UID:7524-1741428000-1741546800@accademiaolisticalberodellavita.it
SUMMARY:NUMEROLOGIA EVOLUTIVA INTEGRATA – CORSO BASE
DESCRIPTION:docente: Annamaria Strippoli \nIL CORSO DI SVOLGE IN DIRETTA ONLINE SU PIATTAFORMA ZOOM \nContributo richiesto € 168\, comprensivi di dispensa di studio\, attestato di frequenza e registrazione \ndell’intero corso inviati online \nProgramma teorico-esperienziale \n-Numerologia Evolutiva IntegrataTM: scopri chi sei attraverso lo studio dei tuoi numeri di nascita: nome e \ncognome (numeri collegati alle lettere)\, data\, città di nascita\, numeri ricorrenti nella tua vita. Ognuno di \nnoi corrisponde a un numero che contiene i segreti della sua personalità e rivela qual è il suo Progetto di \nvita \n-Significati e Archetipi dei Numeri da 1 a 9 e collegamenti con gli Arcani Maggiori dei Tarocchi Evolutivi-Come ricavare il Numero del Destino\, il Numero dell’Espressione\, il Numero della Mission \n-Studio delle vocali e consonanti che compongono il proprio nome e cognome per trovare il Numero della \nPersonalità e quello dell’Interiorità \n-Come ricavare la propria Carta di Numerologia Evolutiva Integrata: simbologia esoterica dei Numeri e \nvalore delle lettere per comprendere predisposizioni\, attitudini e talenti. \n-Comparazione delle analisi numerologiche: affinità di coppia\, rapporti d’amicizia\, relazioni in ambito \nlavorativo \n-Numeri Karmici: quali sono e che significato hanno nella nostra vita -Numeri Ombra: come si trovano e \ncosa ci mostrano \n-Cenni sui Numeri doppi\, tripli e quadrupli: significato e simbologia -Cenni sul significato e la simbologia \ndi Numeri Doppi\, Tripli\, Quadrupli -Domande e valutazione di casi personali
URL:https://accademiaolisticalberodellavita.it/event/numerologia-evolutiva-integrata-corso-base/
END:VEVENT
END:VCALENDAR