BEGIN:VCALENDAR
VERSION:2.0
PRODID:-//Accademia Olistica Albero della Vita - ECPv6.15.19//NONSGML v1.0//EN
CALSCALE:GREGORIAN
METHOD:PUBLISH
X-ORIGINAL-URL:https://accademiaolisticalberodellavita.it
X-WR-CALDESC:Eventi per Accademia Olistica Albero della Vita
REFRESH-INTERVAL;VALUE=DURATION:PT1H
X-Robots-Tag:noindex
X-PUBLISHED-TTL:PT1H
BEGIN:VTIMEZONE
TZID:UTC
BEGIN:STANDARD
TZOFFSETFROM:+0000
TZOFFSETTO:+0000
TZNAME:UTC
DTSTART:20240101T000000
END:STANDARD
END:VTIMEZONE
BEGIN:VEVENT
DTSTART;TZID=UTC:20250322T100000
DTEND;TZID=UTC:20250323T190000
DTSTAMP:20260420T223128
CREATED:20241226T175520Z
LAST-MODIFIED:20241226T175520Z
UID:7529-1742637600-1742756400@accademiaolisticalberodellavita.it
SUMMARY: TAROLOGIA EVOLUTIVA – 3° livello
DESCRIPTION:IL CORSO SI SVOLGE IN DIRETTA ONLINE SU PIATTAFORMA ZOOM \ndocente: Annalisa Ronchi \nContributo richiesto per il corso in diretta online su piattaforma ZOOM € 168\, comprensivi di dispensa di \nstudio\, registrazione dell’intero corso e attestato di frequenza inviati online \nProgramma del corso teorico-pratico \n-I 56 Arcani Minori \n-Mondo terrestre \n-10 carte numerali + 4 Onori = 14 per ogni seme \n-Fila terrestre Arcani Maggiori Arcani Minori (2 volte il mondo terrestre) \n-Il gioco del mondo (per vedere se la personalità è in equilibrio) \n-I 5 elementi/4 piani \n-Gli onori \n-Gli Assi \n-I Numerali \n-Densità e polarità \n-A cosa serve il numero (compiti)
URL:https://accademiaolisticalberodellavita.it/event/tarologia-evolutiva-3-livello-2/
END:VEVENT
END:VCALENDAR