BEGIN:VCALENDAR
VERSION:2.0
PRODID:-//Accademia Olistica Albero della Vita - ECPv6.15.19//NONSGML v1.0//EN
CALSCALE:GREGORIAN
METHOD:PUBLISH
X-WR-CALNAME:Accademia Olistica Albero della Vita
X-ORIGINAL-URL:https://accademiaolisticalberodellavita.it
X-WR-CALDESC:Eventi per Accademia Olistica Albero della Vita
REFRESH-INTERVAL;VALUE=DURATION:PT1H
X-Robots-Tag:noindex
X-PUBLISHED-TTL:PT1H
BEGIN:VTIMEZONE
TZID:UTC
BEGIN:STANDARD
TZOFFSETFROM:+0000
TZOFFSETTO:+0000
TZNAME:UTC
DTSTART:20240101T000000
END:STANDARD
END:VTIMEZONE
BEGIN:VEVENT
DTSTART;TZID=UTC:20250504T100000
DTEND;TZID=UTC:20250504T190000
DTSTAMP:20260420T150003
CREATED:20250221T195924Z
LAST-MODIFIED:20250221T195924Z
UID:7741-1746352800-1746385200@accademiaolisticalberodellavita.it
SUMMARY:ORIENTAMENTO PROFESSIONALE PER OPERATORI OLISTICI
DESCRIPTION:IL CORSO SI SVOLGE IN DIRETTA ONLINE SU PIATTAFORMA ZOOM docente: Maria Cristina Sapori \nContributo richiesto per il corso in diretta online su piattaforma ZOOM € 95\, comprensivi di dispensa di studio\, registrazione dell’intero corso e attestato di frequenza inviati online \nProgramma del corso – SIAF Italia (scopi statutari)– T.U.R.I.S. (Testo Unico dei regolamenti Interni SIAF Italia)– Vantaggi dell’essere socio SIAF Italia– Attestazione rilasciata da SIAF Italia– Differenza tra registri\, ordini e albi professionali– Legge n. 4/2013– Certificazioni dei professionisti ai sensi della norma 17024 – Ruolo e funzioni dell’UNI– Ruolo e funzioni di ACCREDIA (Ente Nazionale di Accreditamento) e degli organismi di certificazione– Differenza tra formazione formale\, non formale ed informale– Le cinque aree di competenza per lo svolgimento della professione– Codice deontologico SIAF Italia (principi etici\, privacy\, segreto professionale\, rapporto con i colleghi\, ecc.)– ECP (Educazione Continua Professionale)\, modalità̀ di rilascio dei crediti formativi per mantenere l’attestato di iscrizione– Modalità̀ di inserimento di un’attività formativa nel catalogo corsi di SIAF Italia che rilasciano ECP– Informativa sulla privacycontent/uploads/2018/03/INFORMATIVA-PRIVACY-.pdf– Sportello del consumatore e numero verde riservato ai clienti dei professionisti SIAF Italia – Regolamento disciplinare SIAF Italia (richiami e sanzioni disciplinari\, sospensione cautelativa\, radiazione\, ecc.)– Ruolo in SIAF Italia del collegio nazionale dei probiviri e del CIS (Comitato di Indirizzo e Sorveglianza)– Principali convenzioni che SIAF Italia ha stipulato con enti pubblici e privati– Contratto assicurativo soci SIAF Italia (assicurazione base e integrativa)– Utilizzo del logo SIAF Italia– Breve spiegazione del sito SIAF Italia\, dei servizi offerti (registrazione online\, newsletter\,password d’accesso\, servizio clienti\, file disponibili online\, ecc.) e dei social network
URL:https://accademiaolisticalberodellavita.it/event/orientamento-professionale-per-operatori-olistici-3/
ATTACH;FMTTYPE=image/png:https://accademiaolisticalberodellavita.it/wp-content/uploads/2023/08/codice.png
END:VEVENT
END:VCALENDAR