BEGIN:VCALENDAR
VERSION:2.0
PRODID:-//Accademia Olistica Albero della Vita - ECPv6.15.19//NONSGML v1.0//EN
CALSCALE:GREGORIAN
METHOD:PUBLISH
X-ORIGINAL-URL:https://accademiaolisticalberodellavita.it
X-WR-CALDESC:Eventi per Accademia Olistica Albero della Vita
REFRESH-INTERVAL;VALUE=DURATION:PT1H
X-Robots-Tag:noindex
X-PUBLISHED-TTL:PT1H
BEGIN:VTIMEZONE
TZID:UTC
BEGIN:STANDARD
TZOFFSETFROM:+0000
TZOFFSETTO:+0000
TZNAME:UTC
DTSTART:20240101T000000
END:STANDARD
END:VTIMEZONE
BEGIN:VEVENT
DTSTART;TZID=UTC:20250510T090000
DTEND;TZID=UTC:20250510T190000
DTSTAMP:20260420T150101
CREATED:20250221T204300Z
LAST-MODIFIED:20250221T204300Z
UID:7784-1746867600-1746903600@accademiaolisticalberodellavita.it
SUMMARY:Tirocinio  discipline olistiche
DESCRIPTION:(aperto a tutti coloro che hanno frequentato i corsi di formazione anche negli anni precedenti) \nVia Palazzetti\, 22/m loc. Cicogna – S. Lazzaro di Savena (BO) \nMattina:       dalle 9 alle 11\,30 tirocinio: Riflessologia Plantare Olistica \n                     Integrata     \n                     dalle 11\,45 alle 13\,30: tirocinio Floral Massage™  \nPomeriggio: dalle 14\,30 alle 16\,15: tirocinio Chakra Rebalancing  \n                     dalle 16\,30 alle 19: tirocinio e scambio Reiki 1° livello \nContributo richiesto € 18 (per le spese vive)
URL:https://accademiaolisticalberodellavita.it/event/tirocinio-discipline-olistiche/
ATTACH;FMTTYPE=image/jpeg:https://accademiaolisticalberodellavita.it/wp-content/uploads/2023/02/let-e1716415291788.jpg
END:VEVENT
BEGIN:VEVENT
DTSTART;TZID=UTC:20250510T090000
DTEND;TZID=UTC:20250510T190000
DTSTAMP:20260420T150101
CREATED:20250226T201606Z
LAST-MODIFIED:20250226T201606Z
UID:7817-1746867600-1746903600@accademiaolisticalberodellavita.it
SUMMARY:Tirocinio di diverse tecniche olistiche (aperto a tutti gli allievi che hanno  frequentato i corsi e anche a chi vuole sperimentare i trattamenti proposti\,  solo con prenotazione tramite messaggio whatsapp)
DESCRIPTION: DALLE 9 ALLE 19 (con pausa pranzo) \ndocenti: Maria Cristina Sapori e Sonja Demuru \nVia Palazzetti\, 22/m loc. Cicogna – S. Lazzaro di Savena (BO) \nMattina: dalle 9 alle 11\,30 tirocinio: Riflessologia Plantare Olistica \nIntegrata \ndalle 11\,45 alle 13\,30: tirocinio Floral Massage™ \nPomeriggio: dalle 14\,30 alle 16\,15: tirocinio Chakra Rebalancing \ndalle 16\,30 alle 19: tirocinio e scambio Reiki 1° livello \nContributo richiesto € 18 (per le spese vive)
URL:https://accademiaolisticalberodellavita.it/event/tirocinio-di-diverse-tecniche-olistiche-aperto-a-tutti-gli-allievi-che-hanno-frequentato-i-corsi-e-anche-a-chi-vuole-sperimentare-i-trattamenti-proposti-solo-con-prenotazione-tramite-messaggio-wha/
END:VEVENT
END:VCALENDAR