BEGIN:VCALENDAR
VERSION:2.0
PRODID:-//Accademia Olistica Albero della Vita - ECPv6.15.19//NONSGML v1.0//EN
CALSCALE:GREGORIAN
METHOD:PUBLISH
X-WR-CALNAME:Accademia Olistica Albero della Vita
X-ORIGINAL-URL:https://accademiaolisticalberodellavita.it
X-WR-CALDESC:Eventi per Accademia Olistica Albero della Vita
REFRESH-INTERVAL;VALUE=DURATION:PT1H
X-Robots-Tag:noindex
X-PUBLISHED-TTL:PT1H
BEGIN:VTIMEZONE
TZID:UTC
BEGIN:STANDARD
TZOFFSETFROM:+0000
TZOFFSETTO:+0000
TZNAME:UTC
DTSTART:20240101T000000
END:STANDARD
END:VTIMEZONE
BEGIN:VEVENT
DTSTART;TZID=UTC:20250511T100000
DTEND;TZID=UTC:20250511T130000
DTSTAMP:20260420T150044
CREATED:20250221T200418Z
LAST-MODIFIED:20250221T200418Z
UID:7743-1746957600-1746968400@accademiaolisticalberodellavita.it
SUMMARY:ESAME FINALE PER IL TITOLO DI OPERATORE OLISTICO A INDIRIZZO VIBRAZIONALE INTEGRAT
DESCRIPTION:L’ESAME SI SVOLGE IN VIA F. BETTI\, 6 S. LAZZARO DI SAVENA (BO) \nContributo per la sessione d’esame e la supervisione per la stesura dell’elaborato finale € 95
URL:https://accademiaolisticalberodellavita.it/event/esame-finale-per-il-titolo-di-operatore-olistico-a-indirizzo-vibrazionale-integrat/
END:VEVENT
END:VCALENDAR