BEGIN:VCALENDAR
VERSION:2.0
PRODID:-//Accademia Olistica Albero della Vita - ECPv6.15.19//NONSGML v1.0//EN
CALSCALE:GREGORIAN
METHOD:PUBLISH
X-WR-CALNAME:Accademia Olistica Albero della Vita
X-ORIGINAL-URL:https://accademiaolisticalberodellavita.it
X-WR-CALDESC:Eventi per Accademia Olistica Albero della Vita
REFRESH-INTERVAL;VALUE=DURATION:PT1H
X-Robots-Tag:noindex
X-PUBLISHED-TTL:PT1H
BEGIN:VTIMEZONE
TZID:UTC
BEGIN:STANDARD
TZOFFSETFROM:+0000
TZOFFSETTO:+0000
TZNAME:UTC
DTSTART:20240101T000000
END:STANDARD
END:VTIMEZONE
BEGIN:VEVENT
DTSTART;TZID=UTC:20250517T100000
DTEND;TZID=UTC:20250518T190000
DTSTAMP:20260420T150045
CREATED:20250221T200630Z
LAST-MODIFIED:20250910T210102Z
UID:7746-1747476000-1747594800@accademiaolisticalberodellavita.it
SUMMARY:RIFLESSOLOGIA PLANTARE  CINESE 1° LIVELLO
DESCRIPTION:IL CORSO SI SVOLGE IN VIA F. BETTI\, 6 S. LAZZARO DI SAVENA (BO) \ndocente: Sonja Demuru \nContributo richiesto per il corso in aula € 195 comprensivi di dispensa di studio rilegata\, registrazione \ndell’intero corso e attestato di frequenza cartaceo \n 
URL:https://accademiaolisticalberodellavita.it/event/on-zon-su-riflessologia-plantare-cinese-1-livello/
END:VEVENT
BEGIN:VEVENT
DTSTART;TZID=UTC:20250517T100000
DTEND;TZID=UTC:20250518T190000
DTSTAMP:20260420T150045
CREATED:20250221T200824Z
LAST-MODIFIED:20250221T200824Z
UID:7748-1747476000-1747594800@accademiaolisticalberodellavita.it
SUMMARY: NUMEROLOGIA OLISTICA EVOLUTIVA – 2° modulo
DESCRIPTION:L CORSO SI SVOLGE IN DIRETTA ONLINE SU PIATTAFORMA ZOOM \ndocente: Annamaria Strippoli \nContributo richiesto per il corso in diretta online su piattaforma ZOOM € 168\, comprensivi di \ndispensa distudio\, registrazione dell’intero corso e attestato di frequenza inviati online Programma \ndel corso teorico-esperienziale \n-Come costruire e interpretare il proprio Quadrato di Nascita ricavato dalla propria data di nascita \n-Studio degli Indicatori del Quadrato di Nascita che indicano predisposizioni\, attitudini\, talenti\, zone \nombra \n-Il Numero dei Talenti: come si ricava \n-Comprendere i cambiamenti che avvengono nella vita durante i Cicli dei 9 Anni \n-Suddivisione della vita in 4 fasi evolutive: Anni di Picco (o Anni dove abbiamo un’elevata spinta \npropulsiva che ci permette di raggiungere traguardi o manifestare potenzialità) e Anni di Sfida (o \nAnni dove ricaviamo i maggiori insegnamenti della nostra Vita attraverso lo superamento dei \nmomenti di maggior difficoltà) \n-Domande e risposte con studio di casi particolari
URL:https://accademiaolisticalberodellavita.it/event/numerologia-olistica-evolutiva-2-modulo/
END:VEVENT
BEGIN:VEVENT
DTSTART;TZID=UTC:20250518T100000
DTEND;TZID=UTC:20250518T190000
DTSTAMP:20260420T150045
CREATED:20250221T201005Z
LAST-MODIFIED:20250221T201005Z
UID:7750-1747562400-1747594800@accademiaolisticalberodellavita.it
SUMMARY:FIORI DI BACH\, FIORI CALIFORNIANI E AUSTRALIAN BUSH FLOWER PER I BAMBINI
DESCRIPTION:IL CORSO SI SVOLGE IN DIRETTA ONLINE SU PIATTAFORMA ZOOM docente: Maria Cristina Sapori \nContributo richiesto per il corso in diretta online su piattaforma ZOOM € 95\, comprensivi di dispensa di studio\, registrazione dell’intero corso e attestato di frequenza inviati online Programma del corso \n-Essenze floreali per l’armonizzazione delle varie fasi della vita del bambino e dei suoi genitori \n-Imparare a utilizzare le essenze floreali per sostenere i periodi difficili e i passaggi di crescita del bambino: \n-periodo neonata (disturbi del ritmo del sonno\, agitazione\, ansia da separazione. \n-età prescolare \n-età scolare \n-problematiche legate a eccessiva litigiosità con i fratelli o con i coetanei -pubertà \n-L’importanza dell’utilizzo delle essenze floreali sul binomio mamma-bambino (e papà-bambino) -Domande e risposte con studio di casi particolari
URL:https://accademiaolisticalberodellavita.it/event/fiori-di-bach-fiori-californiani-e-australian-bush-flower-per-i-bambini/
ATTACH;FMTTYPE=image/jpeg:https://accademiaolisticalberodellavita.it/wp-content/uploads/2024/02/fiori-e1759780563379.jpg
END:VEVENT
END:VCALENDAR