BEGIN:VCALENDAR
VERSION:2.0
PRODID:-//Accademia Olistica Albero della Vita - ECPv6.15.19//NONSGML v1.0//EN
CALSCALE:GREGORIAN
METHOD:PUBLISH
X-WR-CALNAME:Accademia Olistica Albero della Vita
X-ORIGINAL-URL:https://accademiaolisticalberodellavita.it
X-WR-CALDESC:Eventi per Accademia Olistica Albero della Vita
REFRESH-INTERVAL;VALUE=DURATION:PT1H
X-Robots-Tag:noindex
X-PUBLISHED-TTL:PT1H
BEGIN:VTIMEZONE
TZID:UTC
BEGIN:STANDARD
TZOFFSETFROM:+0000
TZOFFSETTO:+0000
TZNAME:UTC
DTSTART:20240101T000000
END:STANDARD
END:VTIMEZONE
BEGIN:VEVENT
DTSTART;TZID=UTC:20250522T203000
DTEND;TZID=UTC:20250522T220000
DTSTAMP:20260420T165150
CREATED:20250226T201823Z
LAST-MODIFIED:20250226T201823Z
UID:7821-1747945800-1747951200@accademiaolisticalberodellavita.it
SUMMARY:INCONTRO GRATUITO APERTO A TUTTI: COME CONDURRE  UNA SEDUTA DI FLORIPRATICA CON STUDIO DI CASI PORTATI DAGLI  ALLIEVI
DESCRIPTION:docente: Maria Cristina Sapori \ndalle 20\,30 alle 21\,45 su PIATTAFORMA ZOOM
URL:https://accademiaolisticalberodellavita.it/event/incontro-gratuito-aperto-a-tutti-come-condurre-una-seduta-di-floripratica-con-studio-di-casi-portati-dagli-allievi/
END:VEVENT
END:VCALENDAR