BEGIN:VCALENDAR
VERSION:2.0
PRODID:-//Accademia Olistica Albero della Vita - ECPv6.15.19//NONSGML v1.0//EN
CALSCALE:GREGORIAN
METHOD:PUBLISH
X-WR-CALNAME:Accademia Olistica Albero della Vita
X-ORIGINAL-URL:https://accademiaolisticalberodellavita.it
X-WR-CALDESC:Eventi per Accademia Olistica Albero della Vita
REFRESH-INTERVAL;VALUE=DURATION:PT1H
X-Robots-Tag:noindex
X-PUBLISHED-TTL:PT1H
BEGIN:VTIMEZONE
TZID:UTC
BEGIN:STANDARD
TZOFFSETFROM:+0000
TZOFFSETTO:+0000
TZNAME:UTC
DTSTART:20240101T000000
END:STANDARD
END:VTIMEZONE
BEGIN:VEVENT
DTSTART;TZID=UTC:20250607T100000
DTEND;TZID=UTC:20250608T190000
DTSTAMP:20260420T131705
CREATED:20250221T201850Z
LAST-MODIFIED:20250221T201850Z
UID:7759-1749290400-1749409200@accademiaolisticalberodellavita.it
SUMMARY:USUI REIKI 2° LIVELLO (CHUDEN)
DESCRIPTION:USUI REIKI 2° LIVELLO (CHUDEN) \ni Seminari si tengono soloin presenza e prevedono due giornate di formazione in quanto sono incluse le Tecniche originali di Mikao Usui\, adeguate ad ogni livello. \nIL CORSO SI SVOLGE IN VIA F. BETTI\, 6 – IDICE – SAN LAZZARO DI SAVENA (BO) docente: Sonja Demuru \nContributo richiesto € 189\, comprensivi di dispensa di studio e attestato di frequenza Programma del corso \n-Chuden: il livello della creatività e del “fare” \n-Shirushi (Simboli): disegno\, spiegazione e utilizzo-Autotrattamento di secondo livello -Trattamento agli altri \n-Trattamento a distanza: a se stessi\, agli altri\, alle situazioni presenti e future -Visualizzazione creativa \n-Affermazioni positive per la riprogrammazione di credenze limitanti -Joshin Kokyu Ho\, purificare il cuore con il respiro -Ake Hiroge Kitsui\, purificazione dei Chakra \n-Shu Chu Reiki\, Reiki di gruppo concentrato \n-Shu Chu Reiki (variante)\, Reiki a distanza a persone presenti -Hiroimono Jibutsu\, ritrovare gli oggetti perduti -Shian\, meditazione con Choku Rei \n-Obarodo Mizu\, energizzare l’acqua della vasca da bagno con il Reiki \n-Byosen\, scansione energetica \n-Yakushoku Reiki\, antenna Reiki \n-Sei Heki Chiryo\, tecnica di allontanamento delle cattive abitudini -Reiki Shihiyouken Majikku\, immersione nei simboli Reiki -Scambio Trattamento \n-Cerchio finale e consegna attestato \nDurante il livello Chuden verranno effettuati quattro Reiju (armonizzazioni)
URL:https://accademiaolisticalberodellavita.it/event/usui-reiki-2-livello-chuden/
ATTACH;FMTTYPE=image/tiff:https://accademiaolisticalberodellavita.it/wp-content/uploads/2024/10/REIKI-copia.tiff
END:VEVENT
BEGIN:VEVENT
DTSTART;TZID=UTC:20250608T100000
DTEND;TZID=UTC:20250608T190000
DTSTAMP:20260420T131705
CREATED:20250221T202143Z
LAST-MODIFIED:20250221T202143Z
UID:7761-1749376800-1749409200@accademiaolisticalberodellavita.it
SUMMARY:ESSENZE FLOREALI E RIMEDI NATURALI PER AFFRONTARE I MOMENTI DIFFICILI DELLA VITA
DESCRIPTION:IL CORSO SI SVOLGE IN DIRETTA ONLINE SU PIATTAFORMA ZOOM docente: Maria Cristina Sapori \nContributo richiesto per il corso in diretta online su piattaforma ZOOM € 95\, comprensivi di dispensa di studio\, registrazione dell’intero corso e attestato di frequenza inviati online Programma del corso \n-Miscele composte a base di Essenze Floreali: come armonizzare le nostre energie scoprendo le sinergie fra le varie essenze per riportare equilibrio e armonia in caso di: -abbandono\, perdita -focalizzazione e realizzazione dei propri obiettivi \n-ansia\, paure \n-cali d’umore\, demotivazione\, apatia \n-stanchezza\, stress \n-mancanza di autostima \n-Utilizzo delle Acque di Luce per la preparazione delle miscele \n-Studio di integratori alimentari e oligoelementi per potenziare l’effetto delle essenze floreali nelle problematiche che affrontiamo durante il corso \n-Studio di casi specifici con esempi di composizione di miscele adatte ai casi esposti -Domande e risposte
URL:https://accademiaolisticalberodellavita.it/event/essenze-floreali-e-rimedi-naturali-per-affrontare-i-momenti-difficili-della-vita/
ATTACH;FMTTYPE=image/jpeg:https://accademiaolisticalberodellavita.it/wp-content/uploads/2024/02/CHICORY-e1709595905554.jpg
END:VEVENT
END:VCALENDAR