BEGIN:VCALENDAR
VERSION:2.0
PRODID:-//Accademia Olistica Albero della Vita - ECPv6.15.19//NONSGML v1.0//EN
CALSCALE:GREGORIAN
METHOD:PUBLISH
X-WR-CALNAME:Accademia Olistica Albero della Vita
X-ORIGINAL-URL:https://accademiaolisticalberodellavita.it
X-WR-CALDESC:Eventi per Accademia Olistica Albero della Vita
REFRESH-INTERVAL;VALUE=DURATION:PT1H
X-Robots-Tag:noindex
X-PUBLISHED-TTL:PT1H
BEGIN:VTIMEZONE
TZID:UTC
BEGIN:STANDARD
TZOFFSETFROM:+0000
TZOFFSETTO:+0000
TZNAME:UTC
DTSTART:20240101T000000
END:STANDARD
END:VTIMEZONE
BEGIN:VEVENT
DTSTART;TZID=UTC:20250614T100000
DTEND;TZID=UTC:20250615T190000
DTSTAMP:20260420T131734
CREATED:20250221T202937Z
LAST-MODIFIED:20250910T205928Z
UID:7768-1749895200-1750014000@accademiaolisticalberodellavita.it
SUMMARY:RIFLESSOLOGIA PLANTARE CINESE 2° LIVELLO
DESCRIPTION:L CORSO SI SVOLGE IN VIA F. BETTI\, 6 S. LAZZARO DI SAVENA (BO) \ndocente: Sonja Demuru \nContributo richiesto per il corso in aula € 195 comprensivi di dispensa di studio rilegata\, registrazione \ndell’intero corso e attestato di frequenza cartaceo \n 
URL:https://accademiaolisticalberodellavita.it/event/on-zon-su-riflessologia-plantare-cinese-2-livello/
END:VEVENT
BEGIN:VEVENT
DTSTART;TZID=UTC:20250614T150000
DTEND;TZID=UTC:20250614T190000
DTSTAMP:20260420T131734
CREATED:20250221T202423Z
LAST-MODIFIED:20250221T202423Z
UID:7763-1749913200-1749927600@accademiaolisticalberodellavita.it
SUMMARY:VISITA GUIDATA ALL’ORTO BOTANICO DI CASOLA VALSENIO
DESCRIPTION:DALLE 15 alle 19 \ndocente: Maria Cristina Sapori \nContributo richiesto € 48\, comprensivi della lezione di distillazione tenuta dal tecnico distillatore dell’Orto Botanico e di dispensina di studio \nProgramma del pomeriggio didattico-esperienziale \nOre 15: lezione di distillazione di un olio essenziale tenuta dal tecnico distillatore dell’Orto Botanico Ore 16: visita all’emporio e alla serra per eventuali acquisti di piantine aromatiche\, oli essenziali e altri prodotti dell’Orto Botanico \nOre 16\,30 – 18\,30: visita guidata dell’Orto Botanico tenuta da Maria Cristina Sapori\, (erborista\, aromatologa e naturopata) con spiegazione delle proprietà di erbe officinali \nE riconoscimento e studio delle Essenze Floreali presenti nell’Orto Botanico (Fiori di Bach\, Fiori Californiani) \nOre 19\,30 (per chi vuole): Cena insieme alla trattoria piadineria da Lori Via Cantoni\, 5 Casola Valsenio
URL:https://accademiaolisticalberodellavita.it/event/visita-guidata-allorto-botanico-di-casola-valsenio/
END:VEVENT
END:VCALENDAR