BEGIN:VCALENDAR
VERSION:2.0
PRODID:-//Accademia Olistica Albero della Vita - ECPv6.15.19//NONSGML v1.0//EN
CALSCALE:GREGORIAN
METHOD:PUBLISH
X-WR-CALNAME:Accademia Olistica Albero della Vita
X-ORIGINAL-URL:https://accademiaolisticalberodellavita.it
X-WR-CALDESC:Eventi per Accademia Olistica Albero della Vita
REFRESH-INTERVAL;VALUE=DURATION:PT1H
X-Robots-Tag:noindex
X-PUBLISHED-TTL:PT1H
BEGIN:VTIMEZONE
TZID:UTC
BEGIN:STANDARD
TZOFFSETFROM:+0000
TZOFFSETTO:+0000
TZNAME:UTC
DTSTART:20240101T000000
END:STANDARD
END:VTIMEZONE
BEGIN:VEVENT
DTSTART;TZID=UTC:20250628T140000
DTEND;TZID=UTC:20250628T223000
DTSTAMP:20260420T131704
CREATED:20250221T203347Z
LAST-MODIFIED:20250619T155921Z
UID:7772-1751119200-1751149800@accademiaolisticalberodellavita.it
SUMMARY:GIORNATA DEDICATA ALL'ARMONIA E AL BENESSERE
DESCRIPTION:LA GIORNATA SI SVOLGE IN VIA PALAZZETTI\, 22/m – loc. CICOGNA – S. LAZZARO DI SAVENA (BO) \nDALLE 14 ALLE 22\,30 \ndalle 14 alle 14\,30: Meditazione Guidata per entrare in contatto con la propria Guida Celeste con Maria Cristina Sapori\, Alessio Bennati (Alce Bianco) e Linda Ferioli \ndalle 14\,45 alle 16\,15: Lettura Energetica dei Piedi:scopri chi sei attraverso la lettura dei tuoi piedi (sarà fatta la lettura dei piedi di tutti i partecipanti che lo desiderano) con Sonja Demuru dalle 16\,15 alle 16\,30 Tisane e dolcetti (pasticceria Gabriele Spinelli – Pianoro) \ndalle 16\,45 alle 18: Nuove Carte degli Arcangeli Custodi e Raggi di Luce: scopri qual è il tuo Raggio di Luce con Maria Cristina Sapori \ndalle 18\,15 alle 19\,15:  Aria – Fuoco – Terra – Acqua: ritrova gli elementi di Madre Natura \ndentro di te attraverso il suono del tamburo sciamanico e degli strumenti delle tradizioni antiche con \nAlessio Bennati (Alce Bianco) e Linda Ferioli \ndalle 19\,30 alle 20\,30: Cena a buffet per tutti \ndalle 20\,45 alle 21\,45: Mantra e Canti Spirituali con Giovanni Del Casale \nAlle 22: Estrazione Lotteria Olistica. \nOgni partecipante riceverà un biglietto della nostra Lotteria Olistica. \nIn palio ci sono i seguenti Premi: \n\n1° Premio: 1 corso di 2 giornate (16 ore) scelto dall’allievo fra tutti quelli proposti dalla nostra Accademia (valore del premio € 189 se svolto in presenza\, € 168 se svolto in diretta online)\n2° Premio: 1 corso di 1 giornata (scelto dall’allievo fra tutti quelli proposti dalla nostra Accademia (valore del premio € 95 se svolto in presenza\, € 89 se svolto in diretta online)\n3° Premio: 1 mandala di geometria sacra Metatron Light in tela montato su telaio in legno (cm 55 x 55 circa)\n\nContributo richiesto € 89\, comprensivi di tutte le attività proposte\, merenda\, cena a buffet e 1 biglietto della nostra Lotteria Olistica.
URL:https://accademiaolisticalberodellavita.it/event/festa-olistica-di-inizio-estate/
END:VEVENT
END:VCALENDAR