BEGIN:VCALENDAR
VERSION:2.0
PRODID:-//Accademia Olistica Albero della Vita - ECPv6.15.19//NONSGML v1.0//EN
CALSCALE:GREGORIAN
METHOD:PUBLISH
X-ORIGINAL-URL:https://accademiaolisticalberodellavita.it
X-WR-CALDESC:Eventi per Accademia Olistica Albero della Vita
REFRESH-INTERVAL;VALUE=DURATION:PT1H
X-Robots-Tag:noindex
X-PUBLISHED-TTL:PT1H
BEGIN:VTIMEZONE
TZID:UTC
BEGIN:STANDARD
TZOFFSETFROM:+0000
TZOFFSETTO:+0000
TZNAME:UTC
DTSTART:20240101T000000
END:STANDARD
END:VTIMEZONE
BEGIN:VEVENT
DTSTART;TZID=UTC:20250712T100000
DTEND;TZID=UTC:20250713T190000
DTSTAMP:20260420T131845
CREATED:20250221T203522Z
LAST-MODIFIED:20250221T203522Z
UID:7775-1752314400-1752433200@accademiaolisticalberodellavita.it
SUMMARY: E.F.T. E HO’OPONOPONO: TECNICHE VIBRAZIONALI PER LA  LIBERTA’ EMOTIVA
DESCRIPTION:IL CORSO SI SVOLGE IN DIRETTA ONLINE SU \nPIATTAFORMA ZOOM docente: Maria Cristina Sapori \nContributo richiesto per il corso in diretta online su piattaforma ZOOM € 168\, comprensivi di \ndispensa di studio\, registrazione dell’intero corso e attestato di frequenza inviati online Programma \ndel corso teorico-esperienziale \nTecnica di Libertà Emozionale EFT: \n-Tapping (picchiettamento) per il Riequilibrio Emozionale: come si esegue \n-Punti Allarme e Meridiani Energetici \n-Polarità e inversione psicologica \n-Come formulare affermazioni che neutralizzino l’inversione \npsicologica \n-La Sequenza \n-La Procedura 9 Gamma \n-Valutazione dell’assetto emozionale -Applicazioni successive di assestamento \n-Come scardinare le cristallizzazioni derivate dalle emozioni disarmoniche: \n-Esempi pratici\, esercizi e pratica della tecnica \n-Domande e risposte con esempi di casi \nHO’OPONOPONO: I punti chiave di Ho’Oponopono -I 3 \nSé Interiori: -Supercosciente -Cosciente – \nSubcosciente -Imparare a fluire e a fidarci dell’Amore \nUniversale \n-I 12 Passi di Oh’Oponopono \n-Forma Ho’Oponopono semplificata \n-Come portare la concentrazione sulla persona o sulla situazione sulla quale si pratica \nHo’Oponopono -Comprensione approfondita del mantra di Ho’Oponopono: “Mi dispiace Perdonami \nGrazie Ti amo” -Preghiera di chiusura e ringraziamento \n-Come unire le 2 Tecniche di Liberazione Emozionali (EFT e HO’OPONOPONO) per ottenere \nrisultati efficaci e duraturi \n-Esercizi e pratica insieme -Domande e risposte con esempi di casi
URL:https://accademiaolisticalberodellavita.it/event/e-f-t-e-hooponopono-tecniche-vibrazionali-per-la-liberta-emotiva/
ATTACH;FMTTYPE=image/jpeg:https://accademiaolisticalberodellavita.it/wp-content/uploads/2025/02/ho.jpeg
END:VEVENT
END:VCALENDAR