BEGIN:VCALENDAR
VERSION:2.0
PRODID:-//Accademia Olistica Albero della Vita - ECPv6.15.19//NONSGML v1.0//EN
CALSCALE:GREGORIAN
METHOD:PUBLISH
X-WR-CALNAME:Accademia Olistica Albero della Vita
X-ORIGINAL-URL:https://accademiaolisticalberodellavita.it
X-WR-CALDESC:Eventi per Accademia Olistica Albero della Vita
REFRESH-INTERVAL;VALUE=DURATION:PT1H
X-Robots-Tag:noindex
X-PUBLISHED-TTL:PT1H
BEGIN:VTIMEZONE
TZID:UTC
BEGIN:STANDARD
TZOFFSETFROM:+0000
TZOFFSETTO:+0000
TZNAME:UTC
DTSTART:20240101T000000
END:STANDARD
END:VTIMEZONE
BEGIN:VEVENT
DTSTART;TZID=UTC:20250906T100000
DTEND;TZID=UTC:20250907T190000
DTSTAMP:20260420T081231
CREATED:20250709T201603Z
LAST-MODIFIED:20250709T201603Z
UID:8670-1757152800-1757271600@accademiaolisticalberodellavita.it
SUMMARY:COMUNICAZIONE\, ASCOLTO ED EMPATIA: L’ARTE DI SAPER COMUNICARE
DESCRIPTION:IL CORSO SI SVOLGE IN VIA F. BETTI\, 6 IDICE – S. LAZZARO DI SAVENA (BO) E CONTEMPORANEAMENTE IN DIRETTA ONLINE SU PIATTAFORMA ZOOM  \ndocente: Federica Corbino \nContributo richiesto per il corso in aula € 198 comprensivi di dispensa di studio rilegata\, registrazione dell’intero corso e attestato di frequenza cartaceo \nContributo richiesto per il corso in diretta online su piattaforma ZOOM € 169\, comprensivi di dispensa di studio\, registrazione dell’intero corso e attestato di frequenza inviati online \nProgramma teorico-esperienziale \nPrincipi della comunicazione \nOstacoli alla comunicazione: ordinare\, minacciare\, avvertire\, dare soluzioni\, argomentare con la logica\, giudicare\, apprezzare\, etichettare\, interpretare\, rassicurare\, investigare\, cambiare argomento Obiettivi chiari per una comunicazione efficace \nComunicazione verbale\, non verbale e paraverbale \nSperimentare il proprio stile all’interno della relazione con l’interlocutore \nvalutandone l’efficacia ed eventualmente modificarlo nel corso dell’interazione \nattraverso tecniche esperienziali \nComunicazione assertiva \nImportanza dell’ascolto \nAnalizzare il contesto per comprendere la comunicazione \nPresupposti dell’empatia: saper cambiare punto di vista e vedere con gli occhi dell’altro. Tecniche esperienziali rispecchiamento e ricalco La relazione d’aiuto e come comunicare con il cliente \nAttività esperienziali \nEsperienza in gruppo: in cosa sono diverso \nEsperienza a coppie: guardati allo specchio \nEsperienza in gruppo: costruiamo un ponte \nEsperienza in gruppo: solo 20 domande \nEsperienza a coppie: ascolta e ripeti \nEsperienza in gruppo: trova chi fa coppia con te Role-playing\, psicodramma e attività di simulate operatore- cliente. Le attività esperienziali sono indicative e pertanto potranno subire cambiamenti in base al numero dei partecipanti\, allo svolgimento del corso (on-line\, in presenza o in entrambe le modalità): saranno comunque previste alla fine di ogni argomento.
URL:https://accademiaolisticalberodellavita.it/event/comunicazione-ascolto-ed-empatia-larte-di-saper-comunicare-2/
CATEGORIES:Percorsi Professionali
ATTACH;FMTTYPE=image/jpeg:https://accademiaolisticalberodellavita.it/wp-content/uploads/2023/08/ORIENTAMENTO.jpg
END:VEVENT
END:VCALENDAR