BEGIN:VCALENDAR
VERSION:2.0
PRODID:-//Accademia Olistica Albero della Vita - ECPv6.15.19//NONSGML v1.0//EN
CALSCALE:GREGORIAN
METHOD:PUBLISH
X-WR-CALNAME:Accademia Olistica Albero della Vita
X-ORIGINAL-URL:https://accademiaolisticalberodellavita.it
X-WR-CALDESC:Eventi per Accademia Olistica Albero della Vita
REFRESH-INTERVAL;VALUE=DURATION:PT1H
X-Robots-Tag:noindex
X-PUBLISHED-TTL:PT1H
BEGIN:VTIMEZONE
TZID:UTC
BEGIN:STANDARD
TZOFFSETFROM:+0000
TZOFFSETTO:+0000
TZNAME:UTC
DTSTART:20240101T000000
END:STANDARD
END:VTIMEZONE
BEGIN:VEVENT
DTSTART;TZID=UTC:20251009T203000
DTEND;TZID=UTC:20251009T220000
DTSTAMP:20260420T061346
CREATED:20250918T072928Z
LAST-MODIFIED:20251006T195621Z
UID:9245-1760041800-1760047200@accademiaolisticalberodellavita.it
SUMMARY:" L’arte di preparare una miscela di Essenze Floreali per l’armonia e il benessere interiore: simulazioni di casi"
DESCRIPTION:Giovedì 9 ottobre 2025 dalle 20\,30 alle 22 (in diretta online su Zoom) \nDocente: Maria Cristina Sapori \nGruppo di studio e supervisione gratuito e aperto a tutti gli iscritti!
URL:https://accademiaolisticalberodellavita.it/event/larte-di-preparare-una-miscela-di-essenze-floreali-per-larmonia-e-il-benessere-interiore-simulazioni-di-casi/
ATTACH;FMTTYPE=image/jpeg:https://accademiaolisticalberodellavita.it/wp-content/uploads/2024/02/fiori-e1759780563379.jpg
END:VEVENT
END:VCALENDAR