BEGIN:VCALENDAR
VERSION:2.0
PRODID:-//Accademia Olistica Albero della Vita - ECPv6.15.19//NONSGML v1.0//EN
CALSCALE:GREGORIAN
METHOD:PUBLISH
X-WR-CALNAME:Accademia Olistica Albero della Vita
X-ORIGINAL-URL:https://accademiaolisticalberodellavita.it
X-WR-CALDESC:Eventi per Accademia Olistica Albero della Vita
REFRESH-INTERVAL;VALUE=DURATION:PT1H
X-Robots-Tag:noindex
X-PUBLISHED-TTL:PT1H
BEGIN:VTIMEZONE
TZID:UTC
BEGIN:STANDARD
TZOFFSETFROM:+0000
TZOFFSETTO:+0000
TZNAME:UTC
DTSTART:20240101T000000
END:STANDARD
END:VTIMEZONE
BEGIN:VEVENT
DTSTART;TZID=UTC:20251019T100000
DTEND;TZID=UTC:20251019T190000
DTSTAMP:20260420T061257
CREATED:20250709T203916Z
LAST-MODIFIED:20250709T203916Z
UID:8686-1760868000-1760900400@accademiaolisticalberodellavita.it
SUMMARY: VOICE & VIBE AEQUILIBRIUM 
DESCRIPTION:IL CORSO SI SVOLGE IN DIRETTA ONLINE SU PIATTAFORMA ZOOM  \ndocente: Barbara Magnoni \nContributo richiesto per il corso in diretta online su piattaforma ZOOM € 98\, comprensivi di dispensa di studio\, registrazione dell’intero corso e attestato di frequenza inviati online \nProgramma del corso teorico-esperienziale \n-Tutto è vibrazione: il suono \n-Gli effetti del suono sul corpo umano e sul suo campo energetico \n-Le frequenze cerebrali e gli effetti del suono sul cervello \n-Sperimentiamo le vibrazioni dello strumento ancestrale più antico del mondo: la nostra voce! \n-Meditazione di consapevolezza sul respiro \n-Esercizi di respirazione per un canto fluido e rilassato \n-Humming: cos’è e perché praticarlo \n-Gli effetti della vibrazione nel nostro corpo: esercizi di auto ascolto \n-Esercizi di gruppo per sperimentare l’importanza dell’intento \n-Meditazione: cantare la sacra sillaba Om \n-Il mantra “Om Mani Padme Hum” \n-Sciogliere i blocchi emotivi con la dinamica e il glissato: esercizio \n-Esercizio di Canto Carnatico \n-Breve bagno di suoni \n-Meditazione corporea per sciogliere corpo e pensieri giudicanti a tempo di musica \n-Instaurare un rapporto sano con la propria voce attraverso il vocal toning \n-Utilizzare il vocal toning come strumento di scanning: esercizi \n-Cenni di intuitive singing e lullaby singing: due tecniche semplici per ritrovare benessere
URL:https://accademiaolisticalberodellavita.it/event/voice-vibe-aequilibrium-2/
CATEGORIES:Corso Monotematico,Percorsi Brevi,Percorsi Professionali
ATTACH;FMTTYPE=image/jpeg:https://accademiaolisticalberodellavita.it/wp-content/uploads/2025/07/barbara-magnoni.jpeg
END:VEVENT
END:VCALENDAR