BEGIN:VCALENDAR
VERSION:2.0
PRODID:-//Accademia Olistica Albero della Vita - ECPv6.15.19//NONSGML v1.0//EN
CALSCALE:GREGORIAN
METHOD:PUBLISH
X-ORIGINAL-URL:https://accademiaolisticalberodellavita.it
X-WR-CALDESC:Eventi per Accademia Olistica Albero della Vita
REFRESH-INTERVAL;VALUE=DURATION:PT1H
X-Robots-Tag:noindex
X-PUBLISHED-TTL:PT1H
BEGIN:VTIMEZONE
TZID:UTC
BEGIN:STANDARD
TZOFFSETFROM:+0000
TZOFFSETTO:+0000
TZNAME:UTC
DTSTART:20240101T000000
END:STANDARD
END:VTIMEZONE
BEGIN:VEVENT
DTSTART;TZID=UTC:20251022T200000
DTEND;TZID=UTC:20251022T223000
DTSTAMP:20260420T061416
CREATED:20251008T165309Z
LAST-MODIFIED:20251008T165350Z
UID:9308-1761163200-1761172200@accademiaolisticalberodellavita.it
SUMMARY:I 12 RAGGI DI LUCE E GLI ARCHETIPI CELESTI 2° incontro
DESCRIPTION:L’incontro è riservato agli allievi dell’Accademia Olistica Albero della Vita
URL:https://accademiaolisticalberodellavita.it/event/i-12-raggi-di-luce-e-gli-archetipi-celesti-2-incontro/
ATTACH;FMTTYPE=image/jpeg:https://accademiaolisticalberodellavita.it/wp-content/uploads/2025/10/Raggi-di-Luce-e1759942190916.jpg
END:VEVENT
END:VCALENDAR