BEGIN:VCALENDAR
VERSION:2.0
PRODID:-//Accademia Olistica Albero della Vita - ECPv6.15.19//NONSGML v1.0//EN
CALSCALE:GREGORIAN
METHOD:PUBLISH
X-ORIGINAL-URL:https://accademiaolisticalberodellavita.it
X-WR-CALDESC:Eventi per Accademia Olistica Albero della Vita
REFRESH-INTERVAL;VALUE=DURATION:PT1H
X-Robots-Tag:noindex
X-PUBLISHED-TTL:PT1H
BEGIN:VTIMEZONE
TZID:UTC
BEGIN:STANDARD
TZOFFSETFROM:+0000
TZOFFSETTO:+0000
TZNAME:UTC
DTSTART:20240101T000000
END:STANDARD
END:VTIMEZONE
BEGIN:VEVENT
DTSTART;TZID=UTC:20251023T203000
DTEND;TZID=UTC:20251023T220000
DTSTAMP:20260420T061416
CREATED:20250918T073434Z
LAST-MODIFIED:20250918T073434Z
UID:9249-1761251400-1761256800@accademiaolisticalberodellavita.it
SUMMARY:"La Naturopata risponde: serata dedicata alle domande su rimedi e preparati naturali per mantenere energia e benessere"
DESCRIPTION:Giovedì 23 ottobre 2025 dalle 20\,30 alle 22 (in diretta online su Zoom)  \nDocente: Maria Cristina Sapori \nIncontro gratuito aperto a tutti gli iscritti!
URL:https://accademiaolisticalberodellavita.it/event/la-naturopata-risponde-serata-dedicata-alle-domande-su-rimedi-e-preparati-naturali-per-mantenere-energia-e-benessere/
ATTACH;FMTTYPE=image/jpeg:https://accademiaolisticalberodellavita.it/wp-content/uploads/2025/07/erboristeria-e1773606528907.jpeg
END:VEVENT
END:VCALENDAR