BEGIN:VCALENDAR
VERSION:2.0
PRODID:-//Accademia Olistica Albero della Vita - ECPv6.15.19//NONSGML v1.0//EN
CALSCALE:GREGORIAN
METHOD:PUBLISH
X-ORIGINAL-URL:https://accademiaolisticalberodellavita.it
X-WR-CALDESC:Eventi per Accademia Olistica Albero della Vita
REFRESH-INTERVAL;VALUE=DURATION:PT1H
X-Robots-Tag:noindex
X-PUBLISHED-TTL:PT1H
BEGIN:VTIMEZONE
TZID:UTC
BEGIN:STANDARD
TZOFFSETFROM:+0000
TZOFFSETTO:+0000
TZNAME:UTC
DTSTART:20240101T000000
END:STANDARD
END:VTIMEZONE
BEGIN:VEVENT
DTSTART;TZID=UTC:20251108T100000
DTEND;TZID=UTC:20251109T190000
DTSTAMP:20260420T042110
CREATED:20250709T205411Z
LAST-MODIFIED:20251122T141853Z
UID:8698-1762596000-1762714800@accademiaolisticalberodellavita.it
SUMMARY: CAMPANE DI CRISTALLO E MASSAGGIO SONORO – 1° modulo
DESCRIPTION:IL CORSO SI SVOLGE IN VIA DELL’ARCOVEGGIO\, 49/7 BOLOGNA \ndocente: Barbara Magnoni \nContributo richiesto per il corso in aula € 198 comprensivi di dispensa di studio rilegata e attestato di frequenza cartaceo \nProgramma del corso teorico-esperienziale \n-cosa sono le campane di quarzo \n-differenze tra campane di quarzo e ciotole tibetane \n-le campane alchemiche \n-verifica del suono di eventuali campane portate dagli allievi \n-il potere del suono \n-cos’è l’Armonia: Pitagora\, armonia\, matematica e musica \n-differenza tra melodia e armonia \n-quale strumento scegliere \n-accordatura 440 vs 432hz\, cenni storici e conclusioni \n-esercizio di gruppo per scegliere la propria campana \n-il battente (o batacchio)\, percussione e sfregamento \n-ascolto e semplicità prima di tutto: entrare in connessione con le campane per sviluppare lagiusta sensibilità \n-pratica insieme \n-l’importanza dell’intenzione: esercizi 5 \n-attivazione dell’acqua con la vibrazione della campana \n-purificazione e riequilibrio dei cristalli e degli ambienti con la campana \n.armonizzazione di gruppo con le campane e condivisioni
URL:https://accademiaolisticalberodellavita.it/event/campane-di-cristallo-e-massaggio-sonoro-1-modulo-2/
CATEGORIES:Percorsi Brevi
ATTACH;FMTTYPE=image/jpeg:https://accademiaolisticalberodellavita.it/wp-content/uploads/2020/12/barbara-e1745423836571.jpeg
END:VEVENT
END:VCALENDAR