BEGIN:VCALENDAR
VERSION:2.0
PRODID:-//Accademia Olistica Albero della Vita - ECPv6.15.19//NONSGML v1.0//EN
CALSCALE:GREGORIAN
METHOD:PUBLISH
X-WR-CALNAME:Accademia Olistica Albero della Vita
X-ORIGINAL-URL:https://accademiaolisticalberodellavita.it
X-WR-CALDESC:Eventi per Accademia Olistica Albero della Vita
REFRESH-INTERVAL;VALUE=DURATION:PT1H
X-Robots-Tag:noindex
X-PUBLISHED-TTL:PT1H
BEGIN:VTIMEZONE
TZID:UTC
BEGIN:STANDARD
TZOFFSETFROM:+0000
TZOFFSETTO:+0000
TZNAME:UTC
DTSTART:20240101T000000
END:STANDARD
END:VTIMEZONE
BEGIN:VEVENT
DTSTART;TZID=UTC:20251120T203000
DTEND;TZID=UTC:20251120T220000
DTSTAMP:20260420T041910
CREATED:20250918T074310Z
LAST-MODIFIED:20251021T143001Z
UID:9255-1763670600-1763676000@accademiaolisticalberodellavita.it
SUMMARY:“Numerologia Olistica Evolutiva - 1° modulo: approfondimenti e domande”
DESCRIPTION:Giovedì 20 novembre 2025 dalle 20\,30 alle 22 (in diretta online su Zoom) \nDocente: Annamaria Strippoli \nGruppo di studio e supervisione gratuito e aperto a tutti coloro che hanno partecipato al corso “Numerologia Olistica Evolutiva – 1°modulo: approfondimenti e domande”
URL:https://accademiaolisticalberodellavita.it/event/numerologia-olistica-evolutiva-1-modulo-approfondimenti-e-domande/
ATTACH;FMTTYPE=image/jpeg:https://accademiaolisticalberodellavita.it/wp-content/uploads/2023/04/numerologia-1.jpeg
END:VEVENT
END:VCALENDAR