BEGIN:VCALENDAR
VERSION:2.0
PRODID:-//Accademia Olistica Albero della Vita - ECPv6.15.19//NONSGML v1.0//EN
CALSCALE:GREGORIAN
METHOD:PUBLISH
X-WR-CALNAME:Accademia Olistica Albero della Vita
X-ORIGINAL-URL:https://accademiaolisticalberodellavita.it
X-WR-CALDESC:Eventi per Accademia Olistica Albero della Vita
REFRESH-INTERVAL;VALUE=DURATION:PT1H
X-Robots-Tag:noindex
X-PUBLISHED-TTL:PT1H
BEGIN:VTIMEZONE
TZID:UTC
BEGIN:STANDARD
TZOFFSETFROM:+0000
TZOFFSETTO:+0000
TZNAME:UTC
DTSTART:20240101T000000
END:STANDARD
END:VTIMEZONE
BEGIN:VEVENT
DTSTART;TZID=UTC:20251220T100000
DTEND;TZID=UTC:20251221T190000
DTSTAMP:20260420T023213
CREATED:20250709T211225Z
LAST-MODIFIED:20250709T211225Z
UID:8715-1766224800-1766343600@accademiaolisticalberodellavita.it
SUMMARY: I FIORI DI BACH PER CORPO\, MENTE E SPIRITO 
DESCRIPTION:IL CORSO SI SVOLGE IN DIRETTA ONLINE SU PIATTAFORMA ZOOM \ndocente: Maria Cristina Sapori \nContributo richiesto per il corso in diretta online su piattaforma ZOOM € 169\, comprensivi di dispensa di studio\, registrazione dell’intero corso e attestato di frequenza inviati online \nProgramma del corso \nStudio approfondito delle 38 essenze floreali del dott. Bach:  \n-I Fiori per le paure  \n– I Fiori per l’insicurezza \ne la mancanza di autostima  \n– I Fiori per la solitudine -I Fiori per l’incapacità di vivere il proprio quotidiano \n– I Fiori per il senso di isolamento  \n– I Fiori per la disperazione  \n– I Fiori per la tendenza ad essere manipolatori e dominanti \n-Studio degli Archetipi di Luce abbinati ai Fiori di Bach \n-Studio di combinazioni di essenze floreali per il riequilibrio emozionale\, con valutazione di singoli casi e \nformulazione di miscele appropriate \n-Utilizzo del biotensor (test radioestesico) per la scelta dei diversi mix di essenze floreali                     8 \n– Domani e risposte e studio di casi portati dagli allievi
URL:https://accademiaolisticalberodellavita.it/event/i-fiori-di-bach-per-corpo-mente-e-spirito-2/
CATEGORIES:Corso Monotematico,Percorsi Professionali
ATTACH;FMTTYPE=image/jpeg:https://accademiaolisticalberodellavita.it/wp-content/uploads/2024/02/fiori-e1759780563379.jpg
END:VEVENT
END:VCALENDAR