BEGIN:VCALENDAR
VERSION:2.0
PRODID:-//Accademia Olistica Albero della Vita - ECPv6.15.19//NONSGML v1.0//EN
CALSCALE:GREGORIAN
METHOD:PUBLISH
X-WR-CALNAME:Accademia Olistica Albero della Vita
X-ORIGINAL-URL:https://accademiaolisticalberodellavita.it
X-WR-CALDESC:Eventi per Accademia Olistica Albero della Vita
REFRESH-INTERVAL;VALUE=DURATION:PT1H
X-Robots-Tag:noindex
X-PUBLISHED-TTL:PT1H
BEGIN:VTIMEZONE
TZID:UTC
BEGIN:STANDARD
TZOFFSETFROM:+0000
TZOFFSETTO:+0000
TZNAME:UTC
DTSTART:20250101T000000
END:STANDARD
END:VTIMEZONE
BEGIN:VEVENT
DTSTART;TZID=UTC:20260103T100000
DTEND;TZID=UTC:20260104T190000
DTSTAMP:20260420T003310
CREATED:20250910T122540Z
LAST-MODIFIED:20250910T122826Z
UID:9127-1767434400-1767553200@accademiaolisticalberodellavita.it
SUMMARY:METODO LIGHT & SOLVE® 3° MODULO
DESCRIPTION:Sede corso Via dell’Arcoveggio 49/7 Bologna \nProgramma del corso teorico-esperienziale \n\n-Non possiamo cambiare il passato: imparare a vivere nel presente lasciando andare ciò che intossica le nostre giornate\n-Il nostro Bambino Interiore: imparare a prenderci cura delle nostre emozioni profonde\n-La paura: combatterla o imparare a utilizzarla a nostro favore\n-Cercare di tenere tutto sotto controllo ci fa perdere il controllo delle nostre reazioni emotive: ascoltare le proprie emozioni senza reprimerle nè esplodere\n-Psicosomatica: quando il corpo sente il dolore dell’anima: la simbologia del corpo\nValutazione delle essenze floreali\, dei rimedi naturali e delle tecniche Vibrazionali da utilizzare per il sostegno del proprio cliente dopo un seduta di Metodo Light & Solve\n-Studio e pratica in aula del Metodo Light & Solve™\n-Domande e risposte
URL:https://accademiaolisticalberodellavita.it/event/metodo-light-solve-3-modulo-2/
ATTACH;FMTTYPE=image/jpeg:https://accademiaolisticalberodellavita.it/wp-content/uploads/2025/02/light-1-e1742628574332.jpeg
END:VEVENT
END:VCALENDAR