BEGIN:VCALENDAR
VERSION:2.0
PRODID:-//Accademia Olistica Albero della Vita - ECPv6.15.19//NONSGML v1.0//EN
CALSCALE:GREGORIAN
METHOD:PUBLISH
X-WR-CALNAME:Accademia Olistica Albero della Vita
X-ORIGINAL-URL:https://accademiaolisticalberodellavita.it
X-WR-CALDESC:Eventi per Accademia Olistica Albero della Vita
REFRESH-INTERVAL;VALUE=DURATION:PT1H
X-Robots-Tag:noindex
X-PUBLISHED-TTL:PT1H
BEGIN:VTIMEZONE
TZID:UTC
BEGIN:STANDARD
TZOFFSETFROM:+0000
TZOFFSETTO:+0000
TZNAME:UTC
DTSTART:20250101T000000
END:STANDARD
END:VTIMEZONE
BEGIN:VEVENT
DTSTART;TZID=UTC:20260122T203000
DTEND;TZID=UTC:20260122T220000
DTSTAMP:20260420T003310
CREATED:20251228T175534Z
LAST-MODIFIED:20251228T175534Z
UID:9716-1769113800-1769119200@accademiaolisticalberodellavita.it
SUMMARY: INCONTRO GRATUITO  APERTO A TUTTI CON SUPERVISIONE SULLE ESSENZE FLOREALI PER RIEQUILIBRARE I MOMENTI DIFFICILI DELLA VITA (con formulazione di miscele adeguate alle diverse casistiche portate dagli allievi)
DESCRIPTION:  \ndalle 20\,30 alle 22  in diretta online – piattaforma Zoom \ndocente: Maria Cristina Sapori
URL:https://accademiaolisticalberodellavita.it/event/incontro-gratuito-aperto-a-tutti-con-supervisione-sulle-essenze-floreali-per-riequilibrare-i-momenti-difficili-della-vita-con-formulazione-di-miscele-adeguate-alle-diverse-casistiche-port/
END:VEVENT
END:VCALENDAR