BEGIN:VCALENDAR
VERSION:2.0
PRODID:-//Accademia Olistica Albero della Vita - ECPv6.15.19//NONSGML v1.0//EN
CALSCALE:GREGORIAN
METHOD:PUBLISH
X-ORIGINAL-URL:https://accademiaolisticalberodellavita.it
X-WR-CALDESC:Eventi per Accademia Olistica Albero della Vita
REFRESH-INTERVAL;VALUE=DURATION:PT1H
X-Robots-Tag:noindex
X-PUBLISHED-TTL:PT1H
BEGIN:VTIMEZONE
TZID:UTC
BEGIN:STANDARD
TZOFFSETFROM:+0000
TZOFFSETTO:+0000
TZNAME:UTC
DTSTART:20250101T000000
END:STANDARD
END:VTIMEZONE
BEGIN:VEVENT
DTSTART;TZID=UTC:20260124T100000
DTEND;TZID=UTC:20260125T190000
DTSTAMP:20260420T003456
CREATED:20250911T072022Z
LAST-MODIFIED:20250911T072022Z
UID:9169-1769248800-1769367600@accademiaolisticalberodellavita.it
SUMMARY:CRISTALLOTERAPIA VIBRAZIONALE - 1° MODULO
DESCRIPTION:IL CORSO SI SVOLGE IN VIA DELL’ARCOVEGGIO\, 49/7 BOLOGNA \nDocente: Cristina Nesich \nContributo richiesto per il corso in aula € 198 comprensivi di dispensa di studio rilegata e attestato di frequenza cartaceo \nProgramma del corso teorico-esperienziale \n-Introduzione alla conoscenza dei Cristalli: origini\, processi di formazione\, classificazione in base alle famiglie di appartenenza e alle strutture cristalline \n-Meditazione di apertura: “Connessione Cristallina” \n-Cristalli e Chakra: spiegazione sull’utilizzo dei Cristalli per gli 8 Chakra nel Percorso di Conoscenza \n-Esplorazione sensoriale dei Cristalli: approfondimento esperienziale di 40 Cristalli correlati a ciascun degli 8 Chakra\, con spiegazioni specifiche sulle caratteristiche energetiche di ogni Cristallo e sui benefici relativi al loro utilizzo \n-Tecniche di pulizia e ricarica dei Cristalli: i metodi migliori per purificarli e ricaricarli energicamente \n-Autotrattamento: tecnica di autotrattamento con i Cristalli come pratica di armonizzazione energetica \n-Meditazione di chiusura: “Il Dono dei Cristalli”
URL:https://accademiaolisticalberodellavita.it/event/cristalloterapia-vibrazionale-1-modulo/
ATTACH;FMTTYPE=image/jpeg:https://accademiaolisticalberodellavita.it/wp-content/uploads/2025/07/Cristallosofia-1-e1742502976566.jpg
END:VEVENT
END:VCALENDAR