BEGIN:VCALENDAR
VERSION:2.0
PRODID:-//Accademia Olistica Albero della Vita - ECPv6.15.19//NONSGML v1.0//EN
CALSCALE:GREGORIAN
METHOD:PUBLISH
X-WR-CALNAME:Accademia Olistica Albero della Vita
X-ORIGINAL-URL:https://accademiaolisticalberodellavita.it
X-WR-CALDESC:Eventi per Accademia Olistica Albero della Vita
REFRESH-INTERVAL;VALUE=DURATION:PT1H
X-Robots-Tag:noindex
X-PUBLISHED-TTL:PT1H
BEGIN:VTIMEZONE
TZID:UTC
BEGIN:STANDARD
TZOFFSETFROM:+0000
TZOFFSETTO:+0000
TZNAME:UTC
DTSTART:20250101T000000
END:STANDARD
END:VTIMEZONE
BEGIN:VEVENT
DTSTART;TZID=UTC:20260212T203000
DTEND;TZID=UTC:20260212T220000
DTSTAMP:20260419T224314
CREATED:20251228T175723Z
LAST-MODIFIED:20251228T175723Z
UID:9720-1770928200-1770933600@accademiaolisticalberodellavita.it
SUMMARY:GRUPPO DI STUDIO GRATUITO  CON SUPERVISIONE APERTO A CHI HA FREQUENTATO IL CORSO “RIFLESSOLOGIA PLANTARE OLISTICA INTEGRATA 3° modulo
DESCRIPTION:  \ndalle 20\,30 alle 22  in diretta online – piattaforma Zoom \ndocente: Sonja Demuru
URL:https://accademiaolisticalberodellavita.it/event/gruppo-di-studio-gratuito-con-supervisione-aperto-a-chi-ha-frequentato-il-corso-riflessologia-plantare-olistica-integrata-3-modulo/
END:VEVENT
END:VCALENDAR