BEGIN:VCALENDAR
VERSION:2.0
PRODID:-//Accademia Olistica Albero della Vita - ECPv6.15.19//NONSGML v1.0//EN
CALSCALE:GREGORIAN
METHOD:PUBLISH
X-WR-CALNAME:Accademia Olistica Albero della Vita
X-ORIGINAL-URL:https://accademiaolisticalberodellavita.it
X-WR-CALDESC:Eventi per Accademia Olistica Albero della Vita
REFRESH-INTERVAL;VALUE=DURATION:PT1H
X-Robots-Tag:noindex
X-PUBLISHED-TTL:PT1H
BEGIN:VTIMEZONE
TZID:UTC
BEGIN:STANDARD
TZOFFSETFROM:+0000
TZOFFSETTO:+0000
TZNAME:UTC
DTSTART:20250101T000000
END:STANDARD
END:VTIMEZONE
BEGIN:VEVENT
DTSTART;TZID=UTC:20260221T133000
DTEND;TZID=UTC:20260221T173000
DTSTAMP:20260419T224312
CREATED:20260202T201147Z
LAST-MODIFIED:20260202T201147Z
UID:9831-1771680600-1771695000@accademiaolisticalberodellavita.it
SUMMARY:ESAME RIFLESSOLOGIA PLANTARE OLISTICA INTEGRATA
DESCRIPTION:La sessione d’esame si svolge dalle 13\,30 alle 17\,30 in Via dell’Arcoveggio\, 4977 Bologna \n 
URL:https://accademiaolisticalberodellavita.it/event/esame-riflessologia-plantare-olistica-integrata/
END:VEVENT
END:VCALENDAR