BEGIN:VCALENDAR
VERSION:2.0
PRODID:-//Accademia Olistica Albero della Vita - ECPv6.15.19//NONSGML v1.0//EN
CALSCALE:GREGORIAN
METHOD:PUBLISH
X-WR-CALNAME:Accademia Olistica Albero della Vita
X-ORIGINAL-URL:https://accademiaolisticalberodellavita.it
X-WR-CALDESC:Eventi per Accademia Olistica Albero della Vita
REFRESH-INTERVAL;VALUE=DURATION:PT1H
X-Robots-Tag:noindex
X-PUBLISHED-TTL:PT1H
BEGIN:VTIMEZONE
TZID:UTC
BEGIN:STANDARD
TZOFFSETFROM:+0000
TZOFFSETTO:+0000
TZNAME:UTC
DTSTART:20250101T000000
END:STANDARD
END:VTIMEZONE
BEGIN:VEVENT
DTSTART;TZID=UTC:20260222T100000
DTEND;TZID=UTC:20260222T130000
DTSTAMP:20260419T224137
CREATED:20250916T073959Z
LAST-MODIFIED:20250916T073959Z
UID:9193-1771754400-1771765200@accademiaolisticalberodellavita.it
SUMMARY:ESAME FINALE PER IL TITOLO DI OPERATORE OLISTICO A INDIRIZZO VIBRAZIONALE INTEGRATO
DESCRIPTION:L’ESAME SI SVOLGE IN VIA DELL’ARCOVEGGIO\, 49/7 BOLOGNA
URL:https://accademiaolisticalberodellavita.it/event/esame-finale-per-il-titolo-di-operatore-olistico-a-indirizzo-vibrazionale-integrato/
END:VEVENT
BEGIN:VEVENT
DTSTART;TZID=UTC:20260222T100000
DTEND;TZID=UTC:20260222T190000
DTSTAMP:20260419T224137
CREATED:20250916T073555Z
LAST-MODIFIED:20260102T223420Z
UID:9191-1771754400-1771786800@accademiaolisticalberodellavita.it
SUMMARY:NUMEROLOGIA OLISTICA EVOLUTIVA 3° modulo
DESCRIPTION:IL CORSO SI SVOLGE IN DIRETTA ONLINE SU PIATTAFORMA ZOOM  \nDocente: Annamaria Strippoli \nContributo richiesto per il corso in diretta online su piattaforma ZOOM € 98\, comprensivi di dispensa di studio e attestato di frequenza inviati online \nProgramma del corso teorico-pratico \n-Sguardo sui Pianeti come Energie e Numeri:                                                                                                                           scopriremo il significato energetico di alcuni pianeti e i numeri a essi associati nella numerologia\, approfondendo come queste vibrazioni influenzino la nostra personalità e il nostro destino. \n-Associazioni numerologiche con pietre e cristalli: impareremo a collegare i numeri di destino alle pietre e cristalli più affini\, utilizzando la Numerologia Evolutiva per potenziare le energie personali. \n-Brevi cenni sulla Psicogenealogia e il legame con la Numerologia Evolutiva: per comprendere come le energie numeriche si manifestino nei contesti familiari e influenzino il nostro percorso evolutivo. Approfondiremo come la data di nascita rifletta memorie familiari e dinamiche genealogiche\, rispondendo anche al mistero delle date ricorrenti nelle storie familiari.
URL:https://accademiaolisticalberodellavita.it/event/numerologia-olistica-evolutiva-3-modulo/
ATTACH;FMTTYPE=image/jpeg:https://accademiaolisticalberodellavita.it/wp-content/uploads/2023/04/numerologia-1.jpeg
END:VEVENT
END:VCALENDAR