BEGIN:VCALENDAR
VERSION:2.0
PRODID:-//Accademia Olistica Albero della Vita - ECPv6.15.19//NONSGML v1.0//EN
CALSCALE:GREGORIAN
METHOD:PUBLISH
X-WR-CALNAME:Accademia Olistica Albero della Vita
X-ORIGINAL-URL:https://accademiaolisticalberodellavita.it
X-WR-CALDESC:Eventi per Accademia Olistica Albero della Vita
REFRESH-INTERVAL;VALUE=DURATION:PT1H
X-Robots-Tag:noindex
X-PUBLISHED-TTL:PT1H
BEGIN:VTIMEZONE
TZID:UTC
BEGIN:STANDARD
TZOFFSETFROM:+0000
TZOFFSETTO:+0000
TZNAME:UTC
DTSTART:20250101T000000
END:STANDARD
END:VTIMEZONE
BEGIN:VEVENT
DTSTART;TZID=UTC:20260321T100000
DTEND;TZID=UTC:20260322T190000
DTSTAMP:20260419T204400
CREATED:20250916T075252Z
LAST-MODIFIED:20260102T223941Z
UID:9207-1774087200-1774206000@accademiaolisticalberodellavita.it
SUMMARY:ALIMENTAZIONE NATURALE BIO-ENERGETICA
DESCRIPTION:IL CORSO SI SVOLGE IN DIRETTA ONLINE SU PIATTAFORMA ZOOM \nDocente: Maria Cristina Sapori \nContributo richiesto per il corso in diretta online su piattaforma ZOOM € 178\, comprensivi di dispensa di studio e attestato di frequenza inviati online \nProgramma del corso \n-Quali cibi si evitano nell’Alimentazione Bio-Energetica \n-Conosciamo in modo approfondito le classi di alimenti per imparare a utilizzarle per mantenere benessere e vitalità: \n-Carboidrati \n-Proteine di derivazione animale \n-Proteine di derivazione vegetale \n-Alghe \n-Latte e latticini: fanno davvero bene? \n-Verdura \n-Frutta \n-Condimenti: sale e sale himalayano – oli :inpariamo a conoscere i vari tipi di oli e quali è bene utilizzare – acetio di vino – aceto di mele – acidulato di umeboshi: quale è meglio utilizzare? \n-Miso – Tamari – Shoyu \n-Spezie \n-Cottura degli alimenti: come mantenere il loro valore nutritivo ed evitare gli effetti tossici delle alte temperature \n-Il digiuno: quando fa bene e quando no \n-Differenza tra intolleranze alimentari e allergie \n-Comprendere i vari modelli di alimentazione: Macrobiotica – Dieta dissociata – Dieta vegetariana – Dieta Vegana – Dieta del digiuno intermittente – Dieta del Gruppo Sanguigno \n-Cibo e emozioni: sviluppare3 la consapevolezza rispetto al proprio rapporto con il cibo. Mangiare troppo o troppo poco è un chiaro segnale di malessere interiore. Scopriamo i Fiori di Bach\, Californiani e Australiani per armonizzare il nostro rapporto emozioni e cibo. \n-Peso forma: come ritrovarlo e mantenerlo \nEsempio di menù settimanale \n-Domande e risposte
URL:https://accademiaolisticalberodellavita.it/event/alimentazione-naturale-bio-energetica-2/
END:VEVENT
BEGIN:VEVENT
DTSTART;TZID=UTC:20260321T100000
DTEND;TZID=UTC:20260322T190000
DTSTAMP:20260419T204400
CREATED:20251227T212419Z
LAST-MODIFIED:20251227T212419Z
UID:9678-1774087200-1774206000@accademiaolisticalberodellavita.it
SUMMARY:DIAPASON: STRUMENTO DI RIEQUILIBRIO ENERGETICO 
DESCRIPTION:  \nIL CORSO SI SVOLGE IN VIA  DELL’ARCOVEGGIO\, 49/7 BOLOGNA \nDocente: Sonja Demuru \nIMPORTANTE! \nIL CORSO E’ RISERVATO AGLI ALLIEVI DELL’ACCADEMIA CHE HANNO FREQUENTATO I CORSI DI RIFLESSOLOGIA PLANTARE OLISTICA INTEGRATA O RIFLESSOLOGIA PLANTARE CINESE INTEGRATA  O  TECNICA METAMORFICA) \nContributo richiesto per il corso in aula € 198 comprensivi di dispensa di studio rilegata e attestato di frequenza cartaceo \nProgramma del corso teorico-pratico \nDopo una breve storia sull’utilizzo del Diapason come strumento di riequilibrio \nenergetico\, praticheremo i seguenti trattamenti: \n• Protocollo Colonna vertebrale \n• Protocollo Articolazioni \n• Protocollo della Stella \n• Protocollo Meridiani \n• Protocollo Chakra \n• Protocollo viso
URL:https://accademiaolisticalberodellavita.it/event/diapason-strumento-di-riequilibrio-energetico/
ATTACH;FMTTYPE=image/jpeg:https://accademiaolisticalberodellavita.it/wp-content/uploads/2025/12/diapason.jpeg
END:VEVENT
END:VCALENDAR