BEGIN:VCALENDAR
VERSION:2.0
PRODID:-//Accademia Olistica Albero della Vita - ECPv6.15.19//NONSGML v1.0//EN
CALSCALE:GREGORIAN
METHOD:PUBLISH
X-WR-CALNAME:Accademia Olistica Albero della Vita
X-ORIGINAL-URL:https://accademiaolisticalberodellavita.it
X-WR-CALDESC:Eventi per Accademia Olistica Albero della Vita
REFRESH-INTERVAL;VALUE=DURATION:PT1H
X-Robots-Tag:noindex
X-PUBLISHED-TTL:PT1H
BEGIN:VTIMEZONE
TZID:UTC
BEGIN:STANDARD
TZOFFSETFROM:+0000
TZOFFSETTO:+0000
TZNAME:UTC
DTSTART:20250101T000000
END:STANDARD
END:VTIMEZONE
BEGIN:VEVENT
DTSTART;TZID=UTC:20260409T203000
DTEND;TZID=UTC:20260409T220000
DTSTAMP:20260419T185714
CREATED:20251228T180338Z
LAST-MODIFIED:20260331T083041Z
UID:9733-1775766600-1775772000@accademiaolisticalberodellavita.it
SUMMARY:INCONTRO GRATUITO  APERTO A TUTTI CON SUPERVISIONE SU “FORMULAZIONI E RICETTE DI PREPARATI NATURALI A BASE DI OLI ESSENZIALI ED ESSENZE FLOREALI PER IL BENESSERE DI MENTE\, CORPO E SPIRITO” 
DESCRIPTION:  \ndalle 20\,30 alle 22  in diretta online – piattaforma Zoom \ndocente: Maria Cristina Sapori
URL:https://accademiaolisticalberodellavita.it/event/incontro-gratuito-aperto-a-tutti-con-supervisione-su-formulazioni-e-ricette-di-preparati-naturali-a-base-di-oli-essenziali-ed-essenze-floreali-per-il-benessere-di-mente-corpo-e-spirito/
END:VEVENT
END:VCALENDAR