BEGIN:VCALENDAR
VERSION:2.0
PRODID:-//Accademia Olistica Albero della Vita - ECPv6.15.19//NONSGML v1.0//EN
CALSCALE:GREGORIAN
METHOD:PUBLISH
X-ORIGINAL-URL:https://accademiaolisticalberodellavita.it
X-WR-CALDESC:Eventi per Accademia Olistica Albero della Vita
REFRESH-INTERVAL;VALUE=DURATION:PT1H
X-Robots-Tag:noindex
X-PUBLISHED-TTL:PT1H
BEGIN:VTIMEZONE
TZID:UTC
BEGIN:STANDARD
TZOFFSETFROM:+0000
TZOFFSETTO:+0000
TZNAME:UTC
DTSTART:20250101T000000
END:STANDARD
END:VTIMEZONE
BEGIN:VEVENT
DTSTART;TZID=UTC:20260411T100000
DTEND;TZID=UTC:20260412T190000
DTSTAMP:20260419T185838
CREATED:20250714T180001Z
LAST-MODIFIED:20260331T083549Z
UID:8856-1775901600-1776020400@accademiaolisticalberodellavita.it
SUMMARY:Corso di formazione in Tecnica Metamorfica. Inizio corso: 11 e 12 aprile 2026
DESCRIPTION:I CORSI SI SVOLGONO IN AULA A BOLOGNA VIA DELL’ARCOVEGGIO\, 49/7  \nORARIO DEL CORSO\nIl corso si svolge sabato e domenica\, dalle 10 alle 19\, con 2 break e pausa pranzo in ogni giornata (16 ore di formazione in ogni week end). \nDOCENTE: SONJA DEMURU \n  \n  \n11 – 12 aprile 2026: TECNICA METAMORFICA – corso base\n  \nProgramma teorico – pratico \n\nRobert St. John e l’evoluzione dalla Riflessologia plantare alla Tecnica Metamorfica.\nLo schema prenatale: dal pre-concepimento alla nascita. Quando la Coscienza fa il suo ingresso nella nuova vita in divenire?\nIl ruolo delle Influenze nella nostra realizzazione sulla terra: Influenze Materiali e Influenze non Materiali.\nIl principio delle Corrispondenze: tessuti duri\, tessuti molli\, fluidi – Energia\, Pensiero\, Emozioni.\nL’approccio dell’Operatore e l’importanza della non motivazione.\nLa pratica: a chi è rivolta la Tecnica Metamorfica?- Trattamento ai piedi\n– Trattamento alle mani – Trattamento alla testa – Trattamento a distanza – Durata e frequenza\n– L’Operatore\nMassaggio finale con Essenze Floreali e Oli Essenziali per armonizzare le aree del Pensare/Sentire/Volere.\n\n  \nContributo richiesto per il corso in aula: € 198\, compresivi di dispensa di studio e attestato di frequenza \n 
URL:https://accademiaolisticalberodellavita.it/event/corso-di-formazione-in-tecnica-metamorfica/
CATEGORIES:Corso Monotematico,Percorsi Brevi,Percorsi Brevi Interi
ATTACH;FMTTYPE=image/png:https://accademiaolisticalberodellavita.it/wp-content/uploads/2025/07/METAMORFICA-e1774946136907.png
END:VEVENT
END:VCALENDAR