BEGIN:VCALENDAR
VERSION:2.0
PRODID:-//Accademia Olistica Albero della Vita - ECPv6.15.19//NONSGML v1.0//EN
CALSCALE:GREGORIAN
METHOD:PUBLISH
X-WR-CALNAME:Accademia Olistica Albero della Vita
X-ORIGINAL-URL:https://accademiaolisticalberodellavita.it
X-WR-CALDESC:Eventi per Accademia Olistica Albero della Vita
REFRESH-INTERVAL;VALUE=DURATION:PT1H
X-Robots-Tag:noindex
X-PUBLISHED-TTL:PT1H
BEGIN:VTIMEZONE
TZID:UTC
BEGIN:STANDARD
TZOFFSETFROM:+0000
TZOFFSETTO:+0000
TZNAME:UTC
DTSTART:20250101T000000
END:STANDARD
END:VTIMEZONE
BEGIN:VEVENT
DTSTART;TZID=UTC:20260416T203000
DTEND;TZID=UTC:20260416T230000
DTSTAMP:20260419T185626
CREATED:20250917T165052Z
LAST-MODIFIED:20251117T184747Z
UID:9230-1776371400-1776380400@accademiaolisticalberodellavita.it
SUMMARY:FONDAMENTI DI MEDICINA TRADIZIONALE CINESE – 3° incontro
DESCRIPTION:IL CORSO SI SVOLGE IN DIRETTA ONLINE SU PIATTAFORMA ZOOM \nDALLE 20\,30 ALLE 23 \ndocente: Sonja Demuru \nContributo richiesto € 29\, comprensivi di dispensa di studio inviata online \nProgramma dell’incontro \n-ELEMENTO TERRA: COPPIA MILZA/STOMACO \n-ELEMENTO METALLO: COPPIA POLMONE/INTESTINO CRASSO \n-COSTITUZIONE E TIPOLOGIA \n-CICLO DI GENERAZIONE E CICLO DI CONTROLLO \n-LETTURA DEL PIEDE
URL:https://accademiaolisticalberodellavita.it/event/fondamenti-di-medicina-tradizionale-cinese-2-incontro-2/
END:VEVENT
END:VCALENDAR