BEGIN:VCALENDAR
VERSION:2.0
PRODID:-//Accademia Olistica Albero della Vita - ECPv6.15.19//NONSGML v1.0//EN
CALSCALE:GREGORIAN
METHOD:PUBLISH
X-WR-CALNAME:Accademia Olistica Albero della Vita
X-ORIGINAL-URL:https://accademiaolisticalberodellavita.it
X-WR-CALDESC:Eventi per Accademia Olistica Albero della Vita
REFRESH-INTERVAL;VALUE=DURATION:PT1H
X-Robots-Tag:noindex
X-PUBLISHED-TTL:PT1H
BEGIN:VTIMEZONE
TZID:UTC
BEGIN:STANDARD
TZOFFSETFROM:+0000
TZOFFSETTO:+0000
TZNAME:UTC
DTSTART:20250101T000000
END:STANDARD
END:VTIMEZONE
BEGIN:VEVENT
DTSTART;TZID=UTC:20260418T100000
DTEND;TZID=UTC:20260419T190000
DTSTAMP:20260419T131618
CREATED:20250917T165359Z
LAST-MODIFIED:20260410T140557Z
UID:9234-1776506400-1776625200@accademiaolisticalberodellavita.it
SUMMARY:Corso di formazione in Massaggio Californiano: Inizio corso: 18 e 19 aprile 2026
DESCRIPTION:IL CORSO SI SVOLGE IN VIA DELL’ARCOVEGGIO\, 49/7 BOLOGNA \nDocente: Camilla Cavazzoni \nContributo richiesto per il corso in aula € 198 comprensivi di dispensa di studio rilegata e attestato di frequenza cartaceo \nStoria e origini del massaggio californiano. \nPreparazione alla pratica del massaggio: accoglienza del ricevente\, ambiente e centratura\ndell’operatore.\nValutazione generale fisica ed energetica del ricevente.\nBenefici e controindicazioni del massaggio californiano.\nLa postura dell’operatore: danzare con il massaggio.\nL’importanza del contatto.\nAnalisi pratica delle manovre del massaggio californiano:\nPOSIZIONE PRONA\nContatto Iniziale\nDiamo Linfa Alla Pelle\nDal Rilassamento All’armonia\nEffusione Dell’onda\nLa Dolcezza Del Vento\nLa Tenerezza Della Farfalla\nL’abbraccio Dell’anima\nAvvolgimento\nIl bacio del vento\nLa cura degli estremi\nPOSIZIONE SUPINA\nContatto Iniziale\nDiamo Linfa Alla Pelle\nDal Rilassamento All’armonia\nEffusione Dell’onda\nCarezza al cielo\nGrande e piccolo centro\nLa tenerezza della farfalla e la cura del centro\nLa cura degli estremi\nLa leggerezza del saluto\nChiusura del trattamento e indicazioni per il ricevente.\nIndicazioni oli vettori per il massaggio californiano.\nMiscele con oli essenziali ed essenze floreali adatte al massaggio californiano.\nEsercitazione e sviluppo pratico della manualità.
URL:https://accademiaolisticalberodellavita.it/event/massaggio-californiano/
CATEGORIES:Percorsi Brevi,Percorsi Brevi Interi
END:VEVENT
END:VCALENDAR