BEGIN:VCALENDAR
VERSION:2.0
PRODID:-//Accademia Olistica Albero della Vita - ECPv6.15.19//NONSGML v1.0//EN
CALSCALE:GREGORIAN
METHOD:PUBLISH
X-ORIGINAL-URL:https://accademiaolisticalberodellavita.it
X-WR-CALDESC:Eventi per Accademia Olistica Albero della Vita
REFRESH-INTERVAL;VALUE=DURATION:PT1H
X-Robots-Tag:noindex
X-PUBLISHED-TTL:PT1H
BEGIN:VTIMEZONE
TZID:UTC
BEGIN:STANDARD
TZOFFSETFROM:+0000
TZOFFSETTO:+0000
TZNAME:UTC
DTSTART:20250101T000000
END:STANDARD
END:VTIMEZONE
BEGIN:VEVENT
DTSTART;TZID=UTC:20260509T100000
DTEND;TZID=UTC:20260510T190000
DTSTAMP:20260419T204753
CREATED:20251125T205023Z
LAST-MODIFIED:20260320T160149Z
UID:9525-1778320800-1778439600@accademiaolisticalberodellavita.it
SUMMARY:Corso di formazione: I 7 Specchi Esseni e l'Ottavo Specchio. Inizio corso: 9 e 10 maggio 2026
DESCRIPTION:Questo Percorso di formazione ci aiuta a comprendere come le nostre esperienze personali riflettano schemi più profondi e archetipici\, fornendo strumenti di auto-conoscenza e crescita personale.  Ci aiuta a comprendere e trasformare i profondi traumi infantili e i nodi karmici che generano le ferite di: – abbandono – rifiuto – umiliazione – tradimento – ingiustizia.                                                                                                                                                          Queste 5 Ferite Emozionali influenzano e condizionano la nostra vita\, il nostro benessere interiore e le nostre relazioni.  \nRiconoscere i nostri schemi condizionanti e autosabotanti ci permette di lasciare andare ciò che limita la crescita personale e l’espressione dei nostri talenti\, attraverso un processo di accettazione e auto-guarigione interiore.  \n  \nIL CORSO SI SVOLGE IN DIRETTA ONLINE SU PIATTAFORMA ZOOM \nDocente: Maria Cristina Sapori \n  \n9 – 10 maggio 2026: I 7 SPECCHI ESSENI E L’OTTAVO SPECCHIO\n  \nProgramma del corso teorico-esperienziale \n\nLa realtà che ci circonda è lo specchio di ciò che manteniamo dentro di noi L’inconscio e i campi morfici\nChi erano gli Esseni: la tradizione Essena dal Patriarca Enoch a oggi\nStudio dei Sette Specchi secondo la Tradizione Essena\nEssere consapevoli del perchè attiriamo nella nostra vita persone e situazioni -Comprendere come spesso costruiamo visioni distorte di ciò che accade\nEsercizi per iniziare a trasformare le nostre credenze e i nostri condizionamenti limitanti attraverso la comprensione dei Sette Specchi Esseni\nOttavo Specchio: come\, quando e perché si manifesta?\n-Esercizi per comprendere come uscire dall’Ottavo Specchio-deformante la realtà che ci circondano\n\nContributo richiesto per il corso in diretta online su piattaforma ZOOM € 178\, comprensivi di dispensa di studio  e attestato di frequenza inviati online \n  \n 
URL:https://accademiaolisticalberodellavita.it/event/corso-di-formazione-i-7-specchi-esseni-e-lottavo-specchio/
CATEGORIES:Percorsi Brevi,Percorsi Brevi Interi
ATTACH;FMTTYPE=image/jpeg:https://accademiaolisticalberodellavita.it/wp-content/uploads/2025/11/aspecchio-e1764616515314.jpg
END:VEVENT
BEGIN:VEVENT
DTSTART;TZID=UTC:20260510T203000
DTEND;TZID=UTC:20260510T220000
DTSTAMP:20260419T204753
CREATED:20251228T180652Z
LAST-MODIFIED:20251228T180652Z
UID:9739-1778445000-1778450400@accademiaolisticalberodellavita.it
SUMMARY:TIROCINIO E PRATICA CON SUPERVISIONE APERTO A CHI HA FREQUENTATO IL PERCORSO “METODO LIGHT & SOLVE”  E A CHI VUOLE SPERIMENTARE SU DI SE’ IL METODO (ideato da Maria Cristina Sapori)
DESCRIPTION:  \ndalle 10\,30 alle 18 (con pausa pranzo e 2 break)   \nin Via dell’Arcoveggio\, 49/7 Bologna \nCONTRIBUTO RICHIESTO (PER IL RIMBORSO SPESE) € 25 \ndocente: Maria Cristina Sapori
URL:https://accademiaolisticalberodellavita.it/event/tirocinio-e-pratica-con-supervisione-aperto-a-chi-ha-frequentato-il-percorso-metodo-light-solve-e-a-chi-vuole-sperimentare-su-di-se-il-metodo-ideato-da-maria-cristi/
END:VEVENT
END:VCALENDAR