BEGIN:VCALENDAR
VERSION:2.0
PRODID:-//Accademia Olistica Albero della Vita - ECPv6.15.19//NONSGML v1.0//EN
CALSCALE:GREGORIAN
METHOD:PUBLISH
X-WR-CALNAME:Accademia Olistica Albero della Vita
X-ORIGINAL-URL:https://accademiaolisticalberodellavita.it
X-WR-CALDESC:Eventi per Accademia Olistica Albero della Vita
REFRESH-INTERVAL;VALUE=DURATION:PT1H
X-Robots-Tag:noindex
X-PUBLISHED-TTL:PT1H
BEGIN:VTIMEZONE
TZID:UTC
BEGIN:STANDARD
TZOFFSETFROM:+0000
TZOFFSETTO:+0000
TZNAME:UTC
DTSTART:20250101T000000
END:STANDARD
END:VTIMEZONE
BEGIN:VEVENT
DTSTART;TZID=UTC:20260516T100000
DTEND;TZID=UTC:20260517T190000
DTSTAMP:20260419T204402
CREATED:20250714T152222Z
LAST-MODIFIED:20260404T201433Z
UID:8845-1778925600-1779044400@accademiaolisticalberodellavita.it
SUMMARY:Corso di formazione KOMYO REIKI - Metodo Tradizionale Giapponese di  MIKAO USUI - 3° livello. Inizio corso: 16 e 17 maggio  2026
DESCRIPTION:  \nINSEGNANTE: SONJA DEMURU \n\n\n\nORARIO CORSO: Sabato e Domenica dalle 10 alle 19 (con pausa pranzo e 2 break) \nSEDE CORSO: Accademia Olistica Albero della Vita Via dell’Arcoveggio\, 49/7 Bologna \n\n\n\n\n\n\n\n\n\n\n\n\n\n\n\n\n\n  \n\n\n\n \n\n\n\n16 – 17 maggio 2026: KOMYO REIKI – Metodo Tradizionale Giapponese di MIKAO USUI –  3° Livello (OKUDEN)\n\n\n\nProgramma del corso \n• Okuden\, il livello spirituale del Maestro interiore • Il “non fare” come superiore stato di consapevolezza • Il Quarto Shirushi\, disegno\, spiegazione e utilizzo • Meditazioni con il quarto Shirushi • Purificazione e protezione con il quarto Shirushi • Autotrattamento di terzo livello • Trattamento agli altri e trattamento a distanza • Trattamento con tutti i Simboli ReikiTecniche avanzate di terzo livello: • Aibu Reiki\, accarezzare\, picchiettare\, premere e disperdere • Souhou\, contatto/carezza Reiki • Junsei Kuuhaku\, purificazione degli ambienti • Hesso Chiryo\, riequilibrio attraverso l’ombelico • Genetsu Ho e Byogen Chiryo\, tecniche di riequilibrio energetico • Hoki Ho\, trasmettere Reiki con il soffio • Gyoshi Ho\, trasmettere Reiki con gli occhi • Enkaku Chiryo\, varie modalità di trattamento a distanza • Scambio Trattamento • Cerchio finale e consegna attestato \n\n\n\nDurante il livello Okuden verranno effettuati due Reiju (armonizzazioni) \nContributo richiesto € 215\, comprensivi di dispensa di studio e attestato di frequenza \n  \n\n\n\n  \n  \n\nIMPORTANTE: Da ottobre  2026 i corsi di Komyo Reiki  – Metodo Tradizionale Giapponese di MIKAO USUI – si svolgeranno in una giornata per renderli più accessibili a tutti e saranno organizzati pomeriggi e serate di scambio Reiki per permettere agli allievi di approfondire le tecniche e gli insegnamenti ricevuti durante i corsi. \n\n\n\n \n  \n  \n25 ottobre 2026: KOMYO REIKI – Metodo Tradizionale Giapponese di MIKAO USUI – 1° livello (SHODEN)\n  Programma del corso \nIl nuovo  programmi sarà pubblicato entro aprile 2026\n\n\n\n \n  \nDurante il livello Shoden verranno effettuati quattro Reiju (armonizzazioni)\n\n \nContributo richiesto € 155\, comprensivi di dispensa di studio e attestato di frequenza \n  \n  \ndicembre 2026: KOMYO REIKI – Metodo Tradizionale Giapponese di MIKAO USUI – 2° livello (CHUDEN)\nProgramma del corso \nIl nuovo programma sarà pubblicato entro aprile 2026 \n\n\n \n  \nDurante il livello Chuden verranno effettuati quattro Reiju (armonizzazioni) \nContributo richiesto € 175  \, comprensivi di dispensa di studio e attestato di frequenza \n\n\n \n  \n  \ngiugno 2027: KOMYO REIKI – Metodo Tradizionale Giapponese di MIKAO USUI – 3° livello (OKUDEN)\nProgramma del corso \nIl nuovo programma sarà pubblicato entro aprile 2026 \n  \nContributo richiesto € 215\,  comprensivi di dispensa di studio e attestato di frequenza \n\n\n\n  \n\n\n\n  \nMAESTRATO REIKI (SHINPIDEN) 4° LIVELLO\n\n\n \nShinpiden\, la scelta di condividere con gli altri.\n\n\n\nDopo aver completato i 3 livelli REIKI è possibile accedere al Percorso per diventare Maestri di Reiki prevede due Week End di formazione\, durante i quali verranno insegnate le corrette procedure per le armonizzazioni e verranno approfonditi i principi spirituali del Reiki. Durante il livello Shinpiden verranno effettuati quattro Reiju. Saranno inoltre verificate le competenze acquisite nei precedenti livelli. \n\n\n\nPer accedere al Percorso di Maestrato Reiki è necessario prendere accordi con la Direzione Didattica: \n\n\n\ncell 328 6861180 email: scuolaolisticalberodellavita@gmail.com \n\n\n\n 
URL:https://accademiaolisticalberodellavita.it/event/percorso-di-formazione-per-diventare-operatore-reiki-metodo-tradizionale-giapponese-usui/
CATEGORIES:Percorsi Brevi,Percorsi Brevi Interi
ATTACH;FMTTYPE=image/jpeg:https://accademiaolisticalberodellavita.it/wp-content/uploads/2025/07/Simbolo-Dai-Ko-Myo-Dario-Canil-e1775332502468.jpg
END:VEVENT
BEGIN:VEVENT
DTSTART;TZID=UTC:20260516T100000
DTEND;TZID=UTC:20260517T190000
DTSTAMP:20260419T204402
CREATED:20250714T182500Z
LAST-MODIFIED:20260320T161042Z
UID:8891-1778925600-1779044400@accademiaolisticalberodellavita.it
SUMMARY: Corso di formazione per apprendere l'Arte della Creazione dei Mandala\, strumento di Autoguarigione. Inizio corso: 16 e 17 maggio 2026
DESCRIPTION:  \nIL CORSO SI SVOLGE IN VIA DELL’ARCOVEGGIO\, 49/7 BOLOGNA \n \nORARIO: dalle 10 alle 19\, con 2 break e pausa pranzo (16 ore di formazione) \n \nDOCENTE: ANGELA SALZANO \n  \nIl corso è strutturato in due giornate dedicate a riscoprire l’ aspetto più importante e sacro: l’Amore per\nnoi stessi. Scopriremo attraverso il processo creativo del Mandala come esprimere noi\nstessi e ritrovare la nostra essenza più autentica.\nIl Mandala non è solo un disegno\, ma da sempre rappresenta un Simbolo di Protezione\, un\nPortale energetico potentissimo che dona “ordine ed equilibrio”. \nIl Corso è rivolto:\n– a chi desidera sviluppare la propria creatività come strumento evolutivo\n– a chi desidera riequilibrare il proprio stato emotivo\, prevenire e gestire lo stress\,\ntrasformare la rabbia in una grande forza creatrice\n– a chi vuole sviluppare le sue capacità di concentrazione\n– a chi ha difficoltà a meditare\n– a chi vuole alleviare tensione e stress\n– a chi desidera integrare l’Arte del Mandala nella propria professione\n– a chi desidera semplicemente dedicare del tempo creativo a se stesso \n  \n  \n16 – 17 MAGGIO 2026: Il MANDALA\, STRUMENTO DI DI AUTO-GUARIGIONE: APPRENDERE L’ARTE DELLA CREAZIONE DEI MANDALA – Corso base \n  \nProgramma del corso pratico-esperienziale\n– Conoscere il Mandala: Storia del Mandala e dei Mandala nella crescita personale\n– Strumenti\, tecniche e colori: come realizzare un Mandala con la tecnica del\npuntinismo\n– Creazione in aula del nostro Mandala personale\n– Visualizzazione creativa con il Mandala realizzato\n– Considerazioni e condivisioni \n  \nContributo richiesto per il corso in aula € 198\, comprensivi di dispensa di studio rilegata e attestato di frequenza cartaceo
URL:https://accademiaolisticalberodellavita.it/event/corso-di-formazione-per-apprendere-larte-della-creazione-dei-mandala-strumento-di-autoguarigione/
CATEGORIES:Percorsi Brevi Interi
ATTACH;FMTTYPE=image/jpeg:https://accademiaolisticalberodellavita.it/wp-content/uploads/2025/06/IMG_0952-scaled-e1750001490655.jpg
END:VEVENT
BEGIN:VEVENT
DTSTART;TZID=UTC:20260516T100000
DTEND;TZID=UTC:20260517T190000
DTSTAMP:20260419T204402
CREATED:20251227T213140Z
LAST-MODIFIED:20251227T213140Z
UID:9684-1778925600-1779044400@accademiaolisticalberodellavita.it
SUMMARY: USUI REIKI RYOHO 3° Livello Okuden
DESCRIPTION:IL CORSO SI SVOLGE IN VIA  DELL’ARCOVEGGIO\, 49/7 BOLOGNA \nInsegnante: Sonja Demuru \nContributo richiesto per il corso in aula € 215 comprensivi di dispensa di studio rilegata e attestato di frequenza cartaceo \nProgramma del corso \n-Okuden\, il livello spirituale del Maestro interiore \n-Il “non fare” come superiore stato di consapevolezza \n-Il Quarto Shirushi\, disegno\, spiegazione e utilizzo \n-Meditazioni con il quarto Shirushi \n-Purificazione e protezione con il quarto Shirushi \n-Autotrattamento di terzo livello \n-Trattamento agli altri e trattamento a distanza \n-Trattamento con tutti i Simboli Reiki \n-Tecniche avanzate di terzo livello: \n-Aibu Reiki\, accarezzare\, picchiettare\, premere e disperdere \n-Souhou\, contatto/carezza Reiki \n-Junsei Kuuhaku\, purificazione degli ambienti \n-Hesso Chiryo\, riequilibrio attraverso l’ombelico \n-Genetsu Ho e Byogen Chiryo\, tecniche di riequilibrio energetico \n-Hoki Ho\, trasmettere Reiki con il soffio \n-Gyoshi Ho\, trasmettere Reiki con gli occhi \n-Enkaku Chiryo\, varie modalità di trattamento a distanza \n-Scambio Trattamento \n-Cerchio finale e consegna attestato
URL:https://accademiaolisticalberodellavita.it/event/usui-reiki-ryoho-3-livello-okuden/
ATTACH;FMTTYPE=image/jpeg:https://accademiaolisticalberodellavita.it/wp-content/uploads/2024/10/reiki-1-e1745866292374.jpeg
END:VEVENT
END:VCALENDAR