BEGIN:VCALENDAR
VERSION:2.0
PRODID:-//Accademia Olistica Albero della Vita - ECPv6.15.19//NONSGML v1.0//EN
CALSCALE:GREGORIAN
METHOD:PUBLISH
X-ORIGINAL-URL:https://accademiaolisticalberodellavita.it
X-WR-CALDESC:Eventi per Accademia Olistica Albero della Vita
REFRESH-INTERVAL;VALUE=DURATION:PT1H
X-Robots-Tag:noindex
X-PUBLISHED-TTL:PT1H
BEGIN:VTIMEZONE
TZID:UTC
BEGIN:STANDARD
TZOFFSETFROM:+0000
TZOFFSETTO:+0000
TZNAME:UTC
DTSTART:20250101T000000
END:STANDARD
END:VTIMEZONE
BEGIN:VEVENT
DTSTART;TZID=UTC:20260710T150000
DTEND;TZID=UTC:20260712T170000
DTSTAMP:20260420T003455
CREATED:20251227T215123Z
LAST-MODIFIED:20251227T215123Z
UID:9708-1783695600-1783875600@accademiaolisticalberodellavita.it
SUMMARY:RESIDENZIALE OLISTICO ESTIVO
DESCRIPTION:presso Agriturismo Germogli – Tenuta Fassia – Gubbio (PG) \nProgramma delle giornate \nTrascorreremo insieme3 intense giornate sulle colline di Gubbio (vicino ad Assisi)\, presso l’agriturismo Germogli – Tenuta di Fassia\, un luogo di pace in mezzo alla natura. \nLe nostre giornate comprenderanno tante attività: \nMeditazioni Creative in riva al lago accompagnate dagli strumenti delle tradizioni antiche per entrare in contatto col proprio sentire profondo e con la magia dei luoghi con Maria Cristina Sapori\, Alessio Bennati (Alce Bianco) e Linda Ferioli \nstudio e pratica delle tecniche di stimolazione dei punti neurovascolari per migliorare la funzione cerebrale\, il benessere generale e alleviare lo stress (tratte dalTouch for Health – Kinesiologia Biosistematica) con Maria Cristina Sapori \npratica di esercizi di Movimento Integrato Bioenergetico per liberare le tensioni emotive represse\, migliorare il flusso di energia vitale e aumentare la consapevolezza di sé attraverso esercizi fisici e respiratori mirati per alleviare ansia\, stress e favorire vitalità e benessere con Maria Cristina Sapori \nraccolta dei fiori per la preparazione di Essenze Floreali e preparazione di Spray Vibrazionali per la purificazione e la protezione del nostro Campo Aurico con Maria Cristina Sapori \nBagni di Armonizzazione Sonora per immergersi nelle vibrazioni di Campane di Cristallo\, Tamburo Sciamanico\, Strumenti delle Tradizioni Antiche e Voce con Alessio Bennati (Alce Bianco e Linda Ferioli \npratica del Gibberish\, strumento di liberazione emotiva e creatività\, simile a un gioco o a una meditazione dinamica\, per “svuotare” la mente e uscire da schemi di pensiero razionali e giudicanti con Maria Cristina Sapori \ncostruzione del proprio Tamburo Sciamanico e la teoria e pratica per imparare a suonarlo (il corso è facoltativo e chi vuole costruire il proprio tamburo deve comunicarlo almeno 1 mese prima dell’inizio del Residenziale) con Alessio Bennati (Alce Bianco) e Linda Ferioli \nIl costo del Tamburo Sciamanico varia a secondo delle misure: \n– € 155 per il diametro 45 cm \n– € 175 (diametro 55 cm \n(naturalmente da aggiungere al costo del Residenziale) \n… momenti di svago\, relax \ne passeggiate al tramonto in riva al lago  \nCONTRIBUTO PER IL RESIDENZIALE OLISTICO DI 3 GIORNI \n(dalle 15 di venerdì alle ore 16\,30 di domenica)\, comprensivo di 2 \npernottamenti con colazioni\, pranzi e cene (cibo vegetariano e \nbiologico) tutte le attività con gli insegnanti e il materiale per la \npreparazione degli Spray Vibrazionali e delle Essenze Floreali: \n€ 396 a persona in camera doppia \n€ 369 a persona in camera tripla \n€ 339 a persona in camera quadrupla \n€ 435 in camera doppia uso singola (se c’è disponibilità) \nCon più di 15 allievi partecipanti ci sarà uno sconto: \n€ 369 a persona in camera doppia \n€ 339 a persona in camera tripla \n€ 315 in camera quadrupla \n€ 396 in camera doppia uso singola (se c’è disponibilità) \nE’ indispensabile comunicare la propria prenotazione entro il 15 \ngennaio 2026 e versare un acconto di € 55 entro il 31 gennaio \n2026. \nUn mese prima del Residenziale si verserà il secondo acconto di € \n55 e il saldo rimanente si verserà ad inizio Residenziale. \nIl Residenziale Olistico rilascia 50 ECP validi per il mantenimento \ndell’iscrizione nel Registro degli Operatori Olistici – SIAF Italia \nI POSTI SONO LIMITATI
URL:https://accademiaolisticalberodellavita.it/event/residenziale-olistico-estivo/
ATTACH;FMTTYPE=image/jpeg:https://accademiaolisticalberodellavita.it/wp-content/uploads/2025/12/TENUTA-FASSIA.jpeg
END:VEVENT
END:VCALENDAR