BEGIN:VCALENDAR
VERSION:2.0
PRODID:-//Accademia Olistica Albero della Vita - ECPv6.15.19//NONSGML v1.0//EN
CALSCALE:GREGORIAN
METHOD:PUBLISH
X-WR-CALNAME:Accademia Olistica Albero della Vita
X-ORIGINAL-URL:https://accademiaolisticalberodellavita.it
X-WR-CALDESC:Eventi per Accademia Olistica Albero della Vita
REFRESH-INTERVAL;VALUE=DURATION:PT1H
X-Robots-Tag:noindex
X-PUBLISHED-TTL:PT1H
BEGIN:VTIMEZONE
TZID:UTC
BEGIN:STANDARD
TZOFFSETFROM:+0000
TZOFFSETTO:+0000
TZNAME:UTC
DTSTART:20250101T000000
END:STANDARD
END:VTIMEZONE
BEGIN:VEVENT
DTSTART;TZID=UTC:20261010T100000
DTEND;TZID=UTC:20261011T190000
DTSTAMP:20260419T205350
CREATED:20250711T202256Z
LAST-MODIFIED:20260402T083226Z
UID:8763-1791626400-1791745200@accademiaolisticalberodellavita.it
SUMMARY:Percorso di formazione per diventare Operatore in Riflessologia Plantare Olistica Integrata – Inizio corsi: 10 e 11  ottobre 2026
DESCRIPTION:I CORSI SI SVOLGONO IN PRESENZA  A BOLOGNA VIA DELL’ARCOVEGGIO\, 49/7 (a 10 minuti dalla Stazione Ferroviaria di Bologna e a 5 minuti in auto dalla Tangenziale di Bologna\, con ampio parcheggio). \nORARI CORSO \nsabato e domenica\, dalle 10 alle 19. Le giornate prevedono 2 break e la pausa pranzo \nDOCENTE: SONJA DEMURU   \nIl percorso di specializzazione è composto da 3 week di formazione (48 ore in aula) + 3 gruppi di studio e supervisione gratuiti in diretta online + tirocinio) \nAffronteremo insieme un viaggio particolarmente affascinante alla scoperta della Riflessologia Plantare\,  tecnica meravigliosa che vede riflesso tutto il nostro corpo\, fisico ed emozionale\, nei nostri piedi. Impareremo la tecnica\, con uno sguardo particolare alla Medicina Tradizionale Cinese\, per portare sollievo al corpo fisico ed integreremo queste conoscenze con le straordinarie virtù dei Fiori di Bach e degli Oli essenziali per portare equilibrio ai nostri corpi energetici. Il percorso sarà suddiviso in 3 moduli\, più mezza giornata dedicata all’esame finale\, al termine della quale\,  verrà rilasciato l’Attestato finale di Operatore in Riflessologia Plantare Olistica Integrata. \n“È nei piedi la nostra coscienza”. Alberto Savinio\, Inno al piede\, 1949 \n  \nPROGRAMMA DEL PERCORSO \n10 e 11  OTTOBRE 2026: RIFLESSOLOGIA PLANTARE OLISTICA INTEGRATA – 1° Modulo \nProgramma teorico-pratico \n– Storia della Riflessologia Plantare fra Oriente e Occidente: dalle tradizioni cinese\,\negizia e degli indiani d’America fino ai giorni nostri.\n– L’approccio Olistico: analisi visiva\, tattile e valutazione energetica.\n– Indicazioni\, controindicazioni e reazioni del massaggio delle zone riflesse.\n– Struttura del piede: ossa e articolazioni\, tarso\, metatarso\, falangi.\n– Le varie tecniche di massaggio.\n– Le prese di preparazione: armonizzanti\, sfregamento e stiramento.\n– Uno sguardo alla filosofia cinese: dal Dao alla creazione del Mondo\, Yin e Yang\, i\ncinque Elementi\, I Tre Tesori\, Organi pieni e visceri. \nELEMENTO ACQUA: COPPIA RENE/VESCICA\n• Caratteristiche Elemento Acqua.\n• Tipologia riferita ai cinque Elementi: differenza fra Costituzione e Tiopologia.\n• Tipologia riferita all’Elemento Acqua: equilibrio/eccesso/deficit.\n• L’energia innata\, il Jing e l’Organo Principe: importanza dell’apparato\nUrinario per l’equilibrio idrico del corpo.\n• Distretti della coppia energetica Rene Vescica:\n• Il Sistema Riproduttivo.\n• La Colonna Vertebrale e il Midollo. \n• Alimentazione\, Essenze Floreali e Oli Essenziali indicati per mantenere in\nequilibrio l’Elemento Acqua nel nostro corpo.\n• Protocolli Sistema Urinario\, Apparato Riproduttivo e Colonna Vertebrale. \nCosto € 235\, comprensivi di dispensa di studio e mappe plastificate di Riflessologia Plantare Olistica Integrata \n  \nNOVEMBRE 2026: RIFLESSOLOGIA PLANTARE OLISTICA INTEGRATA – 2° Modulo \nProgramma del corso teorico-pratico \nELEMENTO LEGNO: COPPIA FEGATO/CISTIFELLEA\n• Caratteristiche Elemento Legno.\n• Tipologia riferita all’Elemento Legno: equilibrio/eccesso/deficit.\n• Il nutrimento della Terra: Sistema Digestivo.\n• Alimentazione\, Essenze Floreali e Oli Essenziali indicati per mantenere in\nequilibrio l’Elemento Legno nel nostro corpo.\n• Le porte del Sistema Digestivo.\n• Protocollo Sistema Digestivo. \nELEMENTO FUOCO: COPPIA CUORE/INTESTINO TENUE\n• Il grande Imperatore e Signore degli Organi: il Cuore\, sede dello Shen.\n• Caratteristiche Elemento Fuoco.\n• Tipologia riferita all’Elemento Fuoco: equilibrio/eccesso/deficit.\n• Alimentazione\, Essenze Floreali e Oli Essenziali indicati per mantenere in\nequilibrio l’Elemento Fuoco nel nostro corpo. \nSISTEMA ENDOCRINO\n• Le porte di connessione fra la Terra e il Cielo.\n• Importanza del sistema Endocrino per l’equilibrio psico/fisico/emozionale.\n• Alimentazione\, Essenze Floreali e Oli Essenziali indicati per mantenere in\nequilibrio il Sistema Endocrino nel nostro corpo.\n• Protocollo Sistema Endocrino. \n• MASSAGGIO PRELIMINARE \nCosto € 235\, comprensivi di dispensa di studio \nGENNAIO 2027: RIFLESSOLOGIA PLANTARE OLISTICA INTEGRATA – 3° Modulo \nProgramma del corso teorico-pratico \nELEMENTO TERRA: COPPIA MILZA/STOMACO\n• Il nutrimento della madre\, dispensatrice di forma e vita.\n• Caratteristiche Elemento Terra.\n• Tipologia riferita all’Elemento Terra: equilibrio/eccesso/deficit.\n• Il patrimonio ereditato: Il Sistema Linfatico.\n• Alimentazione\, Essenze Floreali e Oli Essenziali indicati per mantenere in\nequilibrio l’Elemento Terra nel nostro corpo.\n• Preparazione olio da massaggio con Oli Essenziali ed Essenze Floreali.\n• Protocollo Sistema Linfatico. \nELEMENTO METALLO: COPPIA POLMONE/INTESTINO CRASSO\n• Il nutrimento del Cielo: il Polmone Ministro del Qi.\n• Caratteristiche Elemento Metallo.\n• Tipologia riferita all’Elemento Metallo: equilibrio/eccesso/deficit.\n• Il Sistema Respiratorio: caratteristiche e funzionamento.\n• Alimentazione\, Essenze Floreali e Oli Essenziali indicati per mantenere in\nequilibrio l’Elemento Metallo nel nostro corpo.\n• Protocolli Gabbia toracica e Respiro delle Ossa.\n• Protocollo Sistema Respiratorio. \nRELAZIONI TRA I CINQUE ELEMENTI\n• Ciclo di Generazione e Ciclo di Controllo. \n• SIGNIFICATO IN PSICOSOMATICA DELLE DITA DEI PIEDI\n• CONSIGLI PER SQUILIBRI VARI \nCosto € 235\, comprensivi di dispensa e attestato di frequenza dell’intero percorso (48 ore + 3 gruppi di studio gratuiti tenuti in diretta online + tirocinio) \n Al termine del percorso (3 livelli per un totale di 48 ore di teoria + 3 gruppi studio con supervisione gratuita + tirocinio) sarà possibile sostenere l’esame per il conseguimento dell’Attestato Finale del Percorso di Riflessologia Plantare Olistica Integrata. Il contributo richiesto per la sessione d’esame è di € 45. \nNOTA BENE: L’esame finale non è obbligatorio. \n  \nFEBBRAIO 2027 ore 9/13: esame finale  \n 
URL:https://accademiaolisticalberodellavita.it/event/percorso-di-formazione-per-diventare-operatore-in-riflessologia-plantare-olistica-integrata-inizio-corsi-17-18-ottobre-2026/
CATEGORIES:Percorsi Brevi Interi
ATTACH;FMTTYPE=image/jpeg:https://accademiaolisticalberodellavita.it/wp-content/uploads/2025/07/FOTO-RIFLESSOLOGIA-ALTA-JPEG-scaled-e1759860516912.jpeg
END:VEVENT
END:VCALENDAR