BEGIN:VCALENDAR
VERSION:2.0
PRODID:-//Accademia Olistica Albero della Vita - ECPv6.15.19//NONSGML v1.0//EN
CALSCALE:GREGORIAN
METHOD:PUBLISH
X-WR-CALNAME:Accademia Olistica Albero della Vita
X-ORIGINAL-URL:https://accademiaolisticalberodellavita.it
X-WR-CALDESC:Eventi per Accademia Olistica Albero della Vita
REFRESH-INTERVAL;VALUE=DURATION:PT1H
X-Robots-Tag:noindex
X-PUBLISHED-TTL:PT1H
BEGIN:VTIMEZONE
TZID:UTC
BEGIN:STANDARD
TZOFFSETFROM:+0000
TZOFFSETTO:+0000
TZNAME:UTC
DTSTART:20250101T000000
END:STANDARD
END:VTIMEZONE
BEGIN:VEVENT
DTSTART;TZID=UTC:20261107T100000
DTEND;TZID=UTC:20261108T190000
DTSTAMP:20260419T191754
CREATED:20250714T123750Z
LAST-MODIFIED:20260211T001737Z
UID:8810-1794045600-1794164400@accademiaolisticalberodellavita.it
SUMMARY:Percorso di formazione in Campane di Cristallo e Massaggio Sonoro – Inizio corsi: 7 -8- novembre 2026
DESCRIPTION:I CORSI SI SVOLGONO A BOLOGNA IN VIA DELL’ARCOVEGGIO\, 49/7 \nORARIO CORSI \nsabato e domenica dalle 10 alle 19\, con 2 break e la pausa pranzo (16 ore di formazione) \n  \nDOCENTE: BARBARA MAGNONI \n  \nPROGRAMMA DEL PERCORSO\n7 – 8 novembre 2026: Campane di Cristallo e Massaggio Sonoro – 1° livello (corso intensivo)\nDocente: Barbara Magnoni \nIL CORSO SI SVOLGE A BOLOGNA VIA DELL’ARCOVEGGIO\, 49/7 \nProgramma del corso teorico-esperienziale \n\ncosa sono le campane di quarzo\ndifferenze tra campane di quarzo e ciotole tibetane\nle campane alchemiche\nverifica del suono di eventuali campane portate dagli allievi\nil potere del suono\ncos’è l’Armonia: Pitagora\, armonia\, matematica e musica\ndifferenza tra melodia e armonia\nquale strumento scegliere\naccordatura 440 vs 432hz\, cenni storici e conclusioni\nesercizio di gruppo per scegliere la propria campana\nil battente (o batacchio)\, percussione e sfregamento\nascolto e semplicità prima di tutto: entrare in connessione con le campane per sviluppare lagiusta sensibilità\npratica insieme\nl’importanza dell’intenzione: esercizi\nattivazione dell’acqua con la vibrazione della campana\npurificazione e riequilibrio dei cristalli e degli ambienti con la campana\narmonizzazione di gruppo con le campane e condivisioni\n\nContributo richiesto € 198\, comprensivi di dispensa di studio rilegata e attestato di frequenza \n  \n 23 – 24 gennaio 2027: Campane di Cristallo e Massaggio Sonoro – 2° livello\nDocente: Barbara Magnoni \nIL CORSO SI SVOLGE A BOLOGNA VIA DELL’ARCOVEGGIO\, 49/7 \nProgramma del corso teorico-esperienziale \n\ncondivisione\, chiarimenti e approfondimenti sugli argomenti affrontati nel primo modulo\ni sette Chakra più importanti e come riequilibrarli con una o più campane: trattamento e autotrattamento\npratica\, scambi e condivisioni\ntrattamenti mani e piedi\ne se voglio acquistare più di una campana? come orientarsi sulla scelta\ngli intervalli musicali più importanti da utilizzare nei trattamenti e frequenze binaturali\nl’ausilio fondamentale del bordone per sciogliere i blocchi emotivi con una sola campana\nl’ausilio fondamentale del bordone per un trattamento di radicamento con una sola campana\ncreare una bolla energetica protetta con la campana prima di un trattamento\nmassaggio sonoro prono e supino con una o più campane\npratica e scambi\nquando la campana diventa il bordone per la voce: esercizi semplici\nmeditare con la campana e i mantra\nsuggerimenti di integrazione con altre tecniche energetiche\ncome integrare eventuali altri strumenti armonici\n\nContributo richiesto € 198\, comprensivi di dispensa di studio rilegata e attestato di frequenza \n  \n\nper chi vuole si può completare il Percorso Sonoro con i seguenti corsi di approfondimento:\n\n  \n19 – 20 settembre 2026: Campane Tibetane e Strumenti delle Tradizioni Ancestrali: conoscerli e imparare a suonarli per l’armonia e il benessere della persona\ndocenti: Barbara Magnoni\, Alessio Bennati (Alce Bianco) e Linda Ferioli \nIL CORSO SI SVOLGE A BOLOGNA V(la sede precisa del corso sarà indicata entro febbraio 2026) \nProgramma del corso teorico-esperienziale \nSABATO: \n-campane tibetane: origini e tipologie \n-come sceglierle e abbinarle \n-suono\, armonici naturali e legge di risonanza: cosa sono e come agiscono sul corpo fisico e sui corpi sottili \n-affinare l’ascolto\, non solo attraverso l’udito \n-L’imprescindibilità dell’intenzione \n-tecniche di percussione e sfregamento \n-trattamento individuale e autotrattamento \nDOMENICA: \n-imparare a conoscere gli effetti e a utilizzare alcuni fra gli strumenti delle Tradizioni Ancestrali: \nmonocordo\, arpe tubolari\, gong\, tamburo\, koschi \n-Pratica insieme \n  \nContributo richiesto per il corso in presenza € 198\, comprensivi di attestato di frequenza \n  \n\n10 – 11 ottobre 2026: Come condurre un Bagno Sonoro individuale e collettivo\ndocenti: Alessio Bennati (Alce Bianco)\, Linda Ferioli e Barbara Magnoni \nIL CORSO SI SVOLGE A BOLOGNA V(la sede precisa del corso sarà indicata entro febbraio 2026) \nProgramma del corso esperienziale\n-comprendere come fare un trattamento energetico-sonoro usando strumenti musicali delle\nAntiche e Nuove Tradizioni (tamburo sciamanico\, campane\, shruti box\, koshi\, cimbali\, sonagli\, e altro\nancora) integrandoli con altre tecniche vibrazionali per portare benessere e armonia individuale o in un gruppo\n-comprendere come creare uno Spazio Sacro e come leggere il linguaggio del corpo\, le reazioni emotive e il campo aureo di ogni partecipante\n-l’importanza di permettere che l’esperienza del Bagno di Suoni sia armoniosa e offerta con amorevolezza e grande presenza\n-comprendere con fare una Limpia Sciamanica (pulizia del Campo Energetico)\n-comprendere come realizzare un Bagno di Suoni per stimolare il sistema di equilibrio\ndel corpo e attivare una profonda riparazione a livello cellulare\, percependo come la\nvibrazione sonora produca un profondo effetto rilassante a tutti i livelli dell’Essere\n-pratica in aula\n-domande e risposte \n  \nContributo richiesto per il corso in presenza € 198\, comprensivi di attestato di frequenza
URL:https://accademiaolisticalberodellavita.it/event/percorso-di-formazione-per-diventare-operatore-in-campane-di-cristallo-e-massaggio-sonoro-inizio-corsi-7-8-novembre-2026/
CATEGORIES:Percorsi Brevi,Percorsi Brevi Interi
ATTACH;FMTTYPE=image/jpeg:https://accademiaolisticalberodellavita.it/wp-content/uploads/2020/12/barbara-e1745423836571.jpeg
END:VEVENT
END:VCALENDAR