BEGIN:VCALENDAR
VERSION:2.0
PRODID:-//Accademia Olistica Albero della Vita - ECPv6.15.19//NONSGML v1.0//EN
CALSCALE:GREGORIAN
METHOD:PUBLISH
X-ORIGINAL-URL:https://accademiaolisticalberodellavita.it
X-WR-CALDESC:Eventi per Accademia Olistica Albero della Vita
REFRESH-INTERVAL;VALUE=DURATION:PT1H
X-Robots-Tag:noindex
X-PUBLISHED-TTL:PT1H
BEGIN:VTIMEZONE
TZID:UTC
BEGIN:STANDARD
TZOFFSETFROM:+0000
TZOFFSETTO:+0000
TZNAME:UTC
DTSTART:20250101T000000
END:STANDARD
END:VTIMEZONE
BEGIN:VEVENT
DTSTART;TZID=UTC:20261121T100000
DTEND;TZID=UTC:20261122T190000
DTSTAMP:20260419T190931
CREATED:20250714T123528Z
LAST-MODIFIED:20260410T140640Z
UID:8808-1795255200-1795374000@accademiaolisticalberodellavita.it
SUMMARY:Percorso di formazione in Erboristeria pratica: imparare a utilizzare erbe officinali e preparati naturali per mantenere benessere e forma fisica. Inizio corsi: 21 e 22 novembre 2026
DESCRIPTION:ORARI CORSO: sabato e domenica dalle 10 alle 19 (con pausa pranzo e 2 break in entrambe le giornate) \nSEDE C ORSO: i primi due corsi si svolgono in diretta online sulla Piattaforma Zoom; il terzo corso si svolge unicamente in presenza in Via F. Betti\, 6 SAN LAZZARO di Savena (BO) \n  \nDOCENTE Maria Cristina Sapori \n  \n21 – 22 novembre 2026: ERBORISTERIA PRATICA: STUDIO E APPLICAZIONI PRATICHE DI PIANTE OFFICINALI E RIMEDI NATURALI – 1° modulo\nProgramma del corso: \n\nQual è la differenza tra tinture madri\, gemmoderivati\, infusi\, decotti\, oleoliti\, oli essenziali\, compresse\, opercoli\, gellule\nStudio approfondito di erbe e rimedi naturali e cibi per mantenere il naturale stato di benessere del nostro corpo\, step by step:\nPrimo step – Come detossinare il nostro corpo: depurazione; come utilizzare il succo di limone biologico; erbe e preparati naturali per la depurazione\nSecondo step – Apparato cardio-circolatorio: erbe e rimedi naturali per il benessere di vene e arterie\nTerzo step – Apparato respiratorio: erbe e rimedi naturali per il benessere di gola\, bronchi e polmoni\nQuarto step – Apparato muscolo scheletrico: erbe e rimedi naturali per il benessere di ossa e muscoli\nQuinto step – Apparato digerente: erbe e rimedi naturali per il benessere di fegato\, stomaco e colon\nSesto step – Apparato uro-genitale: erbe e rimedii naturali per mantenere il benessere delle vie urinarie e dell’apparato riproduttore\nDomande e risposte e studio di casi portati dagli allievi\n\n  \nContributo richiesto per il corso in diretta online: € 198 comprensivi di dispensa di studio\, attestato di frequenza e la registrazione dell’intero corso inviati online \ngennaio 2027: ERBORISTERIA PRATICA: INTERAZIONI FRA ERBE E FARMACI – VITAMINE – STUDIO APPROFONDITO DI ERBE E RIMEDI NATURALI IN CASO DI SONNO DISTURBATO\, STRESS\, CALI D’UMORE\, IMPURITA’ DELLA PELLE\, RUGHE E INVECCHIAMENTO CUTANEO 2° modulo\nProgramma del corso \n\nControllo dei prodotti erboristi: purezza e titolazione\nFitopreparati e farmacopea\nStudio delle controindicazioni delle piante officinali per utilizzare in modo efficace e sicuro\nInterazioni fra piante officinali e farmaci\nLe vita:mine: preziose alleate per la nostra salute\nVitamine idrosolubili e liposolubili\nI segni di carenza delle diverse vitamine\nI segni di eccessiva assunzione dei pre4parati vitaminici\nErbe e rimedi naturali per un buon riposo\nErbe e rimedi naturali da utilizzare in caso di stress\nErbe e rimedi naturali per i cali d’umore\nErbe e rimedi naturali per le impurità della pelle\nErbe e rimedi naturali per prevenire le rughe e l’invecchiamento cutaneo\nDomande e risposte e studio di casi portati dagli allievi\n\nContributo richiesto per il corso in diretta online: € 198 comprensivi di dispensa di studio\, attestato di frequenza e la registrazione dell’intero corso inviati online \nmarzo 2027: ERBORISTERIA PRATICA: PREPARAZIONE DI OLEOLITI E SPRAY VIBRAZIONALI 3° modulo\nProgramma del corso teorico-pratico \n\nCome si preparano gli oleoliti: preparazione in aula dell’oleolito di calendula e dell’oleolito di lavanda (ogni allievo porterà a casa gli oleoliti che ha pre4parato durante il corso)\nCome si preparano gli spray vibrazionali; preparazione di 2 spray vibrazionali a base di essenze floreali e oli essenziali per l’armonia di corpo e mente e per la purificazione degli ambienti\nDomande e risposte con Indicazioni e ricette di spray vibrazionali per le diverse casistiche portate dagli allievi\n\n  \nContributo richiesto per il corso in sede a San Lazzaro di Savena (BO) : € 99 comprensivi di dispensa di studio\, attestato di frequenza e tutti preparati fatti dall’allievo
URL:https://accademiaolisticalberodellavita.it/event/percorso-di-formazione-in-erboristeria-pratica-imparare-a-utilizzare-erbe-officinali-e-preparati-naturali-per-mantenere-benessere-e-forma-fisica-enizio-corsi-24-e-25-ottobre-2026/
CATEGORIES:Percorsi Brevi Interi
END:VEVENT
END:VCALENDAR