BEGIN:VCALENDAR
VERSION:2.0
PRODID:-//Accademia Olistica Albero della Vita - ECPv6.15.19//NONSGML v1.0//EN
CALSCALE:GREGORIAN
METHOD:PUBLISH
X-ORIGINAL-URL:https://accademiaolisticalberodellavita.it
X-WR-CALDESC:Eventi per Accademia Olistica Albero della Vita
REFRESH-INTERVAL;VALUE=DURATION:PT1H
X-Robots-Tag:noindex
X-PUBLISHED-TTL:PT1H
BEGIN:VTIMEZONE
TZID:UTC
BEGIN:STANDARD
TZOFFSETFROM:+0000
TZOFFSETTO:+0000
TZNAME:UTC
DTSTART:20260101T000000
END:STANDARD
END:VTIMEZONE
BEGIN:VEVENT
DTSTART;TZID=UTC:20270207T100000
DTEND;TZID=UTC:20270207T190000
DTSTAMP:20260420T023719
CREATED:20250714T122812Z
LAST-MODIFIED:20260406T170800Z
UID:8804-1801994400-1802026800@accademiaolisticalberodellavita.it
SUMMARY:Percorso di formazione in Voice & Vibe Aequilibrium – Inizio corsi:  7 febbraio 2027
DESCRIPTION:I CORSI SI SVOLGONO IN DIRETTA ONLINE SU PIATTAFORMA ZOOM\nORARIO DEI CORSI: dalle 10 alle 19\, con 2 break e pausa pranzo (8 ore di formazione)   \n  \nDOCENTE: BARBARA MAGNONI   \n  \n7 febbraio 2027: VOICE & VIBE AEQUILIBRIUM\nIL CORSO SI SVOLGE IN DIRETTA ONLINE SU PIATTAFORMA ZOOM\nProgramma del corso teorico-esperienziale \n\nTutto è vibrazione: il suono\nGli effetti del suono sul corpo umano e sul suo campo energetico\nLe frequenze cerebrali e gli effetti del suono sul cervello\nSperimentiamo le vibrazioni dello strumento ancestrale più antico del mondo: la nostra voce!\nMeditazione di consapevolezza sul respiro\nEsercizi di respirazione per un canto fluido e rilassato\nHumming: cos’è e perché praticarlo\nGli effetti della vibrazione nel nostro corpo: esercizi di auto ascolto\nEsercizi di gruppo per sperimentare l’importanza dell’intento\nMeditazione: cantare la sacra sillaba Om\nIl mantra “Om Mani Padme Hum”\nSciogliere i blocchi emotivi con la dinamica e il glissato: esercizio\nEsercizio di Canto Carnatico\nBreve bagno di suoni\nMeditazione corporea per sciogliere corpo e pensieri giudicanti a tempo di musica\nInstaurare un rapporto sano con la propria voce attraverso il vocal toning\nUtilizzare il vocal toning come strumento di scanning: esercizi\nCenni di intuitive singing e lullaby singing: due tecniche semplici per ritrovare benessere\n\nContributo richiesto per il corso in diretta online su piattaforma ZOOM € 99\, comprensivi di dispensa di studio\, registrazione dell’intero corso e attestato di frequenza inviati online   \n  \n  \n28 marzo 2027: LA POTENZA DEI MANTRA\, VIBRAZIONI DI LUCE E GIOIA\nIL CORSO SI SVOLGE IN DIRETTA ONLINE SU PIATTAFORMA ZOOM\nProgramma del corso teorico-esperienziale \n\nCosa sono i mantra e perché vibrarli\nGli armonici naturali e la loro progressione\nHumming e spazialità per produrre i primi armonici con le M\nLa sacra sillaba OM\nRiequilibrio dei chakra con il suono dei bija mantra\nIl Japamala: come si utilizza\nOm Mani Padme Hum\nCome e quando praticare i mantra\n\nIimpariamo alcuni dei mantra vedici più importanti con melodie della tradizione vedica e melodie occidentali \n\nOm Gam kliim Ganeshaya Namaha\nGayatri Mantra\nPavamāna Mantra (Asato mā)\nOm ya Devi\nMangala Mantra (Lokah Samastah Sukhino Bhavantu)\nOm Namah Shivaya\nMahamrityunjaya Mantra\nMoola Mantra\nTvameva Mata\nMaha Mantra\n\nContributo richiesto per il corso in diretta online su Piattaforma ZOOM: € 99\, comprensivi di dispensa di studio\, registrazione dell’intero corso (che rimane all’allievo per sempre) e attestato di frequenza inviati online   \n  \n  \n\n15 – 16 maggio 2027: CANTI MEDICINA: “IL CANTO DELLA TERRA\n\n\n\nIL CORSO SI SVOLGE IN VIA DELL’ARCOVEGGIO\, 49/7 BOLOGNA E CONTEMPORANEAMENTE IN DIRETTA ONLINE SU PIATTAFORMA ZOOM\nDescrizione corso: \n\n\n\nI Canti Medicina sono melodie ispirate tramandate di generazione in generazione che hanno origine da culture musicali molto diverse tra loro\, ma in comune hanno l’intento di aprire il cammino verso la nostra parte più profonda\, risvegliando le nostre radici ancestrali e il processo di trasformazione interiore. \n\n\n\nDurante questo corso esploreremo principalmente canti dei nativi dell’America del Nord e dell’America Latina\, inclusa una sezione che riguarda gli icaros. \n\n\n\n\n\nProgramma del corso teorico-esperienziale \n\n\n\n-Cerchio di apertura: presentazione dei partecipanti e intenzioni personali e collettive \n-Canto Medicina: definizione spirituale e simbolica\, funzione nelle cerimonie indigene\, differenze con il canto terapeutico occidentale – \nOrigini dei canto -Il ruolo del canto nei rituali: guarigione (riequilibrio)\, invocazione e connessione con elementi e spiriti \n-Etica e rispetto culturale: ascolto profondo\, non appropriazione\, uso consapevole \n-Respirazione consapevole e attivazione del corpo esercizi di radicamento e apertura della voce canto libero intuitivo come ascolto e offerta -Apprendimento dei primi canti\, breve spiegazione del significato e pronuncia fonetica \n-Pratica guidata “call and response” \n-Come portare il canto medicina nella vita quotidiana: rituali semplici di connessione (al mattino\, prima di dormire\, durante momenti di stress \n-Differenza tra canto sacro e performance Vibrazione\, risonanza\, emissione “dal cuore” \n-Canto intuitivo con respiro ciclico \n-Silenzio come parte del canto: spazio interiore e ascolto Icaros: i canti della Foresta Amazzonica \n-Ascolto consapevole di uno o due icaros con occhi chiusi analisi sonora: riconoscimento di elementi ritmici e vocali \n-Apprendimento di due icaros e pratica “call and response” \n-Apprendimento di nuovi canti\, breve spiegazione del significato e pronuncia \n-Quali strumenti più semplici e adatti da utilizzare per accompagnarsi (tamburo\, chagapa e sonagli) pratica guidata “call and response” \n-Condivisione: esperienze\, intuizioni\, emozioni saluto finale con canto condiviso   \n  \nContributo richiesto per il corso in presenza a Bologna  € 198\, comprensivi di dispensa di studio\, attestato di frequenza e registrazione dell’intero corso inviati online \nContributo richiesto per il corso in diretta online € 198\, comprensivi di dispensa di studio\, attestato di frequenza e registrazione dell’intero corso inviati online
URL:https://accademiaolisticalberodellavita.it/event/percorso-di-formazione-in-voice-vibe-aequilibrium-inizio-corsi-7-febbraio-2027/
CATEGORIES:Percorsi Brevi Interi
ATTACH;FMTTYPE=image/jpeg:https://accademiaolisticalberodellavita.it/wp-content/uploads/2025/06/barbara-e1752588498858.jpeg
END:VEVENT
END:VCALENDAR