BEGIN:VCALENDAR
VERSION:2.0
PRODID:-//Accademia Olistica Albero della Vita - ECPv6.15.19//NONSGML v1.0//EN
CALSCALE:GREGORIAN
METHOD:PUBLISH
X-WR-CALNAME:Accademia Olistica Albero della Vita
X-ORIGINAL-URL:https://accademiaolisticalberodellavita.it
X-WR-CALDESC:Eventi per Accademia Olistica Albero della Vita
REFRESH-INTERVAL;VALUE=DURATION:PT1H
X-Robots-Tag:noindex
X-PUBLISHED-TTL:PT1H
BEGIN:VTIMEZONE
TZID:UTC
BEGIN:STANDARD
TZOFFSETFROM:+0000
TZOFFSETTO:+0000
TZNAME:UTC
DTSTART:20170101T000000
END:STANDARD
END:VTIMEZONE
BEGIN:VEVENT
DTSTART;TZID=UTC:20190414T100000
DTEND;TZID=UTC:20190414T170000
DTSTAMP:20260425T170035
CREATED:20190307T135245Z
LAST-MODIFIED:20190307T135245Z
UID:1483-1555236000-1555261200@accademiaolisticalberodellavita.it
SUMMARY:REIKI - 1° LIVELLO
DESCRIPTION:REIKI – 1° LIVELLO Metodo Tradizionale del Dr. Mikao Usui \n \ndalle 10 alle 19 (con pausa pranzo e 2 tisana break) \ndocente: Reiki Master Jolanda Murero \nCosto € 126 per gli allievi dei bienni comprensivi di dispensa e attestato di frequenza \npresso Onconauti Via Pontebuco n. 7/a S. Lazzaro di Savena (BO)
URL:https://accademiaolisticalberodellavita.it/event/reiki-1-livello-2/
END:VEVENT
BEGIN:VEVENT
DTSTART;TZID=UTC:20190413T100000
DTEND;TZID=UTC:20190414T190000
DTSTAMP:20260425T170035
CREATED:20190307T135549Z
LAST-MODIFIED:20190307T135549Z
UID:1485-1555149600-1555268400@accademiaolisticalberodellavita.it
SUMMARY:CAMPANE ARMONICHE E MASSAGGIO SONORO - corso intermedio
DESCRIPTION:CAMPANE ARMONICHE E MASSAGGIO SONORO – Corso Intermedio \n \ndalle 10 alle 19 (con pausa pranzo e 2 tisana break in entrambe le giornate) \ndocente: Maria Ricci   \nCosto € 175\, comprensivi di dispensa e attestato di frequenza \npresso Associazione Onconauti Via Pontebuco n. 7/a S. Lazzaro di Savena (Bo)
URL:https://accademiaolisticalberodellavita.it/event/campane-armoniche-e-massaggio-sonoro-corso-intermedio/
END:VEVENT
BEGIN:VEVENT
DTSTART;TZID=UTC:20190406T100000
DTEND;TZID=UTC:20190407T190000
DTSTAMP:20260425T170035
CREATED:20190307T134853Z
LAST-MODIFIED:20190307T134853Z
UID:1481-1554544800-1554663600@accademiaolisticalberodellavita.it
SUMMARY:CHAKRA REBALANCING - I MODULO
DESCRIPTION:CHAKRA REBALANCING – I MODULO \n \ndalle 10 alle 19 (con pausa pranzo e 2 tisana break in entrambe le giornate) \ndocente: Maria Cristina Sapori \nCosto del coso\, € 175\, comprensivi di dispensa di studio e attestato di frequenza \npresso Associazione Onconauti Via Pontebuco n. 7/a S. Lazzaro di Savena (Bo) \n 
URL:https://accademiaolisticalberodellavita.it/event/chakra-rebalancing-i-modulo/
END:VEVENT
BEGIN:VEVENT
DTSTART;TZID=UTC:20190405T210000
DTEND;TZID=UTC:20190405T223000
DTSTAMP:20260425T170035
CREATED:20190404T143711Z
LAST-MODIFIED:20190404T143721Z
UID:1518-1554498000-1554503400@accademiaolisticalberodellavita.it
SUMMARY:NEW!!! 5 aprile 2019: ARPA CELTICA\, SUONI CELESTI E MEDITAZIONE “CIELO E TERRA\, LUCE E AMORE”  dalle 21 alle 22\,15 Saremo immersi nella magia della melodia dell’arpa celtica\, preceduta da una Meditazione per riconnetterci con l’energia di Amore e Luce che è dentro di noi
DESCRIPTION:ARPA CELTICA\, SUONI CELESTI E MEDITAZIONE “CIELO E TERRA\, LUCE E AMORE”  \ndalle 21 alle 22\,15 presso Onconauti Via Pontebuco n. 7/a S. Lazzaro di Savena (BO) \nSaremo immersi nella magia della melodia dell’arpa celtica\, preceduta da una Meditazione per riconnetterci con l’energia di Amore e Luce che è dentro di noi. \nArpista: Sonia Nigro \nMeditazione guidata da Maria Cristina Sapori \nCosto € 15 – La serata è aperta a chiunque desideri partecipare \n 
URL:https://accademiaolisticalberodellavita.it/event/new-5-aprile-2019-arpa-celtica-suoni-celesti-e-meditazione-cielo-e-terra-luce-e-amore-dalle-21-alle-2215-saremo-immersi-nella-magia-della-melodia-dellarpa-celtica-p/
END:VEVENT
BEGIN:VEVENT
DTSTART;TZID=UTC:20190331T210000
DTEND;TZID=UTC:20190331T223000
DTSTAMP:20260425T170035
CREATED:20190307T132226Z
LAST-MODIFIED:20190307T132327Z
UID:1479-1554066000-1554071400@accademiaolisticalberodellavita.it
SUMMARY:BAGNO DI HANDPAN\, GONG E CAMPANE TIBETANE
DESCRIPTION:BAGNO DI SUONI DI handpan\, gong\, campane tibetane\, tamburo oceanico \n \ndalle 21 alle 22\,30 \nConduce: Raffaello Cavaggioni \nCosto € 15 \nPresso Associazione Onconauti Via Pontebuco n. 7/a S. Lazzaro di Savena (Bo)
URL:https://accademiaolisticalberodellavita.it/event/bagno-di-handpan-gong-e-campane-tibetane/
END:VEVENT
BEGIN:VEVENT
DTSTART;TZID=UTC:20190331T100000
DTEND;TZID=UTC:20190331T190000
DTSTAMP:20260425T170035
CREATED:20190307T131839Z
LAST-MODIFIED:20190307T131839Z
UID:1477-1554026400-1554058800@accademiaolisticalberodellavita.it
SUMMARY:REIKI - 2° LIVELLO
DESCRIPTION:REIKI – 2° LIVELLO Metodo Tradizionale del Dr. Mikao Usui \n \ndalle 10 alle 19 (con pausa pranzo e 2 tisana break) \ndocente: Reiki Master Jolanda Murero \nCosto € 144 comprensivi di dispensa e attestato di frequenza \nPresso Accademia Olistica Albero della Vita Via Pontebuco n. 7/a S. Lazzaro di Savena (BO)
URL:https://accademiaolisticalberodellavita.it/event/reiki-2-livello/
END:VEVENT
BEGIN:VEVENT
DTSTART;TZID=UTC:20190324T100000
DTEND;TZID=UTC:20190324T190000
DTSTAMP:20260425T170035
CREATED:20190307T131629Z
LAST-MODIFIED:20190307T131629Z
UID:1474-1553421600-1553454000@accademiaolisticalberodellavita.it
SUMMARY:COSTELLAZIONI FAMILIARI CREARMONICHE
DESCRIPTION:COSTELLAZIONI FAMILIARI CREARMONICHE \n \ndalle 10 alle 19 (con pausa pranzo e 2 tisana break in entrambe le giornate) \nCostellatrice: Francesca Radhika Di Scenna \n(E’ possibile partecipare anche come auditori) \n€ 85 per chi costella il proprio problema\, € 35 per chi partecipa come auditore e/o rappresentante \npresso Associazione Onconauti Via Pontebuco n. 7/a S. Lazzaro di Savena (Bo)
URL:https://accademiaolisticalberodellavita.it/event/costellazioni-familiari-crearmoniche-2/
END:VEVENT
BEGIN:VEVENT
DTSTART;TZID=UTC:20190323T090000
DTEND;TZID=UTC:20190323T180000
DTSTAMP:20260425T170035
CREATED:20190307T131329Z
LAST-MODIFIED:20190307T131329Z
UID:1472-1553331600-1553364000@accademiaolisticalberodellavita.it
SUMMARY:RIALLINEAMENTO SPIRITUALE secondo il metodo di Pjotr Elkunoviz.
DESCRIPTION:RIALLINEAMENTO SPIRITUALE \n \ndalle 9 alle 18  \nCon Sonja Demuru\, Riallineatrice Spirituale secondo il metodo di Pjotr Elkunoviz. \nPer maggiori informazioni puoi consultare i siti: www.elkunoviz.org  e https://www.healers-united.net/healers-united/italia-1/ \no telefonare a Sonja Demuru cell 349 2311520 \n 
URL:https://accademiaolisticalberodellavita.it/event/riallineamento-spirituale-secondo-il-metodo-di-pjotr-elkunoviz/
END:VEVENT
BEGIN:VEVENT
DTSTART;TZID=UTC:20190316T100000
DTEND;TZID=UTC:20190317T190000
DTSTAMP:20260425T170035
CREATED:20190307T130659Z
LAST-MODIFIED:20190307T130734Z
UID:1469-1552730400-1552849200@accademiaolisticalberodellavita.it
SUMMARY:CRISTALLOSOFIA®- corso base
DESCRIPTION:CRISTALLOSOFIA® – Corso Base \n \ndalle 10 alle 19 (con pausa pranzo e 2 tisana break in entrambe le giornate) \ndocente: Tatiana Venturini \nCosto € 175\, comprensivi di dispensa e attestato di frequenza \npresso Associazione Onconauti Via Pontebuco n. 7/a S. Lazzaro di Savena (Bo)
URL:https://accademiaolisticalberodellavita.it/event/cristallosofia-corso-base/
END:VEVENT
BEGIN:VEVENT
DTSTART;TZID=UTC:20190310T100000
DTEND;TZID=UTC:20190310T190000
DTSTAMP:20260425T170035
CREATED:20190307T124902Z
LAST-MODIFIED:20190307T124902Z
UID:1460-1552212000-1552244400@accademiaolisticalberodellavita.it
SUMMARY:REIKI - 1° LIVELLO
DESCRIPTION:REIKI – 1° LIVELLO Metodo Tradizionale del Dr. Mikao Usui \n  \ndalle 10 alle 19 (con pausa pranzo e 2 tisana break) \ndocente: Reiki Master Jolanda Murero \nCosto € 126 comprensivi di dispensa e attestato di frequenza \nPresso Accademia Olistica Albero della Vita Via Pontebuco n. 7/a Bologna
URL:https://accademiaolisticalberodellavita.it/event/reiki-1-livello/
END:VEVENT
BEGIN:VEVENT
DTSTART;TZID=UTC:20190309T100000
DTEND;TZID=UTC:20190310T190000
DTSTAMP:20260425T170035
CREATED:20190307T130115Z
LAST-MODIFIED:20190307T130115Z
UID:1467-1552125600-1552244400@accademiaolisticalberodellavita.it
SUMMARY:NADA YOGA - corso intermedio 2
DESCRIPTION:NADA YOGA – Corso Intermedio 2 \n \ndalle 10 alle 19 (con pausa pranzo e 2 tisana break in entrambe le giornate) \ndocente: Giovanni Del Casale \nCosto € 175\, comprensivi di dispensa e attestato di frequenza \npresso Centro Studi Suono Infinito Via Ferrara n. 36 Bologna  
URL:https://accademiaolisticalberodellavita.it/event/nada-yoga-corso-intermedio-2/
END:VEVENT
BEGIN:VEVENT
DTSTART;TZID=UTC:20190309T100000
DTEND;TZID=UTC:20190310T190000
DTSTAMP:20260425T170035
CREATED:20190307T125758Z
LAST-MODIFIED:20190307T125820Z
UID:1463-1552125600-1552244400@accademiaolisticalberodellavita.it
SUMMARY:MEDICINA TRADIZIONALE CINESE: Alimentazione\, rimedi naturali e stili di vita per mantenere benessere e forma fisica
DESCRIPTION:MEDICINA TRADIZIONALE CINESE: \n alimentazione\, rimedi naturali e stili di vita per mantenere benessere e forma fisica \n \nsabato dalle 11 alle 19 – domenica dalle 10\,30 alle 19 \n(con pausa pranzo e 2 tisana break in entrambe le giornate) \ndocente: Maria Cristina Sapori \nCosto € 175\, comprensivi di dispensa e attestato di frequenza \npresso Accademia Olistica Albero della Vita Via F. Betti n. 6 Idice – S. Lazzaro di S
URL:https://accademiaolisticalberodellavita.it/event/medicina-tradizinale-cinese-alimentazione-rimedi-naturali-e-stili-di-vita-per-mantenere-benessere-e-forma-fisica/
END:VEVENT
BEGIN:VEVENT
DTSTART;TZID=UTC:20190224T210000
DTEND;TZID=UTC:20190224T223000
DTSTAMP:20260425T170035
CREATED:20190102T215507Z
LAST-MODIFIED:20190102T215507Z
UID:1377-1551042000-1551047400@accademiaolisticalberodellavita.it
SUMMARY:Bagno di Suoni con Handpan\, Gong\, Campane tibetane\, tamburo oceanico
DESCRIPTION:BAGNO DI SUONI con gong\, handpan\, campane tibetane\, tamburo oceanico dalle 21 alle 22\,30\nConduce: Raffaello Cavaggioni\nCosto € 15 \n\nPresso Associazione Onconauti Via Pontebuco n. 7/a S. Lazzaro di Savena (Bo
URL:https://accademiaolisticalberodellavita.it/event/bagno-di-suoni-con-handpan-gong-campane-tibetane-tamburo-oceanico/
END:VEVENT
BEGIN:VEVENT
DTSTART;TZID=UTC:20190223T100000
DTEND;TZID=UTC:20190224T190000
DTSTAMP:20260425T170035
CREATED:20190102T215136Z
LAST-MODIFIED:20190102T215136Z
UID:1375-1550916000-1551034800@accademiaolisticalberodellavita.it
SUMMARY:Fiori di Bach: essenze vibrazionali di Luce
DESCRIPTION:I FIORI DI BACH: ESSENZE VIBRAZIONALI DI LUCE\ndalle 10 alle 19 (con pausa pranzo e 2 tisana break in entrambe le giornate)\ndocente: Maria Cristina Sapori \n \nCosto € 175\, comprensivi di dispensa e attestato di frequenza\npresso Associazione Onconauti Via Pontebuco n. 7/a S. Lazzaro di Savena (Bo) \nPer informazioni e iscrizioni: Segreteria Didattica: Sonja Demuru cell 349 2311520 Direzione Didattica: Maria Cristina Sapori cell 328 6861180
URL:https://accademiaolisticalberodellavita.it/event/fiori-di-bach-essenze-vibrazionali-di-luce/
END:VEVENT
BEGIN:VEVENT
DTSTART;TZID=UTC:20190216T100000
DTEND;TZID=UTC:20190217T190000
DTSTAMP:20260425T170035
CREATED:20190102T214620Z
LAST-MODIFIED:20190102T214620Z
UID:1373-1550311200-1550430000@accademiaolisticalberodellavita.it
SUMMARY:Numerologia Evolutiva Integrata II mod
DESCRIPTION:NUMEROLOGIA EVOLUTIVA INTEGRATA III – Corso avanzato \nPrerequisito di partecipazione: aver frequentato Numerologia Evolutiva Integrata I mod \ndalle 10 alle 19 (con pausa pranzo e 2 tisana break in entrambe le giornate)\ndocente: Maria Cristina Sapori \n \nCosto € 175\, comprensivi di dispensa e attestato di frequenza\npresso Associazione Onconauti Via Pontebuco n. 7/a S. Lazzaro di Savena (Bo) \nPer informazioni e iscrizioni telefonare a : Segreteria Didattica: Sonja Demuru cell 349 2311520 Direzione Didattica: Maria Cristina Sapori cell 328 6861180
URL:https://accademiaolisticalberodellavita.it/event/numerologia-evolutiva-integrata-ii-mod/
END:VEVENT
BEGIN:VEVENT
DTSTART;TZID=UTC:20190209T100000
DTEND;TZID=UTC:20190210T190000
DTSTAMP:20260425T170035
CREATED:20190102T214150Z
LAST-MODIFIED:20190102T214238Z
UID:1370-1549706400-1549825200@accademiaolisticalberodellavita.it
SUMMARY:Nada Yoga - Corso Intermedio I
DESCRIPTION:NADA YOGA – Corso Intermedio I\ndalle 10 alle 19 (con pausa pranzo e 2 tisana break in entrambe le giornate)\ndocente: Giovanni Del Casale \n \nCosto € 175\, comprensivi di dispensa e attestato di frequenza\npresso Centro Studi Suono Infinito Via Ferrara n. 36 Bologna \nPer informazioni e iscrizioni: Segreteria Didattica: Sonja Demuru cell 349 2311520 Direzione Didattica: Maria Cristina Sapori cell 328 686118
URL:https://accademiaolisticalberodellavita.it/event/nada-yoga-corso-intermedio-i/
END:VEVENT
BEGIN:VEVENT
DTSTART;TZID=UTC:20190202T153000
DTEND;TZID=UTC:20190203T190000
DTSTAMP:20260425T170035
CREATED:20190102T213230Z
LAST-MODIFIED:20190102T213248Z
UID:1366-1549121400-1549220400@accademiaolisticalberodellavita.it
SUMMARY:Costellazioni Familiari Crearmoniche
DESCRIPTION:COSTELLAZIONI FAMILIARI CREARMONICHE\ndalle 10 alle 19 (con pausa pranzo e 2 tisana break in entrambe le giornate)\nCondotte da Francesca Radhika Di Scenna \n \npresso Associazione Onconauti Via Pontebuco n. 7/a S. Lazzaro di Savena (Bo)  \nCosto per chi costella il suo tema: € 85 Costo per chi partecipa come auditore € 35 \nPer informazioni e iscrizioni telefonare a: Segreteria Didattica: Sonja Demuru cell 349 2311520 Direzione Didattica: Maria Cristina Sapori cell 328 6861180
URL:https://accademiaolisticalberodellavita.it/event/costellazioni-familiari-crearmoniche/
END:VEVENT
BEGIN:VEVENT
DTSTART;TZID=UTC:20190127T210000
DTEND;TZID=UTC:20190127T233000
DTSTAMP:20260425T170035
CREATED:20190102T193156Z
LAST-MODIFIED:20190102T193156Z
UID:1364-1548622800-1548631800@accademiaolisticalberodellavita.it
SUMMARY:Bagno di suoni: Handpan\, Gong\, Campane Tibetane
DESCRIPTION:BAGNO DI SUONI con handpan\, \,gong\, campane tibetane\, tamburo oceanico \ndalle 21 alle 22\,30\nConduce: Raffaello Cavaggioni \n\nCosto € 15 Presso Associazione Onconauti Via Pontebuco n. 7/a S. Lazzaro di Savena (Bo) \nE’ necessario confermare la propria presenza: Maria Cristina Sapori cell 328 6861180
URL:https://accademiaolisticalberodellavita.it/event/bagno-di-suoni-handpan-gong-campane-tibetane/
END:VEVENT
BEGIN:VEVENT
DTSTART;TZID=UTC:20190120T100000
DTEND;TZID=UTC:20190120T190000
DTSTAMP:20260425T170035
CREATED:20190102T181911Z
LAST-MODIFIED:20190103T184736Z
UID:1356-1547978400-1548010800@accademiaolisticalberodellavita.it
SUMMARY:Reiki 1° Livello Metodo Tradizionale del Dr. Mikao Usui
DESCRIPTION:REIKI – 1° LIVELLO Metodo Tradizionale del Dr. Mikao Usui\ndalle 10 alle 19 (con pausa pranzo e 2 tisana break in entrambe le giornate)\ndocente: Reiki Master Jolanda Murero \n \nCosto € 126\,  comprensivi di dispensa e attestato di frequenza\npresso Associazione Onconauti Via Pontebuco n. 7/a  San Lazzaro di Savena (Bo \nPer informazioni e iscrizioni telefonare a: Segreteria Didattica: Sonja Demuru cell 349 2311520 Direzione Didattica: Maria Cristina Sapori cell 328 6861180
URL:https://accademiaolisticalberodellavita.it/event/reiki-1-livello-medoto-tradizionale-del-dr-mikao-usui/
END:VEVENT
BEGIN:VEVENT
DTSTART;TZID=UTC:20190119T100000
DTEND;TZID=UTC:20190120T190000
DTSTAMP:20260425T170035
CREATED:20190102T172423Z
LAST-MODIFIED:20190102T172423Z
UID:1349-1547892000-1548010800@accademiaolisticalberodellavita.it
SUMMARY:Nada Yoga - corso base
DESCRIPTION:NADA YOGA – Corso Base\ndalle 10 alle 19 (con pausa pranzo e 2 tisana break in entrambe le giornate)\nDocente: Giovanni Del Casale\nCosto € 175\, comprensivi di dispensa e attestato di frequenza\npresso Centro Studi Suono Infinito Via Ferrara n. 36 Bologna \nPer informazioni e iscrizioni: Direzione Didattica Maria Cristina Sapori cell 328 6861180
URL:https://accademiaolisticalberodellavita.it/event/nada-yoga-corso-base/
LOCATION:Centro Studi Suono Infinito\, Via Ferrara n. 36\, Bologna\, 40100\, Italia
END:VEVENT
BEGIN:VEVENT
DTSTART;TZID=UTC:20190119T100000
DTEND;TZID=UTC:20190119T190000
DTSTAMP:20260425T170035
CREATED:20190102T181517Z
LAST-MODIFIED:20190102T181517Z
UID:1353-1547892000-1547924400@accademiaolisticalberodellavita.it
SUMMARY:Tecnica Metamorfica: Il Tocco che trasforma - corso di approfondimento
DESCRIPTION:TECNICA METAMORFICA – giornata di approfondimento e verifica delle tecniche\napprese\ndalle 10 alle 19 (con pausa pranzo e 2 tisana break)\ndocente: Sonja Demuru \n \nCosto € 85\, comprensivi di dispensa e attestato di frequenza\npresso Associazione Onconauti Via Pontebuco n. 7/a  San Lazzaro di Savena (Bo \nPer informazioni e iscrizioni: Segreteria Didattica: Sonja Demuru cell 349 2311520 –  Direzione Didattica: Maria Cristina Sapori cell 328 6861180
URL:https://accademiaolisticalberodellavita.it/event/tecnica-metamorfica-il-tocco-che-trasforma-corso-di-approfondimento/
END:VEVENT
BEGIN:VEVENT
DTSTART;TZID=UTC:20190112T100000
DTEND;TZID=UTC:20190113T190000
DTSTAMP:20260425T170035
CREATED:20190102T171107Z
LAST-MODIFIED:20190102T171654Z
UID:1345-1547287200-1547406000@accademiaolisticalberodellavita.it
SUMMARY:Campane Tibetane - corso base
DESCRIPTION:CAMPANE TIBETANE – Corso Base\ndalle 10 alle 19 (con pausa pranzo e 2 tisana break in entrambe le giornate)\ndocente: Mara Ricci \n \nCosto € 175\, comprensivi di dispensa e attestato di frequenza\nsede: Associazione Onconauti Via Pontebuco n. 7/a S. Lazzaro di Savena (Bo) \nPer informazioni e iscrizioni: Segreteria Didattica: Sonja Demuru cell 349 2311520 \nDirezione Didattica: Maria Cristina Sapori cell 328 6861180
URL:https://accademiaolisticalberodellavita.it/event/campane-tibetane-corso-base/
END:VEVENT
BEGIN:VEVENT
DTSTART;VALUE=DATE:20190105
DTEND;VALUE=DATE:20190106
DTSTAMP:20260425T170036
CREATED:20190102T170242Z
LAST-MODIFIED:20190102T170528Z
UID:1343-1546646400-1546732799@accademiaolisticalberodellavita.it
SUMMARY:Incontro " Alimentazione e rimedi naturali per depurarci e mantenere in piena efficienza del nostro sistema immunitario
DESCRIPTION:Sede incontro: Via F. Betti n. 6 Idice S. Lazzaro di Savena (Bo) \nIncontro a offerta libera e consapevole \nCondotto da: Maria Cristina Sapori \nPer confermare la propria presenza telefonare a Maria Cristina Sapori cell 328 6861180
URL:https://accademiaolisticalberodellavita.it/event/incontro-alimentazione-e-rimedi-naturali-per-depurarci-e-mantenere-in-piena-efficienza-del-nostro-sistema-immunitario/
LOCATION:Accademia Olistica Albero della Vita\, Via Rialto 13\, bologna\, Bologna\, 40124\, Italy
END:VEVENT
BEGIN:VEVENT
DTSTART;TZID=UTC:20181219T203000
DTEND;TZID=UTC:20181219T220000
DTSTAMP:20260425T170036
CREATED:20181219T142232Z
LAST-MODIFIED:20181219T142232Z
UID:1332-1545251400-1545256800@accademiaolisticalberodellavita.it
SUMMARY:
DESCRIPTION:
URL:https://accademiaolisticalberodellavita.it/event/1332/
LOCATION:Centro Studi Suono Infinito\, Via Ferrara n. 36\, Bologna\, 40100\, Italia
END:VEVENT
BEGIN:VEVENT
DTSTART;TZID=UTC:20181215T100000
DTEND;TZID=UTC:20181216T190000
DTSTAMP:20260425T170036
CREATED:20180723T181835Z
LAST-MODIFIED:20180723T181835Z
UID:1199-1544868000-1544986800@accademiaolisticalberodellavita.it
SUMMARY:NUMEROLOGIA EVOLUTIVA INTEGRATA II – Corso di approfondimento - dalle 10 alle 19 - Docente: Maria Cristina Sapori
DESCRIPTION:  \n \n NUMEROLOGIA EVOLUTIVA INTEGRATA II – Corso di approfondimento \ndalle 10 alle 19 (con pausa pranzo e 2 tisana break in entrambe le giornate) \ndocente: Maria Cristina Sapori \nCosto € 175 per gli allievi dei bienni (€ 185 per tutti gli altri) comprensivi di dispensa e attestato di frequenza \npresso Accademia Olistica Albero della Vita Via degli Angeli n. 24/a Bologna
URL:https://accademiaolisticalberodellavita.it/event/numerologia-evolutiva-integrata-ii-corso-di-approfondimento-dalle-10-alle-19-docente-maria-cristina-sapori/
END:VEVENT
BEGIN:VEVENT
DTSTART;TZID=UTC:20181201T100000
DTEND;TZID=UTC:20181202T190000
DTSTAMP:20260425T170036
CREATED:20180723T181244Z
LAST-MODIFIED:20180723T181244Z
UID:1195-1543658400-1543777200@accademiaolisticalberodellavita.it
SUMMARY:NADA YOGA - Corso Base - dalle 10 alle 19 - Docente: Giovanni Del Casale
DESCRIPTION:NADA YOGA – Corso Base \ndalle 10 alle 19 (con pausa pranzo e 2 tisana break in entrambe le giornate) \nDocente: Giovanni Del Casale \nCosto € 175 per gli allievi dei bienni (€ 185 per tutti gli altri) comprensivi di dispensa e attestato di frequenza \npresso Associazione Suono Infinito Via Ferrara n. 36 Bologna
URL:https://accademiaolisticalberodellavita.it/event/nada-yoga-corso-base-dalle-10-alle-19-docente-giovanni-del-casale/
END:VEVENT
BEGIN:VEVENT
DTSTART;TZID=UTC:20181110T100000
DTEND;TZID=UTC:20181111T190000
DTSTAMP:20260425T170036
CREATED:20180722T194953Z
LAST-MODIFIED:20180722T194953Z
UID:1149-1541844000-1541962800@accademiaolisticalberodellavita.it
SUMMARY:CHAKRA REBALANCING – II MOD - dalle 10 alle 19 - Docente: Maria Cristina Sapori
DESCRIPTION:  \n \nCHAKRA REBALANCING – II MOD \n dalle 10 alle 19 (entrambe le giornate\, con pausa pranzo \ndocente: Maria Cristina Sapori \nCosto € 175 per gli allievi dei bienni (€ 185 per tutti gli altri) comprensivi di dispensa e attestato di frequenza \npresso Associazione Onconauti Via Pontebuco n. 7/a S. Lazzaro di Savena (Bo)
URL:https://accademiaolisticalberodellavita.it/event/chakra-rebalancing-ii-mod-dalle-10-alle-19-docente-maria-cristina-sapori/
END:VEVENT
BEGIN:VEVENT
DTSTART;TZID=UTC:20181103T100000
DTEND;TZID=UTC:20181104T190000
DTSTAMP:20260425T170036
CREATED:20180722T192521Z
LAST-MODIFIED:20180723T182407Z
UID:1137-1541239200-1541358000@accademiaolisticalberodellavita.it
SUMMARY:MASSAGGIO METAMORFICO - Corso base - dalle 10 alle 19 - Docente: Sonja Demuru
DESCRIPTION:  \n \nMASSAGGIO METAMORFICO – Corso base \ndalle 10 alle 19 (entrambe le giornate\, con pausa pranzo) \ndocente: Sonja Demuru \nCosto € 175 per gli allievi dei bienni (€ 185 per tutti gli altri) comprensivi di dispensa e attestato di frequenza \npresso Accademia Olistica Albero della Vita Via degli Angeli n. 24/a Bologna
URL:https://accademiaolisticalberodellavita.it/event/massaggio-metamorfico-corso-base-dalle-10-alle-19-docente-sonja-demuru/
END:VEVENT
BEGIN:VEVENT
DTSTART;TZID=UTC:20181027T100000
DTEND;TZID=UTC:20181028T190000
DTSTAMP:20260425T170036
CREATED:20180722T191559Z
LAST-MODIFIED:20180722T191559Z
UID:1135-1540634400-1540753200@accademiaolisticalberodellavita.it
SUMMARY:TEORIA E PRATICA DEL LINGUAGGIO MUSICALE – Corso Base - dalle 10 alle 19 - Docente: Giovanni Del Casale
DESCRIPTION:TEORIA E PRATICA DEL LINGUAGGIO MUSICALE – Corso Base \ndalle 10 alle 19 (con pausa pranzo e 2 tisana break in entrambe le giornate) \ndocente: Giovanni Del Casale  \nCosto € 175 per gli allievi dei bienni (€ 185 per tutti gli altri) comprensivi di dispensa e attestato di frequenza \npresso Associazione Suono Infinito Via Ferrara n. 36 Bologna
URL:https://accademiaolisticalberodellavita.it/event/teoria-e-pratica-del-linguaggio-musicale-corso-base-dalle-10-alle-19-docente-giovanni-del-casale/
END:VEVENT
BEGIN:VEVENT
DTSTART;TZID=UTC:20181020T100000
DTEND;TZID=UTC:20181021T190000
DTSTAMP:20260425T170036
CREATED:20180722T190855Z
LAST-MODIFIED:20180722T190855Z
UID:1133-1540029600-1540148400@accademiaolisticalberodellavita.it
SUMMARY:NUMEROLOGIA EVOLUTIVA INTEGRATA I – Corso base - dalle 10 alle 19 - Docente: Maria Cristina Sapori
DESCRIPTION:  \n \nNUMEROLOGIA EVOLUTIVA INTEGRATA I – Corso base \ndalle 10 alle 19 (con pausa pranzo e 2 tisana break in entrambe le giornate) \ndocente: Maria Cristina Sapori \nCosto € 175 per gli allievi dei bienni (€ 185 per tutti gli altri) comprensivi di dispensa e attestato di frequenza \npresso Accademia Olistica Albero della Vita Via degli Angeli n. 24/a Bolog
URL:https://accademiaolisticalberodellavita.it/event/numerologia-evolutiva-integrata-i-corso-base-dalle-10-alle-19-docente-maria-cristina-sapori/
END:VEVENT
END:VCALENDAR