BEGIN:VCALENDAR
VERSION:2.0
PRODID:-//Accademia Olistica Albero della Vita - ECPv6.15.19//NONSGML v1.0//EN
CALSCALE:GREGORIAN
METHOD:PUBLISH
X-WR-CALNAME:Accademia Olistica Albero della Vita
X-ORIGINAL-URL:https://accademiaolisticalberodellavita.it
X-WR-CALDESC:Eventi per Accademia Olistica Albero della Vita
REFRESH-INTERVAL;VALUE=DURATION:PT1H
X-Robots-Tag:noindex
X-PUBLISHED-TTL:PT1H
BEGIN:VTIMEZONE
TZID:UTC
BEGIN:STANDARD
TZOFFSETFROM:+0000
TZOFFSETTO:+0000
TZNAME:UTC
DTSTART:20210101T000000
END:STANDARD
END:VTIMEZONE
BEGIN:VEVENT
DTSTART;TZID=UTC:20220113T203000
DTEND;TZID=UTC:20220113T220000
DTSTAMP:20260426T023448
CREATED:20211229T133508Z
LAST-MODIFIED:20211229T133508Z
UID:4041-1642105800-1642111200@accademiaolisticalberodellavita.it
SUMMARY:“Chakra Rebalancing: il respiro è vita”
DESCRIPTION:gruppo di studio gratuito e aperto a tutti gli allievi dell’Accademia Olistica Alberodella Vita esercizi e approfondimenti – supervisor: Maria Cristina Sapori dalle 20\,30 alle 21\,45 su PIATTAFORMA ZOOM
URL:https://accademiaolisticalberodellavita.it/event/chakra-rebalancing-il-respiro-e-vita/
LOCATION:Corso in diretta Online su Piattaforma ZOOM
END:VEVENT
BEGIN:VEVENT
DTSTART;TZID=UTC:20220115T100000
DTEND;TZID=UTC:20220116T190000
DTSTAMP:20260426T023448
CREATED:20211229T134247Z
LAST-MODIFIED:20211229T134247Z
UID:4043-1642240800-1642359600@accademiaolisticalberodellavita.it
SUMMARY:FLORAL MASSAGE™
DESCRIPTION:  \n \nFLORAL MASSAGE™  \ndocente: Maria Cristina Sapori  \nSVOLGIMENTO ONLINE SU PIATTAFORMA ZOOM  \ndalle 10 alle 19 (con 2 break e la pausa pranzo di 1 ora e 30 in entrambe le giornate) \nContributo richiesto € 155\, comprensivi di dispensa di studio e attestato di frequenza inviati online \nNOTA BENE: Il corso è comprensivo\, inoltre\, dei video professionali relativi a ogni trattamento insegnato durante il week end di formazione (che verranno inviati a ogni partecipante \nProgramma del corso teorico-esperienziale \nCollegamenti tra gli oli essenziali e i pianeti del Sistema Solare per comprendere le loro caratteristiche \nenergetiche\, la loro natura riscaldante o rinfrescante e il loro corretto utilizzo per corpo e mente Studio e applicazioni pratiche di: Albero del the – Arancio dolce – Neroli (arancio amaro) – Cipresso – Citronella – Eucalipto – Finocchio Dolce – Geranio – Lavanda – Melissa – Pino Silvestre – Rosmarino – Salvia – Timo Bianco – Zenzero \nFLORAL MASSAGE™: tecniche di applicazione di oli essenziali ed essenze floreali (Fiori di Bach\, Fiori Californiani e Australian Bush Flower) nei: trattamenti antistress – trattamenti per il riequilibrio osteoarticolare – trattamenti preparatori allo sforzo muscolare – trattamenti di mani – piedi – orecchie – addome – zona lombo sacrale \nConsigli e indicazioni per la preparazione di creme e unguenti a base di oli essenziali ed essenze floreali
URL:https://accademiaolisticalberodellavita.it/event/floral-massage-2/
LOCATION:Corso in diretta Online su Piattaforma ZOOM
END:VEVENT
BEGIN:VEVENT
DTSTART;TZID=UTC:20220120T203000
DTEND;TZID=UTC:20220120T220000
DTSTAMP:20260426T023448
CREATED:20211229T134458Z
LAST-MODIFIED:20211229T134458Z
UID:4046-1642710600-1642716000@accademiaolisticalberodellavita.it
SUMMARY:PERCORSO DI TRAS-FORMAZIONE INLIGHT
DESCRIPTION:Gruppo di studio gratuito aperto a gli allievi che hanno frequentato il corso “Percorso di Trasf-Formazione InLight – primo mod”: domande\, risposte e approfondimenti” con Radhika Di Scenna 
URL:https://accademiaolisticalberodellavita.it/event/percorso-di-tras-formazione-inlight/
LOCATION:Corso in diretta Online su Piattaforma ZOOM
END:VEVENT
BEGIN:VEVENT
DTSTART;TZID=UTC:20220127T100000
DTEND;TZID=UTC:20220127T190000
DTSTAMP:20260426T023448
CREATED:20211229T134821Z
LAST-MODIFIED:20211229T134821Z
UID:4050-1643277600-1643310000@accademiaolisticalberodellavita.it
SUMMARY:“Alimentazione per l’inverno: quali sono gli errori più comuni da evitare se si vuole rimanere in buona salute”
DESCRIPTION: Incontro gratuito aperto a tutti: “Alimentazione per l’inverno: quali sono gli errori più comuni da evitare se si vuole rimanere in buona salute”  \nsupervisor: Maria Cristina Sapori dalle 20\,30 alle 21\,45 su PIATTAFORMA ZOOM
URL:https://accademiaolisticalberodellavita.it/event/alimentazione-per-linverno-quali-sono-gli-errori-piu-comuni-da-evitare-se-si-vuole-rimanere-in-buona-salute/
LOCATION:Corso in diretta Online su Piattaforma ZOOM
END:VEVENT
BEGIN:VEVENT
DTSTART;TZID=UTC:20220129T100000
DTEND;TZID=UTC:20220130T190000
DTSTAMP:20260426T023448
CREATED:20211229T135018Z
LAST-MODIFIED:20211229T135018Z
UID:4052-1643450400-1643569200@accademiaolisticalberodellavita.it
SUMMARY:NUMEROLOGIA EVOLUTIVA INTEGRATA – TERZO LIVELLO
DESCRIPTION:NUMEROLOGIA EVOLUTIVA INTEGRATA – TERZO LIVELLO \ndocente: Maria Cristina Sapori  \nSVOLGIMENTO ONLINE SU PIATTAFORMA ZOOM \nContributo richiesto: € 155\, comprensivi di dispensa\, attestato di frequenza e registrazione dell’intero corso inviati online \nProgramma del corso teorico-pratico \nEsercitazioni per lo sviluppo della Carta Numerologica e studio approfondito delle comparazioni di coppia \nStudio delle tecniche di guarigione attraverso i numeri basate su: metodo di Fibonacci – sistema di Grigorji Grabovoj – l metodo di Zhi Gang Shah \nEsercizi e tecniche di guarigione con i numeri: meditazioni\, visualizzazioni\, scrittura\, creazione di mandala per l’armonizzazione degli ambienti \nSequenza numeriche di Riequilibrio Energetico: trovare i propri numeri per riattivare le risorse di auto-guarigione
URL:https://accademiaolisticalberodellavita.it/event/numerologia-evolutiva-integrata-terzo-livello-2/
LOCATION:Corso in diretta Online su Piattaforma ZOOM
END:VEVENT
BEGIN:VEVENT
DTSTART;TZID=UTC:20220130T100000
DTEND;TZID=UTC:20220130T190000
DTSTAMP:20260426T023448
CREATED:20211229T135208Z
LAST-MODIFIED:20211229T135208Z
UID:4054-1643536800-1643569200@accademiaolisticalberodellavita.it
SUMMARY:REIKI – 1° LIVELLO
DESCRIPTION:Master Reiki: Jolanda Murero \nsede corso: Centro Olistico Majo Om Via Olmetola n. 42 Bologna \nContributo richiesto € 135\, comprensivi di dispensa e attestato di frequenza \n  \nProgramma del corso:\nCosa è Reiki: significato del termine e comprensione del Metodo\nOriginale del Dott. Mikao Usui.\nEsperienza Reiki in connessione con:\nsalute e disequilibrio\npercezione di realtà\ncrescita evolutiva\nEffetti del Reiki: cosa succede dopo l’iniziazione a livello:\nfisico\, emozionale\, mentale\, spirituale\nCosa significa essere Canali Reiki\nCosa sono e come si svolgono le Quattro Iniziazioni\nPrima e Secondo Iniziazione del 1° Livello Reiki\nCenni sui Chakra\nLa pratica del Reiki nel quotidiano\nEsperimento con cellulare e tormalina\nBilanciatura al Cuore: come si tengono le mani nel Reiki e significato profondo bilanciatura\nProva del Sentire: esercizi pratici per sentire l’energia\nAutotrattamento: perché farlo e come si fa\nTrattamento agli altri: il significato del trattare altre persone e le\ndiverse modalità di esecuzione del trattamento\nCome si eseguono i vari trattamenti Reiki:\nTrattamento ai bambini\nTrattamento agli animali\nTrattamento alle piante\nTrattamento al cibo e all’acqua\nTrattamento ai cristalli\nConsigli pratici\nCosa fare dopo le Iniziazioni: scambi\, autotrattramento e osservazione degli effetti che si hanno (purificazione energetica)-Terza e Quarta Iniziazione del 1° Livello Reiki\nCondivisione dell’esperienza
URL:https://accademiaolisticalberodellavita.it/event/reiki-1-livello-7/
LOCATION:Centro Olistico Majo Om Via Olmetola\, 42 Bologna
END:VEVENT
END:VCALENDAR