BEGIN:VCALENDAR
VERSION:2.0
PRODID:-//Accademia Olistica Albero della Vita - ECPv6.15.19//NONSGML v1.0//EN
CALSCALE:GREGORIAN
METHOD:PUBLISH
X-ORIGINAL-URL:https://accademiaolisticalberodellavita.it
X-WR-CALDESC:Eventi per Accademia Olistica Albero della Vita
REFRESH-INTERVAL;VALUE=DURATION:PT1H
X-Robots-Tag:noindex
X-PUBLISHED-TTL:PT1H
BEGIN:VTIMEZONE
TZID:UTC
BEGIN:STANDARD
TZOFFSETFROM:+0000
TZOFFSETTO:+0000
TZNAME:UTC
DTSTART:20210101T000000
END:STANDARD
END:VTIMEZONE
BEGIN:VEVENT
DTSTART;TZID=UTC:20220203T203000
DTEND;TZID=UTC:20220203T213000
DTSTAMP:20260426T005805
CREATED:20211229T135404Z
LAST-MODIFIED:20211229T135404Z
UID:4057-1643920200-1643923800@accademiaolisticalberodellavita.it
SUMMARY:REIKI A DISTANZA PER LA SALUTE E LA PROSPERITA'
DESCRIPTION:Incontro aperto solo a chi ha ricevuto almeno un livello Reiki (anche fuori dalla nostra Accademia): “REIKI a distanza per la salute e la prosperità” con Master Reiki Lally Murero dalle 20\,30 alle 21\,30 su PIATTAFORMA ZOOM \n 
URL:https://accademiaolisticalberodellavita.it/event/reiki-a-distanza-per-la-salute-e-la-prosperita/
LOCATION:Corso in diretta Online su Piattaforma ZOOM
END:VEVENT
BEGIN:VEVENT
DTSTART;TZID=UTC:20220205T100000
DTEND;TZID=UTC:20220206T190000
DTSTAMP:20260426T005805
CREATED:20211229T135524Z
LAST-MODIFIED:20211229T135524Z
UID:4059-1644055200-1644174000@accademiaolisticalberodellavita.it
SUMMARY: RIFLESSOLOGIA PLANTARE OLISTICA INTEGRATA – PRIMO MOD.
DESCRIPTION:  \n RIFLESSOLOGIA PLANTARE OLISTICA INTEGRATA – PRIMO MOD. \ndocente: Sonja Demuru \nsede corso: Centro Olistico Majo Om Via Olmetola n. 42 Bologna \nContributo richiesto € 176\, comprensivi di dispensa e attestato di frequenza \nProgramma del corso teorico-esperienziale\nStoria della Riflessologia Plantare fra oriente e occidente\nIndicazioni\, controindicazioni e reazioni\nLa tecnica e le prese\nIl Sistema Riproduttivo\nLa Colonna Vertebrale e il Midollo\nIl Sistema Urinario e il Movimento Acqua. Coppia Rene/Vescica\nStruttura del piede\nL’approccio Olistico\, analisi visiva e tattile
URL:https://accademiaolisticalberodellavita.it/event/riflessologia-plantare-olistica-integrata-primo-mod/
LOCATION:Corso in diretta Online su Piattaforma ZOOM
END:VEVENT
BEGIN:VEVENT
DTSTART;TZID=UTC:20220210T203000
DTEND;TZID=UTC:20220210T220000
DTSTAMP:20260426T005805
CREATED:20211229T135645Z
LAST-MODIFIED:20211229T135645Z
UID:4061-1644525000-1644530400@accademiaolisticalberodellavita.it
SUMMARY:“Mantra Sacri per disgregare gli ostacoli dentro di noi che ci impediscono la realizzazione dei nostri obiettivi”
DESCRIPTION:Incontro gratuito aperto a tutti gli allievi dell”Accademia Olistica Albero della Vita: “Mantra Sacri per disgregare gli ostacoli dentro di noi che ci impediscono la realizzazione dei nostri obiettivi” supervisor: Maria Cristina Sapori dalle 20\,30 alle 21\,45 su PIATTAFORMA ZOOM
URL:https://accademiaolisticalberodellavita.it/event/mantra-sacri-per-disgregare-gli-ostacoli-dentro-di-noi-che-ci-impediscono-la-realizzazione-dei-nostri-obiettivi/
LOCATION:Corso in diretta Online su Piattaforma ZOOM
END:VEVENT
BEGIN:VEVENT
DTSTART;TZID=UTC:20220212T100000
DTEND;TZID=UTC:20220213T190000
DTSTAMP:20260426T005805
CREATED:20211229T135900Z
LAST-MODIFIED:20211229T135900Z
UID:4063-1644660000-1644778800@accademiaolisticalberodellavita.it
SUMMARY:PERCORSO DI TRAS-FORMAZIONE “IN LIGHT”: RISCOPRIRE LA PROPRIA ESSENZA DI LUCE ATTRAVERSO LA MEDITAZIONE–SECONDO MODULO
DESCRIPTION:PERCORSO DI TRAS-FORMAZIONE “IN LIGHT”: RISCOPRIRE LA PROPRIA ESSENZA DI LUCE ATTRAVERSO LA MEDITAZIONE–SECONDO MODULO \ndocente: Radhika Francesca Di Scenna \nSVOLGIMENTO ONLINE SU PIATTAFORMA ZOOM  \nContributo richiesto € 155\, comprensivi di dispensa di studio\, registrazione dell’intero corso e attestato di frequenza inviati online \nProgramma del corso teorico esperienziale \nRiscoprire il principio di Unione Corpo-Mente-Spirito: il Sentiero dello Yoga e della Meditazione. \nStudio dei principi di Yama e Niyama: come ritrovare la propria serenità interiore attraverso la pratica dei primi due Yoga Sutra di Patanjali \nRiscoprire la propria essenza di Luce attraverso la Meditazione
URL:https://accademiaolisticalberodellavita.it/event/percorso-di-tras-formazione-in-light-riscoprire-la-propria-essenza-di-luce-attraverso-la-meditazione-secondo-modulo-2/
LOCATION:Corso in diretta Online su Piattaforma ZOOM
END:VEVENT
BEGIN:VEVENT
DTSTART;TZID=UTC:20220217T203000
DTEND;TZID=UTC:20220217T220000
DTSTAMP:20260426T005805
CREATED:20211229T140017Z
LAST-MODIFIED:20211229T140017Z
UID:4065-1645129800-1645135200@accademiaolisticalberodellavita.it
SUMMARY:“COME CONDURRE UN COLLOQUIO DI FLORIPRATICA”
DESCRIPTION: Incontro gratuito aperto a tutti gli allievi dell’Accademia Olistica Albero della Vita : “COME CONDURRE UN COLLOQUIO DI FLORIPRATICA” supervisor: Maria Cristina Sapori 
URL:https://accademiaolisticalberodellavita.it/event/come-condurre-un-colloquio-di-floripratica/
LOCATION:Corso in diretta Online su Piattaforma ZOOM
END:VEVENT
BEGIN:VEVENT
DTSTART;TZID=UTC:20220219T100000
DTEND;TZID=UTC:20220219T190000
DTSTAMP:20260426T005805
CREATED:20211229T140152Z
LAST-MODIFIED:20211229T140152Z
UID:4067-1645264800-1645297200@accademiaolisticalberodellavita.it
SUMMARY:FIORI DI BACH\, CALIFORNIANI E AUSTRALIAN BUSH FLOWER ESSENCES – CORSO DI APPROFONDIMENTO
DESCRIPTION:FIORI DI BACH\, CALIFORNIANI E AUSTRALIAN BUSH FLOWER ESSENCES – CORSO DI APPROFONDIMENTO \ndocente: Maria Cristina Sapori \nSVOLGIMENTO ONLINE SU PIATTAFORMA ZOOM \nContributo richiesto € 89\, comprensivi di dispensa di studio\, attestato di frequenza e registrazione dell’intero corso inviati online \nProgramma del corso teorico-esperienziale \nMiscele composte a base di Essenze Floreali: come armonizzare le nostre energie scoprendo le sinergie fra le varie essenze \nUtilizzo delle Acque di Luce per la preparazione delle miscele \nSistemi floreali a confronto: sinergie d’azione per potenziare gli e etti delle essenze \nStudio approfondito delle combinazioni più efficaci di Fiori di Bach\, Californiani e Australian Bush per il riequilibrio vibrazionale di: ansia\, paure\, attacchi di panico – stress e surmenage – vuoto di energia – mancanza di autostima \nStudio di casi specifici con esempi di composizione di miscele adatte ai casi esposti \nDomande e risposte e studio di casi
URL:https://accademiaolisticalberodellavita.it/event/fiori-di-bach-californiani-e-australian-bush-flower-essences-corso-di-approfondimento/
LOCATION:Corso in diretta Online su Piattaforma ZOOM
END:VEVENT
BEGIN:VEVENT
DTSTART;TZID=UTC:20220220T100000
DTEND;TZID=UTC:20220220T190000
DTSTAMP:20260426T005805
CREATED:20211229T140257Z
LAST-MODIFIED:20211229T140257Z
UID:4069-1645351200-1645383600@accademiaolisticalberodellavita.it
SUMMARY:OLI ESSENZIALI: STUDIO E APPLICAZIONI PRATICHE
DESCRIPTION:OLI ESSENZIALI: STUDIO E APPLICAZIONI PRATICHE  \ndocente: Maria Cristina Sapori \nSede corso: Centro Olistico Majo Om Via Olmetola n. 42 Bologna \nContributo richiesto € 89\, comprensivi di attestato di frequenza\, dispensa di studio e lo Spray Sinergico (ogni allievo porterà a casa lo Spray che ha preparato in aula) \nProgramma del corso teorico-pratico: \nCollegamenti tra gli oli essenziali e i pianeti del Sistema Solare per comprendere le loro caratteristiche energetiche\, la loro natura riscaldante o rinfrescante e il loro corretto utilizzo per corpo e mente \nStudio e applicazioni pratiche di: Abete rosso canadese (tsuga canadensis) – Basilico – Benzoino – Canfora – Camomilla – Incenso – Limone – Mirra – Mirto – Neroli (arancio amaro fiori) – Rosa – Verbena \nUtilizzo degli oli essenziali\, singoli o combinati\, per portare armonia negli ambienti e riequilibrare le tensioni di corpo e mente \nPreparazione di uno Spray Sinergico a base di oli essenziali ed essenze floreali \nFormulazioni di miscele di oli essenziali con indicazioni specifiche su richieste degli allievi
URL:https://accademiaolisticalberodellavita.it/event/oli-essenziali-studio-e-applicazioni-pratiche/
LOCATION:Corso in diretta Online su Piattaforma ZOOM
END:VEVENT
BEGIN:VEVENT
DTSTART;TZID=UTC:20220224T203000
DTEND;TZID=UTC:20220224T220000
DTSTAMP:20260426T005805
CREATED:20211229T140406Z
LAST-MODIFIED:20211229T140406Z
UID:4071-1645734600-1645740000@accademiaolisticalberodellavita.it
SUMMARY:RADIOESTESIA INTEGRATA - PRIMO LIVELLO
DESCRIPTION:Gruppo di studio gratuito aperto a chi ha frequentato il corso “Radioestesia Integrata – primo livello”: domande\, risposte e approfondimenti” con Lally Murero 
URL:https://accademiaolisticalberodellavita.it/event/radioestesia-integrata-primo-livello-2/
LOCATION:Corso in diretta Online su Piattaforma ZOOM
END:VEVENT
BEGIN:VEVENT
DTSTART;TZID=UTC:20220226T100000
DTEND;TZID=UTC:20220227T190000
DTSTAMP:20260426T005805
CREATED:20211229T140526Z
LAST-MODIFIED:20211229T140526Z
UID:4073-1645869600-1645988400@accademiaolisticalberodellavita.it
SUMMARY:ALIMENTAZIONE NATURALE INTEGRATA - A.N.I.
DESCRIPTION:ALIMENTAZIONE NATURALE INTEGRATA – A.N.I. \ndocente: Maria Cristina Sapori  \nSVOLGIMENTO ONLINE SU PIATTAFORMA ZOOM \nContributo richiesto € 155\, comprensivi di dispensa di studio\, registrazione dell’intero corso e attestato di frequenza inviati online \nProgramma corso \nProgramma del corso teorico\nI gruppi alimentari: carboidrati – proteine – lipidi\nFrutta\, verdura e legumi: qual è la giusta quantità secondo l’Alimentazione Naturale Integrata (A.N.I.)\nTofu\, seitan\, tempeh: come e quando utilizzarli\nLe alghe: preziose alleate della nostra salute\nI condimenti: oli\, aceto di umeboshi\, sale cristallino himalayano\, sale integrale\, spezie\nLe combinazioni alimentari\nIl digiuno ed i suoi e etti nell’ organismo umano\nAllergie e intolleranze alimentari\nVitamine\, minerali\, oligoelementi: quando è utile e quando è nocivo l’utilizzo degli integratori alimentari\nIl giusto modo di alimentarsi secondo l’Alimentazione Naturale Integrata (A.N.I.) per le diverse e\nstili di vita\nStudio di un corretto Programma Alimentare Naturale Integrato per mantenere giusto peso \nEsempi di Programmi Alimentari Naturali Integrati per il mantenimento di benessere e forma fisica \n  \n 
URL:https://accademiaolisticalberodellavita.it/event/alimentazione-naturale-integrata-a-n-i/
LOCATION:Corso in diretta Online su Piattaforma ZOOM
END:VEVENT
END:VCALENDAR