BEGIN:VCALENDAR
VERSION:2.0
PRODID:-//Accademia Olistica Albero della Vita - ECPv6.15.19//NONSGML v1.0//EN
CALSCALE:GREGORIAN
METHOD:PUBLISH
X-ORIGINAL-URL:https://accademiaolisticalberodellavita.it
X-WR-CALDESC:Eventi per Accademia Olistica Albero della Vita
REFRESH-INTERVAL;VALUE=DURATION:PT1H
X-Robots-Tag:noindex
X-PUBLISHED-TTL:PT1H
BEGIN:VTIMEZONE
TZID:UTC
BEGIN:STANDARD
TZOFFSETFROM:+0000
TZOFFSETTO:+0000
TZNAME:UTC
DTSTART:20210101T000000
END:STANDARD
END:VTIMEZONE
BEGIN:VEVENT
DTSTART;TZID=UTC:20220501T100000
DTEND;TZID=UTC:20220501T190000
DTSTAMP:20260425T194118
CREATED:20220321T212732Z
LAST-MODIFIED:20220321T212732Z
UID:4290-1651399200-1651431600@accademiaolisticalberodellavita.it
SUMMARY:LA STORIA DEI QUANTI
DESCRIPTION:docente: Chiara Zagonel\nSVOLGIMENTO ONLINE SU PIATTAFORMA ZOOM\nContributo richiesto € 95\, comprensivi di dispensa di\ndalle 10 alle 19\, con 2 break e pausa pranzo studio\, registrazione dell’intero corso e attestato di frequenza inviati online \nProgramma del corso teorico esperienziale\n-ll concetto di quantizzazione\n-ll fotone e la natura corpuscolare della luce\n-La natura ondulatoria della materia\nL’interpretazione della realtà in termini di probabilità (la funzione d’onda di Schroedinger) -Il legame inscindibile tra osservatore e sistema osservato (principio di indeterminazione di Heisenberg); osservatore come co-creatore della realtà. \n-L’interconnessione tra le parti (entanglement quantistico)\, i campi di informazione e la visione olistica della realtà (le teorie di David Bohm).
URL:https://accademiaolisticalberodellavita.it/event/la-storia-dei-quanti/
END:VEVENT
BEGIN:VEVENT
DTSTART;TZID=UTC:20220501T100000
DTEND;TZID=UTC:20220501T190000
DTSTAMP:20260425T194118
CREATED:20220321T212841Z
LAST-MODIFIED:20220321T212841Z
UID:4292-1651399200-1651431600@accademiaolisticalberodellavita.it
SUMMARY:VOICE\, VIBE & AEQUILIBRIUM
DESCRIPTION:docente: Barbara Magnoni\nSVOLGIMENTO ONLINE SU PIATTAFORMA ZOOM\ndalle 10 alle 19\, con 2 break e pausa pranzo \nContributo richiesto: € 95 comprensivi di: dispensa con teoria e tutti gli esercizi del corso\, brevi video di supporto per la pratica delle scale musicali e le figure ritmiche\, la registrazione completa del corso svolto in diretta online e l’attestato di frequenza inviati online\nPROGRAMMA DEL CORSO TEORICO-ESPERIENZIALE \nIntroduzione al canto armonico\nla progressione degli armonici: cosa sono?\nsciogliamo la muscolatura del collo e ricerchiamo il timbro con qualche esercizio di respirazione e humming che abbiamo imparato ieri\nla cannuccia: perché usarla? esercizi di proiezione\ntutti gli esercizi pratici finalizzati alla produzione degli armonici: passaggi graduali\, tecnica della “L”\, armonici nell’Humming\nancora pratica degli esercizi del canto armonico\nUtilizzo pratico degli strumenti più usati nel soundhealingimpariamo come utilizzare una ciotola tibetana\, il koshi\, lo shruti box o una qualsiasi base musicale meditativa (come a esempio le “frequenze miracolose”) come base per il Vocal Toning o l’Intuitive Singing\nesercizi di pratica a coppie\nle scale musicali più semplici e le loro funzioni per aiutare a sciogliere i blocchi emotivi \n\n\n \n\n\n\nesercizi di pratica tutti insieme\nfigurazioni facili di Tamburo Sciamanico\, lettura di semplici partiture ritmiche\, idee per gestire meglio il tamburo e iniziare ad unire il canto allo strumento\nCerchio finale di strumenti e voce in cui mettere in pratica ciò che abbiamo imparato durante il corso
URL:https://accademiaolisticalberodellavita.it/event/voice-vibe-aequilibrium/
END:VEVENT
BEGIN:VEVENT
DTSTART;TZID=UTC:20220505T203000
DTEND;TZID=UTC:20220505T220000
DTSTAMP:20260425T194118
CREATED:20220321T212949Z
LAST-MODIFIED:20220321T212949Z
UID:4294-1651782600-1651788000@accademiaolisticalberodellavita.it
SUMMARY:Gruppo di studio gratuito aperto a tutti coloro che hanno frequentato il corso: “PERCORSO DI TRAS-FORMAZIONE INLIGHT – SECONDO MODULO”
DESCRIPTION:Docente: Radhika Francesca Di Scenna\ndalle 20\,30 alle 21\,45 SU PIATTAFORMA ZOOM
URL:https://accademiaolisticalberodellavita.it/event/gruppo-di-studio-gratuito-aperto-a-tutti-coloro-che-hanno-frequentato-il-corso-percorso-di-tras-formazione-inlight-secondo-modulo/
END:VEVENT
BEGIN:VEVENT
DTSTART;TZID=UTC:20220508T100000
DTEND;TZID=UTC:20220508T190000
DTSTAMP:20260425T194118
CREATED:20220321T213122Z
LAST-MODIFIED:20220321T213122Z
UID:4296-1652004000-1652036400@accademiaolisticalberodellavita.it
SUMMARY:PERCORSO DI TRAS-FORMAZIONE INLIGHT: IL PURO SENTIRE INTUITIVO – TERZO MODULO
DESCRIPTION:docente: Radhika Francesca di Scenna\nSVOLGIMENTO ONLINE SU PIATTAFORMA ZOOM \ndalle 10 alle 19\, con 2 break e pausa pranzo in ogni giornata\nProgramma del corso teorico-esperienziale\n-Energia il legame nascosto tra mente\, corpo e coscienza -L’Energia e il Magnetismo: le chiavi per il successo\n-Il puro Sentire Intuitivo\n-L’Operatore Olistico come custode della Luce
URL:https://accademiaolisticalberodellavita.it/event/percorso-di-tras-formazione-inlight-il-puro-sentire-intuitivo-terzo-modulo/
END:VEVENT
BEGIN:VEVENT
DTSTART;TZID=UTC:20220512T203000
DTEND;TZID=UTC:20220512T220000
DTSTAMP:20260425T194118
CREATED:20220321T213236Z
LAST-MODIFIED:20220321T213236Z
UID:4298-1652387400-1652392800@accademiaolisticalberodellavita.it
SUMMARY:Gruppo di studio gratuito aperto a chi ha frequentato il corso: “RIFLESSOLOGIA PLANTARE OLISTICA – TERZO MODULO”
DESCRIPTION:Docente: Sonja Demuru\ndalle 20\,30 alle 21\,45 SU PIATTAFORMA ZOOM
URL:https://accademiaolisticalberodellavita.it/event/gruppo-di-studio-gratuito-aperto-a-chi-ha-frequentato-il-corso-riflessologia-plantare-olistica-terzo-modulo/
END:VEVENT
BEGIN:VEVENT
DTSTART;TZID=UTC:20220515T100000
DTEND;TZID=UTC:20220515T190000
DTSTAMP:20260425T194118
CREATED:20220321T213455Z
LAST-MODIFIED:20220321T213455Z
UID:4300-1652608800-1652641200@accademiaolisticalberodellavita.it
SUMMARY:REIKI – LIVELLO 3/A
DESCRIPTION:docente: Master Reiki Lally Murero\nIL CORSO SI SVOLGE IN PRESENZA PRESSO CENTRO OLISTICO MAJO OM\nVIA OLMETOLA\, 42 BOLOGNA\ndalle 10 alle 19\, con 2 break e pausa pranzo in ogni giornata\nContributo richiesto € 195\, comprensivi di dispensa di studio\, registrazione dell’intero corso e attestato di frequenza inviati online\nProgramma del corso teorico-esperienziale\n– Cosa è il Reiki di Terzo Livello 3A: potenzialità. del\nSimbolo Dai Ko Myo\n– Il Reiki – Livello 3/A come espressione di LUCE e SILENZIO. In quanto Metodo Naturale di Risveglio dello Spirito\, il Terzo Livello Usui Reiki\, attraverso l’iniziazione al Simbolo Dai Ko Myo\, porta a un’ulteriore potentissimo salto vibrazionale\nPRESENTAZIONE DEGLI STRUMENTI DEL LIVELLO 3/A:\n– il Simbolo Dai Ko Myo: come si disegna e come si utilizza: il “NON-FARE” come superiore e più consapevole stato di presenza\n– Il concetto di “silenzio interiore” contrapposto a quello dell’incessante “dialogo interiore”\, spiegazione di come Dai Ko Myo agisca su principi completamente diversi dai quelli dei simboli di Secondo Livello. Concetto di equilibrio dinamico tra rilassamento e concentrazione.\n– Riconoscere\, ascoltare e coltivare il silenzio; diventare Dai Ko Myo\n– Esercizio Meditativo sul Dai Ko Myo per aumentare la risonanza con esso: teoria e pratica\n– Modalità d’utilizzo dei Simboli alla luce del Dai Ko Myo; diverse possibilità di utilizzo di Dai Ko Myo nei trattamenti\n– Esercizio di visualizzazione e percezione con tutti e quattro i Simboli del Reiki: Choku Rei\, Sei Heki\, Hon Sha Ze Sho Nen e Dai Ko Myo: teoria e pratica\nINIZIAZIONE DI TERZO LIVELLO REIKI 3A\n– Condivisione dellʼesperienza\, sensazioni ed emozioni\n– Come si utilizza il Reiki – Livello 3/A: autotrattamento; trattamento a persone presenti; trattamento a distanza\n– REIKI COME STATO DELL’ESSERE\, ATTEGGIAMENTO DI VITA\n– Prove pratiche nel sentire l’energia di Dai Ko Myo (mani\, trattamenti)\n– Esercizio Meditativo con il Mantra Dai Ko Myo; teoria e pratica\n– Esercizio Meditativo con Dai Ko Myo per la realizzazione dell’Intento; teoria e pratica\n– Dai Ko Myo è Protezione\n– Dai Ko Myo è Purificazione\n– Trattamento Reiki a Distanza con i Cristalli\n– Antahkarana\n– Griglia di Cristalli con Antahkarana \n\n\n\n\n\n\n– PROVA PRATICA: scambio Reiki a coppie con l’utilizzo dei quattro simboli – CONDIVISIONE dell’esperienza
URL:https://accademiaolisticalberodellavita.it/event/reiki-livello-3-a-3/
END:VEVENT
BEGIN:VEVENT
DTSTART;TZID=UTC:20220519T203000
DTEND;TZID=UTC:20220519T220000
DTSTAMP:20260425T194118
CREATED:20220321T213630Z
LAST-MODIFIED:20220321T213630Z
UID:4302-1652992200-1652997600@accademiaolisticalberodellavita.it
SUMMARY:Gruppo di studio gratuito aperto A TUTTI: “CHAKRA REBALANCING: respiro e mantra per ritrovare centratura e armonia”
DESCRIPTION:Supervisor: Maria Cristina Sapori\ndalle 20\,30 alle 21\,45 SU PIATTAFORMA ZOOM
URL:https://accademiaolisticalberodellavita.it/event/gruppo-di-studio-gratuito-aperto-a-tutti-chakra-rebalancing-respiro-e-mantra-per-ritrovare-centratura-e-armonia/
END:VEVENT
BEGIN:VEVENT
DTSTART;TZID=UTC:20220521T100000
DTEND;TZID=UTC:20220522T190000
DTSTAMP:20260425T194118
CREATED:20220321T215125Z
LAST-MODIFIED:20220321T215125Z
UID:4307-1653127200-1653246000@accademiaolisticalberodellavita.it
SUMMARY:PROGRAMMI ALIMENTARI\, INTEGRATORI E PREPARATI NATURALI PER RAGGIUNGERE E MANTENERE IL GIUSTO PESO
DESCRIPTION:docente: Maria Cristina Sapori\nSVOLGIMENTO ONLINE SU PIATTAFORMA ZOOM \ndalle 10 alle 19\, con 2 break e pausa pranzo in ogni giornata\nContributo richiesto € 155\, comprensivi di dispensa di studio\, registrazione dell’intero corso e attestato di frequenza inviati online\nProgramma del corso\n-Come utilizzare gli alimenti per raggiungere e mantenere il giusto peso\n-Alimenti che stimolano il metabolismo basale e alimenti che lo\nrallentano\n-Apparato digestivo e apparato urinario: cibi\, integratori e rimedi naturali per mantenere il loro naturale stato di\nbenessere\n-Gonfiore\, eccesso di liquidi: come evitarli attraverso il corretto apporto nutrizionale\n-Studio di Programmi Alimentari Personalizzati per il mantenimento del giusto peso e del Benessere Integrale\n-Domande e risposte e studio di casi
URL:https://accademiaolisticalberodellavita.it/event/programmi-alimentari-integratori-e-preparati-naturali-per-raggiungere-e-mantenere-il-giusto-peso/
END:VEVENT
BEGIN:VEVENT
DTSTART;TZID=UTC:20220526T200000
DTEND;TZID=UTC:20220526T220000
DTSTAMP:20260425T194118
CREATED:20220321T215224Z
LAST-MODIFIED:20220321T215224Z
UID:4310-1653595200-1653602400@accademiaolisticalberodellavita.it
SUMMARY:Incontro gratuito aperto A TUTTI: “BAGNO SONORO CON CAMPANE ARMONICHE”
DESCRIPTION:Condotto da: Mara Ricci\ndalle 20\,30 alle 21\,45 SU PIATTAFORMA ZOOM
URL:https://accademiaolisticalberodellavita.it/event/incontro-gratuito-aperto-a-tutti-bagno-sonoro-con-campane-armoniche/
END:VEVENT
BEGIN:VEVENT
DTSTART;TZID=UTC:20220528T100000
DTEND;TZID=UTC:20220529T190000
DTSTAMP:20260425T194118
CREATED:20220321T215637Z
LAST-MODIFIED:20220321T215637Z
UID:4312-1653732000-1653850800@accademiaolisticalberodellavita.it
SUMMARY:FLORAL MASSAGE™
DESCRIPTION:docente: Maria Cristina Sapori\nIL CORSO SI SVOLGE IN PRESENZA PRESSO CENTRO OLISTICO MAJO OM\nVIA OLMETOLA\, 42 BOLOGNA\ndalle 10 alle 19\, con 2 break e pausa pranzo in ogni giornata\nContributo richiesto € 176\, comprensivi di dispensa e attestato di frequenza\nE’ possibile richiedere il video professionale contenente i trattamenti insegnati con un contributo di € 9\nProgramma del corso teorico-pratico\nCollegamenti tra gli oli essenziali e i pianeti del Sistema Solare per comprendere le loro caratteristiche energetiche\, la loro natura riscaldante o rinfrescante e il loro corretto utilizzo per corpo e mente Studio e applicazioni pratiche di: Albero del the – Arancio dolce – Neroli (arancio amaro) – Cipresso – Citronella – Eucalipto – Finocchio Dolce – Geranio – Lavanda – Melissa – Pino Silvestre – Rosmarino – Salvia – Timo Bianco – Zenzero \n\n\n \n\n\n\nFLORAL MASSAGETM: tecniche di applicazione di oli essenziali ed essenze floreali (Fiori di Bach\, Fiori Californiani e Australian Bush) nei: trattamenti antistress – trattamenti per il riequilibrio osteoarticolare – trattamenti preparatori allo sforzo muscolare – trattamenti di mani – piedi – orecchie – addome – zona lombo sacrale \nConsigli e indicazioni per la preparazione di creme e unguenti a base di oli essenziali ed essenze floreali
URL:https://accademiaolisticalberodellavita.it/event/floral-massage-3/
END:VEVENT
END:VCALENDAR