BEGIN:VCALENDAR
VERSION:2.0
PRODID:-//Accademia Olistica Albero della Vita - ECPv6.15.19//NONSGML v1.0//EN
CALSCALE:GREGORIAN
METHOD:PUBLISH
X-WR-CALNAME:Accademia Olistica Albero della Vita
X-ORIGINAL-URL:https://accademiaolisticalberodellavita.it
X-WR-CALDESC:Eventi per Accademia Olistica Albero della Vita
REFRESH-INTERVAL;VALUE=DURATION:PT1H
X-Robots-Tag:noindex
X-PUBLISHED-TTL:PT1H
BEGIN:VTIMEZONE
TZID:UTC
BEGIN:STANDARD
TZOFFSETFROM:+0000
TZOFFSETTO:+0000
TZNAME:UTC
DTSTART:20210101T000000
END:STANDARD
END:VTIMEZONE
BEGIN:VEVENT
DTSTART;TZID=UTC:20220602T203000
DTEND;TZID=UTC:20220602T220000
DTSTAMP:20260425T175914
CREATED:20220321T215754Z
LAST-MODIFIED:20220321T215754Z
UID:4314-1654201800-1654207200@accademiaolisticalberodellavita.it
SUMMARY:Gruppo di studio gratuito aperto A TUTTI: “ESERCITAZIONI E APPROFONDIMENTI SU ESSENZE FLOREALI E OLI ESSENZIALI”
DESCRIPTION:” supervisor: Maria Cristina Sapori dalle 20\,30 alle 21\,45 SU PIATTAFORMA ZOOM
URL:https://accademiaolisticalberodellavita.it/event/gruppo-di-studio-gratuito-aperto-a-tutti-esercitazioni-e-approfondimenti-su-essenze-floreali-e-oli-essenziali/
END:VEVENT
BEGIN:VEVENT
DTSTART;TZID=UTC:20220604T100000
DTEND;TZID=UTC:20220605T190000
DTSTAMP:20260425T175914
CREATED:20220321T215945Z
LAST-MODIFIED:20220321T215945Z
UID:4316-1654336800-1654455600@accademiaolisticalberodellavita.it
SUMMARY:RAINBOW CHAKRA MASSAGE™
DESCRIPTION: docente: Maria Cristina Sapori\nSVOLGIMENTO ONLINE SU PIATTAFORMA ZOOM \nIMPORTANTE: LA DATA E’ VARIATA! \ndalle 10 alle 19\, con 2 break e pausa pranzo in ogni giornata\nContributo richiesto € 155\, comprensivi di dispensa di studio\, attestato di frequenza\, registrazioni del corso inviati online\nProgramma del corso teorico-pratico\n-Cosa vuol dire eseguire un Trattamento Olistico-Vibrazionale dei Chakra\n-Significati dei colori secondo la Cromopratica (Cromoterapia) e loro utilizzo in Rainbow Chakra MassageTM\n-Collegamenti tra i 7 Chakra principali\, gli organi interni e le emozioni\n-Studio degli abbinamenti relativi a ogni Chakra di: Colori\, Essenze Floreali e Oli essenziali\n-Rainbow Chakra MassageTM: come si prepara la parte acquosa dei preparati (o la parte alcolica se si utilizzano gli Spray Sinergici) energizzata con le vibrazioni di Colori\, Essenze Floreali e Cristalli – Preparazione completa degli Oli o Spray Sinergici per eseguire Rainbow Chakra MassageTM\n-Studio approfondito degli oli essenziali di: benzoino – camomilla – cedro dell’Atlante – incenso – lavanda – limone – mirra – mirto – neroli – rosa – sandalo – tsuga canadensis (abete rosso canadese) – verbena – Rainbow Chakra MassageTM Detox: Trattamento che permette di liberarsi da tossine e tensioni e facilita l’armonioso fluire dell’Energia\n-Rainbow Chakra MassageTM Body & Soul: Trattamento che permette di entrare in contatto col proprio sentire profondo e facilitare la liberazione di memorie depotenzianti e traumi emozionali che possono rallentare (o bloccare) il proprio cammino evolutivo)
URL:https://accademiaolisticalberodellavita.it/event/rainbow-chakra-massage-2/
END:VEVENT
BEGIN:VEVENT
DTSTART;TZID=UTC:20220611T100000
DTEND;TZID=UTC:20220612T190000
DTSTAMP:20260425T175914
CREATED:20220321T220221Z
LAST-MODIFIED:20220321T220221Z
UID:4318-1654941600-1655060400@accademiaolisticalberodellavita.it
SUMMARY:CAMPANE TIBETANE E MASSAGGIO SONORO – SECONDO LIVELLO
DESCRIPTION:IL CORSO SI SVOLGE IN PRESENZA PRESSO CENTRO OLISTICO MAJO OM VIA OLMETOLA N. 42 BOLOGNA \n\n\n\ndocente: Mara Ricci\nIL CORSO SI SVOLGE IN PRESENZA PRESSO CENTRO OLISTICO MAJO OM VIA OLMETOLA N. 42 BOLOGNAdalle 10 alle 19\, con 2 break e pausa pranzo in ogni giornata\nContributo richiesto € 176\, comprensivi di dispensa di studio e attestato di frequenza\nProgramma corso-pratico\nAccoglienza e verifica suoni armonici delle campane tibetane eventualmente portate dagli allievi\nCome riconoscere una campana armonica\nChe cos’è l‘Armonia: l’Armonia in natura\, in matematica\, in musica.\nDimostrazione pratica del suono armonico a frequenza 432 hz e accordatura a 440 hz\, cenni storici. Suoniamo le campane Tibetane Armoniche a disposizione di tutti.\nContinuiamo a parlare di Armonia (visione filmato Disney)\nEsperimenti sull’armonia e sul suono delle Campane Tibetane.\nPratica per imparare a suonare\nImportanza delle campane armoniche e come riconoscerle tra tante\nDimostrazione sull’utilizzo del suono per purificare gli ambienti\, i cristalli e tutto ciò che secondo il nostro sentire ha necessità di essere purificato\nPratica con le campane\nSpiegazione sul suono a distanza\, la rete dei suonatori.\nSuonare per sé come atto meditativo\nApprofondimento sull’armonia\, domande e risposte\nDimostrazione a coppie sull’intenzione del suono\nArmonizzazione di gruppo per far sperimentare a tutti il beneficio di un Bagno di Suoni Armonici
URL:https://accademiaolisticalberodellavita.it/event/campane-tibetane-e-massaggio-sonoro-secondo-livello/
END:VEVENT
BEGIN:VEVENT
DTSTART;TZID=UTC:20220616T203000
DTEND;TZID=UTC:20220616T220000
DTSTAMP:20260425T175914
CREATED:20220321T220320Z
LAST-MODIFIED:20220321T220320Z
UID:4321-1655411400-1655416800@accademiaolisticalberodellavita.it
SUMMARY: Gruppo di studio gratuito aperto A TUTTI
DESCRIPTION: Gruppo di studio gratuito aperto A TUTTI\n“PRATICHE ED ESERCIZI QUOTIDIANI PER AFFRONTARE CON ENERGIA E GIOIA L’ESTATE” Supervisor: Maria Cristina Sapori dalle 20\,30 alle 21\,45 su PIATTAFORMA ZOOM
URL:https://accademiaolisticalberodellavita.it/event/gruppo-di-studio-gratuito-aperto-a-tutti/
END:VEVENT
BEGIN:VEVENT
DTSTART;TZID=UTC:20220619T100000
DTEND;TZID=UTC:20220619T190000
DTSTAMP:20260425T175914
CREATED:20220321T221058Z
LAST-MODIFIED:20220321T221131Z
UID:4323-1655632800-1655665200@accademiaolisticalberodellavita.it
SUMMARY:REIKI – 2° LIVELLO
DESCRIPTION:docente: Master Reiki Lally Murero\nIL CORSO SI SVOLGE IN PRESENZA PRESSO CENTRO OLISTICO MAJO OM VIA OLMETOLA N. 42 BOLOGNA\nContributo richiesto € 145\, comprensivi di dispensa di studio e attestato di frequenza\nProgramma del corso teorico esperienziale\n-Cos’è il Reiki di 2° livello potenzialità e utilizzi Reiki in connessione con: salute e riequilibrio\n-ricordare e applicare il potere e il potenziale divino -crescita evolutiva -meccanismi di difesa dell’Io\, le strategie – Presentazione degli strumenti di 2° livello: simboli cosmici\, visualizzazione creativa\, verbalizzazione positiva\, rievocazione – Cosa significa essere Canali Reiki: autotrattamento\, trattamento a persone\, piante\, animali\, cibo\, acqua\, oggetti – Iniziazione del 2° Livello Reiki – Condivisione dell’esperienza -Come si utilizzano gli strumenti alternandoli secondo il proprio sentire -Prove pratiche nel sentire i simboli (sulle mani\, nei trattamenti) – Schemi operativi del 2° Livello: come si disegnano i simboli -rapporto disegno simbolo – pronuncia mantra -5 casi di Procedura di Contatto -Sequenza 3° – 2° – 1° -Obiettivo del trattamento -Autotrattamento 2° Livello + forma alternativa di una sola posizione – Trattamento ad altri fisicamente presenti + forma alternativa di una sola posizione -Trattamento ad altri fisicamente NON presenti -Trattamento a situazioni -Trattamento a bambina/o interiore -Trattamento più profondo con essenza del ricevente Altri possibili utilizzi del 2° Livello: ambienti -protezione -casa Reiki – Prova pratica del Sentire: Trattamento di gruppo a una persona lontana. Condivisione dell’esperienza
URL:https://accademiaolisticalberodellavita.it/event/reiki-2-livello-2/
END:VEVENT
BEGIN:VEVENT
DTSTART;TZID=UTC:20220625T100000
DTEND;TZID=UTC:20220626T190000
DTSTAMP:20260425T175914
CREATED:20220321T221249Z
LAST-MODIFIED:20220321T221249Z
UID:4325-1656151200-1656270000@accademiaolisticalberodellavita.it
SUMMARY: NUMEROLOGIA EVOLUTIVA INTEGRATA – SECONDO LIVELLO
DESCRIPTION:docente: Maria Cristina Sapori\nSVOLGIMENTO ONLINE SU PIATTAFORMA ZOOM\ndalle 10 alle 19\, con 2 break e pausa pranzo in ogni giornata \nContributo richiesto € 155\, comprensivi di dispensa di studio\, registrazione dell’intero corso e attestato di frequenza\nProgramma del corso teorico-pratico\nAmpliamento e approfondimento della Carta Personale di Numerologia Evolutiva Integrata Come costruire e interpretare la Griglia di Nascita attraverso lo studio dei propri numeri Studio delle Frecce che indicano predisposizioni\, attitudini\, potenzialità \nIl Numero dei Talenti: come si ricava\nComprendere i cambiamenti che avvengono nella vita durante i Cicli dei 9 Anni Suddivisione della vita in 4 fasi evolutive: Anni dei Picchi d’energia e Anni delle Sfide\nIl legame fra Astrologia e Numerologia
URL:https://accademiaolisticalberodellavita.it/event/numerologia-evolutiva-integrata-secondo-livello-2/
END:VEVENT
END:VCALENDAR