BEGIN:VCALENDAR
VERSION:2.0
PRODID:-//Accademia Olistica Albero della Vita - ECPv6.15.19//NONSGML v1.0//EN
CALSCALE:GREGORIAN
METHOD:PUBLISH
X-ORIGINAL-URL:https://accademiaolisticalberodellavita.it
X-WR-CALDESC:Eventi per Accademia Olistica Albero della Vita
REFRESH-INTERVAL;VALUE=DURATION:PT1H
X-Robots-Tag:noindex
X-PUBLISHED-TTL:PT1H
BEGIN:VTIMEZONE
TZID:UTC
BEGIN:STANDARD
TZOFFSETFROM:+0000
TZOFFSETTO:+0000
TZNAME:UTC
DTSTART:20210101T000000
END:STANDARD
END:VTIMEZONE
BEGIN:VEVENT
DTSTART;TZID=UTC:20220701T110000
DTEND;TZID=UTC:20220703T173000
DTSTAMP:20260425T160734
CREATED:20220321T221856Z
LAST-MODIFIED:20220321T221856Z
UID:4327-1656673200-1656869400@accademiaolisticalberodellavita.it
SUMMARY:RESIDENZIALE DI VERIFICA E APPRENDIMENTO TECNICHE IN AGRITURISMO SULLE MERAVIGLIOSE COLLINE INTORNO AD ASSISI
DESCRIPTION:(IL RESIDENZIALE E’ OBBLIGATORIO SOLO PER CHI FREQUENTA TUTTA LA FORMAZIONE ONLINE\, MA E’ FORTEMENTE CONSIGLIATO PER APPROFONDIRE LE MATERIE INSEGNATE DURANTE IL PERCORSO DI FORMAZIONE).\nContributo richiesto € 263\, comprensivi di vitto\, alloggio\, tutte le lezioni con i diversi insegnanti e i Bagni di Suoni serali\nProgramma del residenziale esperienziale\nStudio approfondito e verifica delle tecniche apprese durante l’anno di formazione.\nPratica in aula di: Tecniche di riequilibrio energetico (Chakra Rebalancing)\n-Trattamenti e scambi Reiki\n-Pratica in aula di Floral Massage\n-Esercizi per il riconoscimento degli Specchi nella vita di tutti i giorni\n-Riconoscimento e raccolta dei fiori per la preparazione di 2 essenze floreali\nPer il dettaglio delle attività vedi il programma
URL:https://accademiaolisticalberodellavita.it/event/residenziale-di-verifica-e-apprendimento-tecniche-in-agriturismo-sulle-meravigliose-colline-intorno-ad-assisi/
END:VEVENT
BEGIN:VEVENT
DTSTART;TZID=UTC:20220705T203000
DTEND;TZID=UTC:20220705T230000
DTSTAMP:20260425T160734
CREATED:20220321T222021Z
LAST-MODIFIED:20220321T222021Z
UID:4332-1657053000-1657062000@accademiaolisticalberodellavita.it
SUMMARY: TECNICHE DI LIBERAZIONE EMOZIONALE: EFT
DESCRIPTION:primo corso serale dalle 20\,30 alle 23\ndocente: Maria Cristina Sapori\nSVOLGIMENTO ONLINE SU PIATTAFORMA ZOOM \ndalle 20\,30 alle 23\nContributo € 29\, comprensivi della dispensa di studio e della registrazione del corso inviati online Programma del corso teorico-esperienziale\n-Come si utilizza la tecnica EFT per liberare traumi ed emozioni cristallizzate nel nostro sistema mente- corpo\n-Affermazioni: come si fanno\n-Come si pratica la sequenza: picchiettamento sui Punti allarme (tecnica di tapping)\n-Procedura 9 GAMMA\n-Sistema di valutazione da 1 a 10\n-La causa di tutte le emozioni disarmoniche è un blocco del sistema energetico: come usare la “frase promemoria”\n-L’importanza di essere chiari sulle problematiche da affrontare\n-L’importanza della costanza
URL:https://accademiaolisticalberodellavita.it/event/tecniche-di-liberazione-emozionale-eft/
END:VEVENT
BEGIN:VEVENT
DTSTART;TZID=UTC:20220712T203000
DTEND;TZID=UTC:20220712T230000
DTSTAMP:20260425T160734
CREATED:20220321T222118Z
LAST-MODIFIED:20220321T222118Z
UID:4335-1657657800-1657666800@accademiaolisticalberodellavita.it
SUMMARY: TECNICHE DI LIBERAZIONE EMOZIONALE: HO’ OPONOPONO – secondo corso serale –
DESCRIPTION:docente: Maria Cristina Sapori\nSVOLGIMENTO ONLINE SU PIATTAFORMA ZOOM\ndalle 20\,30 alle 23\nContributo € 29\, comprensivi della dispensa di studio e della registrazione del corso inviati online Programma del corso teorico-esperienziale\n-I punti chiave della Tecnica Ho’Oponopono\n-Comprendere i 3 aspetti del nostro essere:\n-Supercosciente( Sé Superiore\n-Cosciente (Ego)\n-Subcosciente (Bambino/a Interiore)\n-Impariamo a fluire e ad affidarci all’Amore Universale\n-Significato del Mantra “Mi Dispiace – Perdonami – Grazie – Ti Amo”
URL:https://accademiaolisticalberodellavita.it/event/tecniche-di-liberazione-emozionale-ho-oponopono-secondo-corso-serale/
END:VEVENT
BEGIN:VEVENT
DTSTART;TZID=UTC:20220715T110000
DTEND;TZID=UTC:20220717T173000
DTSTAMP:20260425T160734
CREATED:20220321T222245Z
LAST-MODIFIED:20220321T222245Z
UID:4338-1657882800-1658079000@accademiaolisticalberodellavita.it
SUMMARY: RESIDENZIALE DI VERIFICA E APPRENDIMENTO TECNICHE IN AGRITURISMO SULLE MERAVIGLIOSE COLLINE INTORNO AD ASSISI
DESCRIPTION:(IL RESIDENZIALE E’ OBBLIGATORIO SOLO PER CHI FREQUENTA TUTTA LA FORMAZIONE ONLINE\, MA E’ FORTEMENTE CONSIGLIATO PER APPROFONDIRE LE MATERIE INSEGNATE DURANTE IL PERCORSO DI FORMAZIONE). \nContributo richiesto € 263\, comprensivi di vitto\, alloggio\, tutte le lezioni con i diversi insegnanti e i Bagni di Suoni serali\nProgramma del residenziale esperienziale\nStudio approfondito e verifica delle tecniche apprese durante l’anno di formazione. \nPratica in aula di: Tecniche di lettura dell’aura\n-Pratica in aula di Rainbow Chakra MassageTM\n-Pratica in aula di Floral MassageTM\n-Pratica in aula dei trattamenti di Tecnica Metamorfica\n-Riconoscimento e raccolta dei fiori per la preparazione di 2 essenze floreali Per il dettaglio delle attività vedi il programma
URL:https://accademiaolisticalberodellavita.it/event/residenziale-di-verifica-e-apprendimento-tecniche-in-agriturismo-sulle-meravigliose-colline-intorno-ad-assisi-2/
END:VEVENT
BEGIN:VEVENT
DTSTART;TZID=UTC:20220719T203000
DTEND;TZID=UTC:20220719T230000
DTSTAMP:20260425T160734
CREATED:20220321T222356Z
LAST-MODIFIED:20220321T222356Z
UID:4341-1658262600-1658271600@accademiaolisticalberodellavita.it
SUMMARY:TECNICHE DI LIBERAZIONE EMOZIONALE: COME ABBINARE EFT E HO’OPONOPONO PER POTENZIARE GLI EFFETTI DELLE DUE TECNICHE – terzo corso serale
DESCRIPTION:docente: Maria Cristina Sapori\nSVOLGIMENTO ONLINE SU PIATTAFORMA ZOOM \ndalle 20\,30 alle 23\nContributo € 29\, comprensivi della dispensa di studio e della registrazione del corso inviati online\nChi partecipa ai 3 incontri riceverà l’attestato di frequenza\nProgramma del corso teorico-esperienziale\n-Come abbinare EFT e HO’OPONOPONO per potenziare gli effetti di ribilanciamento delle proprie emozioni -Quali sono gli errori da evitare\n-Pratichiamo insieme per imparare al meglio la definizione degli obiettivi e la sequenza delle tecniche abbinate.
URL:https://accademiaolisticalberodellavita.it/event/tecniche-di-liberazione-emozionale-come-abbinare-eft-e-hooponopono-per-potenziare-gli-effetti-delle-due-tecniche-terzo-corso-serale/
END:VEVENT
END:VCALENDAR