BEGIN:VCALENDAR
VERSION:2.0
PRODID:-//Accademia Olistica Albero della Vita - ECPv6.15.19//NONSGML v1.0//EN
CALSCALE:GREGORIAN
METHOD:PUBLISH
X-ORIGINAL-URL:https://accademiaolisticalberodellavita.it
X-WR-CALDESC:Eventi per Accademia Olistica Albero della Vita
REFRESH-INTERVAL;VALUE=DURATION:PT1H
X-Robots-Tag:noindex
X-PUBLISHED-TTL:PT1H
BEGIN:VTIMEZONE
TZID:UTC
BEGIN:STANDARD
TZOFFSETFROM:+0000
TZOFFSETTO:+0000
TZNAME:UTC
DTSTART:20210101T000000
END:STANDARD
END:VTIMEZONE
BEGIN:VEVENT
DTSTART;TZID=UTC:20221001T100000
DTEND;TZID=UTC:20221002T190000
DTSTAMP:20260425T105500
CREATED:20220731T070912Z
LAST-MODIFIED:20220731T070912Z
UID:4620-1664618400-1664737200@accademiaolisticalberodellavita.it
SUMMARY:corso CRISTALLOPRATICA INTUITIVA INTEGRATA - 1° livello
DESCRIPTION:IL CORSO SI SVOLGE IN PRESENZA IN VIA OLMETOLA N. 42 BOLOGNA \n\n\n\n\n\nE CONTEMPORANEAMENTE IN DIRETTA ONLINE SU PIATTAFORMA ZOOM \n\n\n\n\ndocente: Mara Ricci \n\n\n\n\nCorso in aula: contributo richiesto € 179\, comprensivi di dispensa di studio e attestato di frequenza. \n\n\n\n\nCorso in diretta online: contributo richiesto € 158\, comprensivi di dispensa di studio\, registrazione \n\n\n\n\ndell’intero corso e attestato di frequenza inviati online \n\n\n\n\n\n\nProgramma corso teorico-esperienziale \n\n\n\n\nLitogenesi: cenni chimico fisco dei cristalli \n\n\n\n\nPulizia dei cristalli \n\n\n\n\nStudio della Geometria Sacra contenuta nei Cristalli e comprensione del loro valore vibrazionale Chakra e \n\n\n\n\ncristalli \n\n\n\n\nCristalli Maestro: introduzione \n\n\n\n\nIl radicamento e la connessione al cielo \n\n\n\n\nBlocchi energetici: riconoscerli ed intervenire attraverso i cristalli Infusione cristalline a coppie: pratica \n\n\n\n\nLa scelta intuitiva di un cristallo\, mettersi in ascolto del suo messaggio \n\n\n\n\nElisir con i cristalli attraverso l’informazione vibrazionale \n\n\n\n\nIntroduzione ai cristalli maestro \n\n\n\n\nDimostrazione di seduta cristallina \n\n\n\n\nMeditazioni guidate per entrare in connessione con il Mondo Cristallino
URL:https://accademiaolisticalberodellavita.it/event/corso-cristallopratica-intuitiva-integrata-1-livello/
END:VEVENT
BEGIN:VEVENT
DTSTART;TZID=UTC:20221002T100000
DTEND;TZID=UTC:20221002T190000
DTSTAMP:20260425T105500
CREATED:20220731T071112Z
LAST-MODIFIED:20220731T071112Z
UID:4622-1664704800-1664737200@accademiaolisticalberodellavita.it
SUMMARY:corso DEONTOLOGIA PROFESSIONALE PER OPERATORI OLISTICI
DESCRIPTION:IL CORSO SI SVOLGE IN PRESENZA PRESSO ACCADEMIA OLISTICA ALBERO DELLA VITA VIA F. \n\n\n\n\nBETTI\, IDICE–S. LAZZARO DI SAVENA (BO) \n\n\n\n\nE CONTEMPORANEAMENTE IN DIRETTA ONLINE SU PIATTAFORMA ZOOM \n\n\n\n\ndocente: Maria Cristina Sapori \n\n\n\n\nContributo richiesto (sia in presenza che in diretta online) € 84\, comprensivi di dispensa di studio e \n\n\n\n\nattestato di frequenza \n  \n\n\n\n\n\nProgramma del corso \n\n\n \n\n\nLa presa in carico del cliente \n\n\n \n\n\nConsenso informato\, tutela della privacy \n\n\n \n\n\nRapporti con i clienti e con i colleghi \n\n\n \n\n\nEducazione continua professionale: ECP Aggiornamenti e norme \n\n\n \n\n\nSpazio interattivo per domande
URL:https://accademiaolisticalberodellavita.it/event/corso-deontologia-professionale-per-operatori-olistici/
END:VEVENT
BEGIN:VEVENT
DTSTART;TZID=UTC:20221008T100000
DTEND;TZID=UTC:20221009T190000
DTSTAMP:20260425T105500
CREATED:20220731T071309Z
LAST-MODIFIED:20220731T071350Z
UID:4624-1665223200-1665342000@accademiaolisticalberodellavita.it
SUMMARY:corso TECNICA METAMORFICA: IL TOCCO CHE TRASFORMA – Livello Base
DESCRIPTION:  \n\n\n\n\n\nIL CORSO SI SVOLGE IN PRESENZA IN VIA OLMETOLA N. 42 BOLOGNA \n\n\n\n\nE CONTEMPORANEAMENTE IN DIRETTA ONLINE SU PIATTAFORMA ZOOM \n\n\n\n\ndocente: docente: Sonja Demuru \n\n\n\n\nCorso in aula: contributo richiesto € 179\, comprensivi di dispensa di studio e attestato di frequenza. \n\n\n\n\nCorso in diretta online: contributo richiesto € 158\, comprensivi di dispensa di studio\, registrazione \n\n\n\n\ndell’intero corso e attestato di frequenza inviati online \n\n\n\n\nProgramma del corso teorico-esperienziale \n\n\n\n\n– Robert St. John e l’evoluzione dalla Riflessologia plantare alla Tecnica Metamorfica. \n\n\n\n\n-Lo schema prenatale: dal pre-concepimento alla nascita. Quando entra la coscienza nella nuova vita che \n\n\n\n\nva formandosi? \n\n\n\n\n-Come le Influenze ostacolano la nostra realizzazione su questa terra: Influenze Materiali e Influenze non \n\n\n\n\nMateriali. \n\n\n\n\n-Il principio delle corrispondenze: tessuti duri\, tessuti molli\, fluidi – Energia\, Pensiero\, Emozioni. – \n\n\n\n\nL’approccio dell’Operatore e l’importanza della non motivazione. \n\n\n\n\n-La pratica: a chi è rivolta la Tecnica Metamorfica? \n\n\n\n\n-Trattamento ai piedi \n\n\n\n\n-Trattamento alle mani \n\n\n\n\n-Trattamento alla testa \n\n\n\n\n-Trattamento a distanza \n\n\n\n\n-Esercitazioni in aula
URL:https://accademiaolisticalberodellavita.it/event/corso-tecnica-metamorfica-il-tocco-che-trasforma-livello-base/
END:VEVENT
BEGIN:VEVENT
DTSTART;TZID=UTC:20221015T100000
DTEND;TZID=UTC:20221016T190000
DTSTAMP:20260425T105500
CREATED:20220731T071522Z
LAST-MODIFIED:20220731T071522Z
UID:4626-1665828000-1665946800@accademiaolisticalberodellavita.it
SUMMARY:corso NUMEROLOGIA EVOLUTIVA INTEGRATA – Primo Livello
DESCRIPTION:  \nIL CORSO SI SVOLGE SOLO IN DIRETTA ONLINE SU PIATTAFORMA ZOOM \ndocente: Maria Cristina Sapori \nContributo richiesto € 158\, comprensivi di dispensa di studio\, registrazione dell’intero corso e attestato di frequenza inviati online \nProgramma teorico-pratico\nNumerologia: scopri chi sei attraverso lo studio dei tuoi numeri di nascita: data\, città di nascita\, numeri ricorrenti nella tua vita. Ognuno di noi corrisponde a un numero che contiene i segreti della sua personalità e rivela qual è il suo Progetto di vita\nCome ricavare il Numero del Destino\, il Numero della Personalità\, il Numero dell’Interiorità\nCome ricavare la Carta Numerologica di Nascita: simbologia esoterica dei Numeri e valore delle lettere per comprendere predisposizioni\, attitudini e talenti.\nComparazione delle analisi numerologiche: affinità di coppia\, rapporti d’amicizia\, relazioni in ambito lavorativo\nNumeri doppi\, tripli e quadrupli: significato e simbologia\nNumeri Karmici: quali sono e che significato hanno nella nostra vita
URL:https://accademiaolisticalberodellavita.it/event/corso-numerologia-evolutiva-integrata-primo-livello/
END:VEVENT
BEGIN:VEVENT
DTSTART;TZID=UTC:20221019T080000
DTEND;TZID=UTC:20221019T170000
DTSTAMP:20260425T105500
CREATED:20221019T105451Z
LAST-MODIFIED:20221019T105451Z
UID:4700-1666166400-1666198800@accademiaolisticalberodellavita.it
SUMMARY:CERIMONIA DEL FUOCO IN PREPARAZIONE DEL NATALE
DESCRIPTION:INCONTRO A OFFERTA LIBERA E CONSAPEVOLE APERTO AGLI ALLIEVI DELL’ACCADEMIA OLISTICA ALBERO DELLA VITA\nconduce Maria Cristina Sapori con la partecipazione degli insegnanti della nostra Accademia: Lally Murero\, Sonia Demuru\, Mara Ricci\, Linda Ferioli e Alessio Bennati dalle 21 alle 22\,30 in presenza presso Centro Olistico Majo Om Via Olmetola\, 42 Bologna \nLa Cerimonia del Fuoco si svolge in presenza presso il Centro Olistico Majo Om Via Olmetola\, 42 Bologna e contemporaneamente in diretta online PIATTAFORMA ZOOM
URL:https://accademiaolisticalberodellavita.it/event/cerimonia-del-fuoco-in-preparazione-del-natale/
ATTACH;FMTTYPE=image/jpeg:https://accademiaolisticalberodellavita.it/wp-content/uploads/2022/10/cerimonia-fuoco.jpg
END:VEVENT
BEGIN:VEVENT
DTSTART;TZID=UTC:20221030T100000
DTEND;TZID=UTC:20221030T130000
DTSTAMP:20260425T105500
CREATED:20220731T072330Z
LAST-MODIFIED:20221019T101317Z
UID:4630-1667124000-1667134800@accademiaolisticalberodellavita.it
SUMMARY:SESSIONE D’ESAME FINALE PER IL CONSEGUIMENTO DEL TITOLO DI  “OPERATORE OLISTICO A INDIRIZZO VIBRAZIONALE INTEGRATO”
DESCRIPTION:L’ESAME SI SVOLGE IN PRESENZA PRESSO ACCADEMIA OLISTICA ALBERO DELLA VITA VIA F. \n\n\n\n\nBETTI\, IDICE–S. LAZZARO DI SAVENA (BO) \n\n\n\n\nNOTA BENE: L’assistenza per la stesura dell’elaborato finale e la sessione d’esame ordinario prevedono \n\n\n\n\nun contributo di € 95.
URL:https://accademiaolisticalberodellavita.it/event/sessione-desame-finale-per-il-conseguimento-del-titolo-di-operatore-olistico-a-indirizzo-vibrazionale-integrato/
ATTACH;FMTTYPE=image/jpeg:https://accademiaolisticalberodellavita.it/wp-content/uploads/2020/12/chakra-2.jpg
END:VEVENT
END:VCALENDAR