BEGIN:VCALENDAR
VERSION:2.0
PRODID:-//Accademia Olistica Albero della Vita - ECPv6.15.19//NONSGML v1.0//EN
CALSCALE:GREGORIAN
METHOD:PUBLISH
X-WR-CALNAME:Accademia Olistica Albero della Vita
X-ORIGINAL-URL:https://accademiaolisticalberodellavita.it
X-WR-CALDESC:Eventi per Accademia Olistica Albero della Vita
REFRESH-INTERVAL;VALUE=DURATION:PT1H
X-Robots-Tag:noindex
X-PUBLISHED-TTL:PT1H
BEGIN:VTIMEZONE
TZID:UTC
BEGIN:STANDARD
TZOFFSETFROM:+0000
TZOFFSETTO:+0000
TZNAME:UTC
DTSTART:20220101T000000
END:STANDARD
END:VTIMEZONE
BEGIN:VEVENT
DTSTART;TZID=UTC:20230304T100000
DTEND;TZID=UTC:20230305T190000
DTSTAMP:20260425T015503
CREATED:20230102T142238Z
LAST-MODIFIED:20230102T142238Z
UID:4856-1677924000-1678042800@accademiaolisticalberodellavita.it
SUMMARY:COME CONDURRE UNA SEDUTA IN TECNICHE OLISTICHE
DESCRIPTION: \nIL CORSO SI SVOLGE IN DIRETTA ONLINE SU PIATTAFORMA ZOOM \ndocente: Maria Cristina Sapori \nProgramma del corso teorico-esperienziale\nCome impostare il colloquio con il cliente: empatia\, ascolto attento\, valutazione della tipologia di intervento da attuare\nComprensione degli strumenti e delle tecniche più adeguate ad ogni caso\nRapporto Operatore Olistico – Cliente\nSimulazione in aula di casi specifici con valutazione dell’approccio olistico da attuare
URL:https://accademiaolisticalberodellavita.it/event/come-condurre-una-seduta-in-tecniche-olistiche/
ATTACH;FMTTYPE=image/jpeg:https://accademiaolisticalberodellavita.it/wp-content/uploads/2020/12/slider255__0002_ninfea01.jpg
END:VEVENT
BEGIN:VEVENT
DTSTART;TZID=UTC:20230311T100000
DTEND;TZID=UTC:20230312T190000
DTSTAMP:20260425T015503
CREATED:20230102T142509Z
LAST-MODIFIED:20230225T053058Z
UID:4860-1678528800-1678647600@accademiaolisticalberodellavita.it
SUMMARY: CAMPANE TIBETANE E MASSAGGIO SONORO – 3° LIVELLO
DESCRIPTION:IL CORSO SI SVOLGE IN PRESENZA IN VIA F. BETTI\, 6 IDICE – S. LAZZARO DI SAVENA (BO) \nDocente: Mara Ricci \nProgramma del percorso teorico-esperienziale \nNel terzo week end si approfondiranno le tecniche di Massaggio Sonoro Armonico sul corpo fisico e su quello aurico. \nVerranno inoltre presentati altri strumenti armonici\, come il Diapason\, la campana tubolare per l’armonizzatore dei chakra e saranno dati suggerimenti su come crearsi una propria tecnica di armonizzazione\, utilizzando ciò di cui si dispone\, anche eventuali altri strumenti\, diversi da quelli messi a disposizione dall’insegnante. Nel dettaglio: \nAccoglienza e pratica del Massaggio Sonoro supino \nDimostrazione Massaggio Sonoro prono \nPratica Massaggio Sonoro prono e scambi \nApprofondimenti sulla pratica\, dubbi\, domande e delucidazioni \nPratica per sé e per gli altri \nI diapason e il loro utilizzo. Prove pratiche \nPratica e scambi a coppie \nAltri strumenti armonici\, breve spiegazione e carrellata. Come usarli e come integrarli nel trattamento. Prove pratiche
URL:https://accademiaolisticalberodellavita.it/event/campane-tibetane-e-massaggio-sonoro-3-livello/
END:VEVENT
BEGIN:VEVENT
DTSTART;TZID=UTC:20230312T100000
DTEND;TZID=UTC:20230312T190000
DTSTAMP:20260425T015503
CREATED:20230225T055027Z
LAST-MODIFIED:20230225T055027Z
UID:4955-1678615200-1678647600@accademiaolisticalberodellavita.it
SUMMARY: VOICE\, VIBE & AEQUILIBRIUM – 2° MODULO
DESCRIPTION:  \nIL CORSO SI SVOLGE IN DIRETTA ONLINE SU PIATTAFORMA ZOOM \ndocente: Barbara Magnoni \nProgramma del corso teorico-esperienziale \n-Introduzione al canto armonico \n-la progressione degli armonici: cosa sono? \n-sciogliamo la muscolatura del collo e ricerchiamo il timbro con qualche esercizio di respirazione e \n-humming approfondimento -la cannuccia: perché usarla? esercizi di proiezione \n-tutti gli esercizi pratici finalizzati alla produzione degli armonici: passaggi graduali\, tecnica della “L”\, armonici nell’Humming \n-ancora pratica degli esercizi del canto armonico \n-Utilizzo pratico degli strumenti più usati nel Sound Healing impariamo come utilizzare una ciotola tibetana\, -il koshi\, lo shruti box o una qualsiasi base musicale meditativa (come a esempio le “frequenze miracolose”) come base per il Vocal Toning o l’Intuitive Singing \n-esercizi di pratica a coppie \n-le scale musicali più semplici e le loro funzioni per aiutare a sciogliere i blocchi emotivi \n-esercizi di pratica tutti insieme \n-figurazioni facili di Tamburo Sciamanico\, lettura di semplici partiture ritmiche\, idee per gestire meglio il \n-tamburo e iniziare ad unire il canto allo strumento \n-Cerchio finale di tamburi\, strumenti e voce in cui mettere in pratica ciò che abbiamo imparato durante il corso
URL:https://accademiaolisticalberodellavita.it/event/voice-vibe-aequilibrium-2-modulo/
END:VEVENT
BEGIN:VEVENT
DTSTART;TZID=UTC:20230325T100000
DTEND;TZID=UTC:20230326T190000
DTSTAMP:20260425T015503
CREATED:20230102T143201Z
LAST-MODIFIED:20230225T052933Z
UID:4862-1679738400-1679857200@accademiaolisticalberodellavita.it
SUMMARY:CHAKRA REBALANCING – 1° Livello
DESCRIPTION:docente: Maria Cristina Sapori\nIL CORSO SI SVOLGE IN PRESENZA IN VIA F. BETTI\, 6 S. LAZZARO DI SAVENA  (BO) E CONTEMPORANEAMENTE IN DIRETTA ONLINE SU PIATTAFORMA ZOOM\nProgramma del corso teorico-esperienziale\nI Chakra principali: capire come funzionano e come influiscono sul nostro corpo e sulle nostre emozioni. Riconoscere quali sono i loro segnali di squilibrio e imparare ad armonizzarli \nAttivazione dei Chakra inferiori: Esercizi e pratiche di riequilibrio energetico per aumentare energia e vitalità\nAttivazione del Chakra del cuore: ricevere e dare amore\, attraverso il riconoscimento della propria unicità Attivazione dei Chakra superiori: meditazioni creative\, mantra di purificazione e protezione. \nLa preghiera come ponte sacro tra noi e le nostre Guide Celesti\nDurante ogni incontro impareremo come riequilibrare ogni centro d’energia attraverso l’utilizzo di: Tecniche di respirazione consapevole \nCanto di mantra sacri di purificazione e protezione \nMeditazione creativa guidata \nCreazione di Mandala di Luce
URL:https://accademiaolisticalberodellavita.it/event/chakra-rebalancing-1-livello/
END:VEVENT
BEGIN:VEVENT
DTSTART;TZID=UTC:20230325T100000
DTEND;TZID=UTC:20230326T190000
DTSTAMP:20260425T015503
CREATED:20230102T143337Z
LAST-MODIFIED:20230119T153712Z
UID:4864-1679738400-1679857200@accademiaolisticalberodellavita.it
SUMMARY:FENG SHUI – 1° MODULO
DESCRIPTION:FENG SHUI – 1° MODULO\nIL CORSO SI SVOLGE IN DIRETTA ONLINE SU PIATTAFORMA ZOOM \ndocente: Marco Palavicino \nProgramma del corso teorico-esperienziale \nCenni storici e origini del Feng Shui autentico\nCosa non è il Feng Shui. Equivoci e distorsioni legati alla disciplina\nUomo e ambiente\, come veniamo influenzati: la relazione tra stimolazioni ambientali e complesso psicofisico dell’animale uomo \nIntroduzione alla Metafisica cinese\nLa triade del Benessere. I 3 qi.\nLa realtà materiale filtrata dal modello analitico/intuitivo Yin-Yang \nL’ABITAZIONE – IDENTITA’ E POSIZIONAMENTO-\n(La prima fase della Scuola della Forma: la SCUOLA DEGLI ANIMALI)\nL’importanza del posizionamento rispetto all’ambiente circostante\nEvoluzione e significato dell’aspetto abitativo da un punto di vista olistico Identificazione tra uomo e abitazione. Livelli di lettura e analisi\nConfigurazione della struttura abitativa e relazione con gli esterni\nCorrispondenza tra aree esterne dell’abitazione e aree del vissuto (i 4 animali celesti) I 4 animali celesti e gli interni abitativi – analisi e corrispondenze\nLe postazioni fisse: letto\, scrivania\, divano\, ecc. \nLA SCUOLA DELLA FORMA\nI 3 movimenti energetici delle Forme (Sha Qi\, Si Qi\, Sheng Qi)\nLe sensazioni derivate dalle forme e loro analisi attraverso esempi pratici Relazione tra i 3 movimenti del Qi e la Scuola degli Animali \nQuestion Time in aula (chiarimenti e/o approfondimenti)
URL:https://accademiaolisticalberodellavita.it/event/feng-shui-1-modulo/
END:VEVENT
BEGIN:VEVENT
DTSTART;TZID=UTC:20230325T100000
DTEND;TZID=UTC:20230326T190000
DTSTAMP:20260425T015503
CREATED:20230102T143443Z
LAST-MODIFIED:20230102T143443Z
UID:4866-1679738400-1679857200@accademiaolisticalberodellavita.it
SUMMARY: RIFLESSOLOGIA PLANTARE OLISTICA INTEGRATA – 3° MODULO
DESCRIPTION:IL CORSO SI SVOLGE IN PRESENZA IN VIA OLMETOLA N. 42 BOLOGNA \ndocente: Sonja Demuru \nProgramma del corso teorico-pratico \n-MOVIMENTO METALLO: COPPIA POLMONE/INTESTINO CRASSO \n-Il nutrimento del Cielo: Sistema Respiratorio \n-Alimentazione\, Essenze Floreali e Oli Essenziali \n-Gabbia toracica e respiro delle ossa \n-Protocollo Sistema Respiratorio \n-SISTEMA ENDOCRINO \n-Le porte fra la Terra e il Cielo \n-Alimentazione\, Essenze Floreali e Oli Essenziali \n-Protocollo Sistema Endocrino \n-RELAZIONI TRA I CINQUE MOVIMENTI \n-Ciclo di Generazione e Ciclo di Controllo \n-SIGNIFICATO IN PSICOSOMATICA DELLE DITA DEI PIEDI \n-CONSIGLI PER SQUILIBRI VARI
URL:https://accademiaolisticalberodellavita.it/event/riflessologia-plantare-olistica-integrata-3-modulo/
END:VEVENT
END:VCALENDAR