BEGIN:VCALENDAR
VERSION:2.0
PRODID:-//Accademia Olistica Albero della Vita - ECPv6.15.19//NONSGML v1.0//EN
CALSCALE:GREGORIAN
METHOD:PUBLISH
X-ORIGINAL-URL:https://accademiaolisticalberodellavita.it
X-WR-CALDESC:Eventi per Accademia Olistica Albero della Vita
REFRESH-INTERVAL;VALUE=DURATION:PT1H
X-Robots-Tag:noindex
X-PUBLISHED-TTL:PT1H
BEGIN:VTIMEZONE
TZID:UTC
BEGIN:STANDARD
TZOFFSETFROM:+0000
TZOFFSETTO:+0000
TZNAME:UTC
DTSTART:20220101T000000
END:STANDARD
END:VTIMEZONE
BEGIN:VEVENT
DTSTART;TZID=UTC:20230507T100000
DTEND;TZID=UTC:20230507T130000
DTSTAMP:20260424T204526
CREATED:20230310T091805Z
LAST-MODIFIED:20230414T190737Z
UID:4985-1683453600-1683464400@accademiaolisticalberodellavita.it
SUMMARY:Esame interno per il conseguimento dell’Attestato Finale del Percorso di Riflessologia Plantare Olistica Integrata.
DESCRIPTION:L’esame interno si svolge dalle 10 alle 13 presso Accademia Olistica Albero della Vita Via F. Betti\, 6 Idice – S. Lazzaro di Savena (BO)
URL:https://accademiaolisticalberodellavita.it/event/feng-shui-2-modulo/
END:VEVENT
BEGIN:VEVENT
DTSTART;TZID=UTC:20230513T100000
DTEND;TZID=UTC:20230514T190000
DTSTAMP:20260424T204526
CREATED:20230310T092334Z
LAST-MODIFIED:20230310T092334Z
UID:4989-1683972000-1684090800@accademiaolisticalberodellavita.it
SUMMARY:RAINBOW CHAKRA MASSAGE™
DESCRIPTION:RAINBOW CHAKRA MASSAGE™\nIL CORSO SI SVOLGE IN PRESENZA IN VIA F. BETTI\, 6 IDICE – S. LAZZARO DI SAVENA (BO) \nE CONTEMPORANEAMENTE IN DIRETTA ONLINE SU PIATTAFORMA ZOOM \ndocente: Maria Cristina Sapori\nProgramma del corso teorico-esperienziale\n-Cosa vuol dire eseguire un Trattamento Olistico-Vibrazionale dei Chakra\n-Significati dei colori secondo la Cromopratica (Cromoterapia) e loro utilizzo in Rainbow Chakra Massage™\n-Collegamenti tra i 7 Chakra principali\, gli organi interni e le emozioni\n-Studio degli abbinamenti relativi a ogni Chakra di: Colori\, Essenze Floreali e Oli essenziali\n-Rainbow Chakra Massage™: come si prepara la parte acquosa dei preparati (o la parte alcolica se si utilizzano gli Spray Sinergici) energizzata con le vibrazioni di Colori\, Essenze Floreali e Cristalli\n-Preparazione completa degli Oli o Spray Sinergici per eseguire Rainbow Chakra Massage™\n-Studio approfondito degli oli essenziali di: benzoino – camomilla – cedro dell’Atlante – incenso – lavanda – limone – mirra – mirto – neroli – rosa – sandalo – tsuga canadensis (abete rosso canadese) – verbena\n-Rainbow Chakra Massage™ Detox: Trattamento che permette di liberarsi da tossine e tensioni e facilita l’armonioso fluire dell’Energia\n-Rainbow Chakra Massage™ Body & Soul: Trattamento che permette di entrare in contatto col proprio sentire profondo e facilitare la liberazione di memorie depotenzianti e traumi emozionali che possono rallentare (o bloccare) il proprio cammino evolutivo)\n-Visione in diretta online del video professionale relativo alle 2 tecniche di Rainbow Chakra Massage™\n-Domande e risposte relative alle tecniche visionate
URL:https://accademiaolisticalberodellavita.it/event/rainbow-chakra-massage-3/
ATTACH;FMTTYPE=image/jpeg:https://accademiaolisticalberodellavita.it/wp-content/uploads/2020/12/oli-essenziali-1.jpg
END:VEVENT
BEGIN:VEVENT
DTSTART;TZID=UTC:20230513T100000
DTEND;TZID=UTC:20230514T190000
DTSTAMP:20260424T204526
CREATED:20230527T091938Z
LAST-MODIFIED:20230503T090341Z
UID:4987-1683972000-1684090800@accademiaolisticalberodellavita.it
SUMMARY:PERCORSO DI MAESTRATO REIKI – 3° E ULTIMO WEEK END
DESCRIPTION:  \nIL CORSO SI SVOLGE IN PRESENZA IN VIA OLMETOLA 42 BOLOGNA \ndocente: Master Reiki Jolanda Murero
URL:https://accademiaolisticalberodellavita.it/event/percorso-di-maestrato-reiki-3-e-ultimo-week-end/
END:VEVENT
BEGIN:VEVENT
DTSTART;TZID=UTC:20230520T100000
DTEND;TZID=UTC:20230521T190000
DTSTAMP:20260424T204526
CREATED:20230414T193923Z
LAST-MODIFIED:20230414T193923Z
UID:5245-1684576800-1684695600@accademiaolisticalberodellavita.it
SUMMARY:NUMEROLOGIA EVOLUTIVA INTEGRATA™ - 2° livello
DESCRIPTION:2IL CORSO SI SVOLGE IN DIRETTA ONLINE SU PIATTAFORMA ZOOM\nContributo richiesto € 165\, comprensivi di dispensa di studio\, registrazione dell’intero corso e attestato di frequenza inviati online \nProgramma del corso teorico-pratico\nCome costruire e interpretare il Quadrato di Nascita\nStudio degli Indicatori del Quadrato di Nascita che indicano predisposizioni\, attitudini\, talenti\nComprendere i cambiamenti che avvengono nella vita durante i Cicli dei 9 Anni\nSuddivisione della vita in 4 fasi evolutive: Anni di Picco e Anni di Sfida\nCenni sul legame fra Astrologia e Numerologia Evolutiva Integrata \ndocente: Maria Cristina Sapori
URL:https://accademiaolisticalberodellavita.it/event/numerologia-evolutiva-integrata-2-livello-2/
END:VEVENT
BEGIN:VEVENT
DTSTART;TZID=UTC:20230527T100000
DTEND;TZID=UTC:20230527T190000
DTSTAMP:20260424T204526
CREATED:20230503T203028Z
LAST-MODIFIED:20230503T203028Z
UID:5944-1685181600-1685214000@accademiaolisticalberodellavita.it
SUMMARY:PERCORSO DI MAESTRATO REIKI - 3° e ultimo incontro
DESCRIPTION:IL CORSO SI SVOLGE IN PRESENZA IN VIA OLMETOLA 42 BOLOGNA \ndocente: Master Reiki Jolanda Murero
URL:https://accademiaolisticalberodellavita.it/event/percorso-di-maestrato-reiki-3-e-ultimo-incontro/
END:VEVENT
END:VCALENDAR